BEGIN:VCALENDAR
VERSION:2.0
PRODID:-//FeRMI - ECPv6.15.20//NONSGML v1.0//EN
CALSCALE:GREGORIAN
METHOD:PUBLISH
X-ORIGINAL-URL:https://fermi.univ-tlse3.fr
X-WR-CALDESC:Évènements pour FeRMI
REFRESH-INTERVAL;VALUE=DURATION:PT1H
X-Robots-Tag:noindex
X-PUBLISHED-TTL:PT1H
BEGIN:VTIMEZONE
TZID:Europe/Paris
BEGIN:DAYLIGHT
TZOFFSETFROM:+0100
TZOFFSETTO:+0200
TZNAME:CEST
DTSTART:20200329T010000
END:DAYLIGHT
BEGIN:STANDARD
TZOFFSETFROM:+0200
TZOFFSETTO:+0100
TZNAME:CET
DTSTART:20201025T010000
END:STANDARD
BEGIN:DAYLIGHT
TZOFFSETFROM:+0100
TZOFFSETTO:+0200
TZNAME:CEST
DTSTART:20210328T010000
END:DAYLIGHT
BEGIN:STANDARD
TZOFFSETFROM:+0200
TZOFFSETTO:+0100
TZNAME:CET
DTSTART:20211031T010000
END:STANDARD
BEGIN:DAYLIGHT
TZOFFSETFROM:+0100
TZOFFSETTO:+0200
TZNAME:CEST
DTSTART:20220327T010000
END:DAYLIGHT
BEGIN:STANDARD
TZOFFSETFROM:+0200
TZOFFSETTO:+0100
TZNAME:CET
DTSTART:20221030T010000
END:STANDARD
END:VTIMEZONE
BEGIN:VEVENT
DTSTART;TZID=Europe/Paris:20211124T140000
DTEND;TZID=Europe/Paris:20211124T170000
DTSTAMP:20260425T153214
CREATED:20211101T073252Z
LAST-MODIFIED:20211129T080831Z
UID:7563-1637762400-1637773200@fermi.univ-tlse3.fr
SUMMARY:Theoretical modeling of paramagnetic chemical shifts in actinide complexes (Ashraful Islam / LCPQ / Thesis). - 24/11\, 14H.
DESCRIPTION:Ashraful Islam\, LCPQ\, seminary room\, 3rd floor -3r1B4\n \nAbstract: \nParamagnetic NMR(pNMR) shifts are the extra induced chemical shifts in a paramagnetic complex compared to its diamagnetic counterpart. pNMR shift of a nucleus can be divided into two terms: the pseudocontact shift which is a « through-space » magnetic dipole-dipole interaction and the contact shift arises from the presence of spin density at the nuclear position. The information obtained from the study of the pNMR shifts lies in the separation of the two terms.\nFirst-principles computation of the pNMR shifts are at present a challenge for quantum chemists because the pseudocontact shifts originate from the magnetic anisotropy of the paramagnetic center\, and hence demand the multireference ab initio methods to properly address the electronic structure of an open shell system. But the multireference methods at present suffer from a poor description of spin polarization which results in large contact contribution to the actinide induced shifts. On other hand\, single determinant unrestricted DFT-based approaches are reasonably good in addressing the metal-ligand spin polarization and delocalization but fail to properly describe the multiconfiguration nature of the paramagnetic center. To make progress\, in my thesis\, I chose to follow a hybrid approach to interpret both the contributions in the actinide-induced chemical shifts.\nAnd ironically also\, the ab initio calculations of electronic structures and magnetic properties are not straightforward as the strong interweaving of many-electron effects\, spin-orbit coupling\, J − J coupling\, intricate bonding interactions with the ligands need to be properly addressed. SO-CAS (Spin-orbit-CAS) based methods give a balanced description of all the underlying physics. I will present the actinide-induced shifts measured by our experimental colleagues in different actinide complexes and theoretical interpretation of the two contributions from combined SO-CAS and unrestricted DFT-based methods. \n 
URL:https://fermi.univ-tlse3.fr/event/theoretical-modeling-of-paramagnetic-chemical-shifts-in-actinide-complexes-ashraful-islam-lcpq-thesis-24-11-14h/
LOCATION:salle de séminaire 3ème étage\, Bâtiment 3r1 Université Toulouse III\, Toulouse\, 31400\, France
CATEGORIES:Events,HDR / Thesis,LCPQ
END:VEVENT
END:VCALENDAR