BEGIN:VCALENDAR
VERSION:2.0
PRODID:-//FeRMI - ECPv6.15.20//NONSGML v1.0//EN
CALSCALE:GREGORIAN
METHOD:PUBLISH
X-WR-CALNAME:FeRMI
X-ORIGINAL-URL:https://fermi.univ-tlse3.fr
X-WR-CALDESC:Évènements pour FeRMI
REFRESH-INTERVAL;VALUE=DURATION:PT1H
X-Robots-Tag:noindex
X-PUBLISHED-TTL:PT1H
BEGIN:VTIMEZONE
TZID:Europe/Paris
BEGIN:DAYLIGHT
TZOFFSETFROM:+0100
TZOFFSETTO:+0200
TZNAME:CEST
DTSTART:20210328T010000
END:DAYLIGHT
BEGIN:STANDARD
TZOFFSETFROM:+0200
TZOFFSETTO:+0100
TZNAME:CET
DTSTART:20211031T010000
END:STANDARD
BEGIN:DAYLIGHT
TZOFFSETFROM:+0100
TZOFFSETTO:+0200
TZNAME:CEST
DTSTART:20220327T010000
END:DAYLIGHT
BEGIN:STANDARD
TZOFFSETFROM:+0200
TZOFFSETTO:+0100
TZNAME:CET
DTSTART:20221030T010000
END:STANDARD
BEGIN:DAYLIGHT
TZOFFSETFROM:+0100
TZOFFSETTO:+0200
TZNAME:CEST
DTSTART:20230326T010000
END:DAYLIGHT
BEGIN:STANDARD
TZOFFSETFROM:+0200
TZOFFSETTO:+0100
TZNAME:CET
DTSTART:20231029T010000
END:STANDARD
END:VTIMEZONE
BEGIN:VEVENT
DTSTART;TZID=Europe/Paris:20221027T090000
DTEND;TZID=Europe/Paris:20221027T120000
DTSTAMP:20260423T174848
CREATED:20221017T030002Z
LAST-MODIFIED:20221017T062920Z
UID:8520-1666861200-1666872000@fermi.univ-tlse3.fr
SUMMARY:Etude computationelle de système photochimique innovants  (Elise Lognon/ LCPQ / Thèses) – 27/10/2022\, 9H
DESCRIPTION:Elise Lognon\, LCPQ\, seminary room\, 3rd floor -3r1B4 \nAbstract: \nOne of the most exciting challenges in photochemistry is the development of smart multifunctional materials that can perform multiple functions under controlled conditions using light pulses. Photochromic molecules are increasingly used in the development of such innovative materials with applications in nanoscience\, biology and as photonic devices. Among these systems\, dimethyldihydropyrene (DHP) derivatives and ruthenium complexes with nitrosyl ligands (Ru-NO) have remarkable photochemical properties. Both systems can undergo photoisomerisation to their metacyclanediene (CPD) and isonitrosyl (Ru-ON) isomers\, respectively. But they can also release biologically active molecules\, singlet oxygen (1O2) for the DHP derivatives and nitrogen oxide (NO.) for the Ru-NO complexes. In order to study and rationalise these properties\, advanced computational methodologies have been used to study the photoreactivity of these systems in their environment using static approaches. Among these methods\, the application of spin-flip TD-DFT (SF-DFT) to the study of the photoisomerisation mechanism from DHP to CPD has been particularly relevant.  The validation of the SF-DFT method by high-performance benchmark calculations allowed the application of this method to substituted systems\, thus allowing the rationalisation of the variation of the photoisomerisation yield. Concerning the metal complex molecules\, the study of the absorption spectra of Ru-NO according to the nature of the counterion present in the system allowed to highlight the influence of the environment on the absorption properties but also to rationalise the variations of the photoisomerisation quantum yield of this system according to the counterion associated with the complex.
URL:https://fermi.univ-tlse3.fr/event/etude-computationelle-de-systeme-photochimique-innovants-elise-lognon-lcpq-theses-27-10-2022-9h/
LOCATION:salle de séminaire 3ème étage\, Bâtiment 3r1 Université Toulouse III\, Toulouse\, 31400\, France
CATEGORIES:Events,HDR / Thesis,LCPQ
END:VEVENT
END:VCALENDAR