BEGIN:VCALENDAR
VERSION:2.0
PRODID:-//FeRMI - ECPv6.15.20//NONSGML v1.0//EN
CALSCALE:GREGORIAN
METHOD:PUBLISH
X-ORIGINAL-URL:https://fermi.univ-tlse3.fr
X-WR-CALDESC:Évènements pour FeRMI
REFRESH-INTERVAL;VALUE=DURATION:PT1H
X-Robots-Tag:noindex
X-PUBLISHED-TTL:PT1H
BEGIN:VTIMEZONE
TZID:Europe/Paris
BEGIN:DAYLIGHT
TZOFFSETFROM:+0100
TZOFFSETTO:+0200
TZNAME:CEST
DTSTART:20210328T010000
END:DAYLIGHT
BEGIN:STANDARD
TZOFFSETFROM:+0200
TZOFFSETTO:+0100
TZNAME:CET
DTSTART:20211031T010000
END:STANDARD
BEGIN:DAYLIGHT
TZOFFSETFROM:+0100
TZOFFSETTO:+0200
TZNAME:CEST
DTSTART:20220327T010000
END:DAYLIGHT
BEGIN:STANDARD
TZOFFSETFROM:+0200
TZOFFSETTO:+0100
TZNAME:CET
DTSTART:20221030T010000
END:STANDARD
BEGIN:DAYLIGHT
TZOFFSETFROM:+0100
TZOFFSETTO:+0200
TZNAME:CEST
DTSTART:20230326T010000
END:DAYLIGHT
BEGIN:STANDARD
TZOFFSETFROM:+0200
TZOFFSETTO:+0100
TZNAME:CET
DTSTART:20231029T010000
END:STANDARD
END:VTIMEZONE
BEGIN:VEVENT
DTSTART;TZID=Europe/Paris:20220128T090000
DTEND;TZID=Europe/Paris:20220128T110000
DTSTAMP:20260425T154113
CREATED:20220119T084743Z
LAST-MODIFIED:20220511T092736Z
UID:7873-1643360400-1643367600@fermi.univ-tlse3.fr
SUMMARY:Mécanismes de déformation plastique aux joints de grains sur des polycristaux : le cas du couplage cisaillement/migration (Romain Gautier/ CEMES / These). - 28/01/2022\, 9H.
DESCRIPTION:Romain Gautier\, CEMES\, salle de conférence \nLe jury pour cette soutenance sera composé de : \n\nBrigitte Bacroix (Rapporteure) – Directrice de Recherche – LSPM-CNRS\, Université Paris 13\nEdgar Rauch (Rapporteur) – Directeur de Recherche – SIMAP-CNRS\, Université Grenoble Alpes\nNathalie Bozzolo (Examinatrice) – Professeure – Mines ParisTech\, Sofia Antipolis\nBernard Viguier (Examinateur) – Professeur – INP Toulouse\nChristophe Coupeau (Directeur de thèse) – Professeur – Université de Poitiers\nMarc Legros (Co-Directeur de thèse) – Directeur de Recherche – CEMES-CNRS\, Toulouse\n\nAu vu des restrictions sanitaires\, la salle de conférence est limitée à 41 personnes. Pour être sûr d’avoir une place\, voici le lien doodle pour s’inscrire :\nhttps://doodle.com/poll/byxp5q7d5n7h9eks?utm_source=poll&utm_medium=link \n 
URL:https://fermi.univ-tlse3.fr/event/mecanismes-de-deformation-plastique-aux-joints-de-grains-sur-des-polycristaux-le-cas-du-couplage-cisaillement-migration-romain-gautier-cemes-these-28-01-9h/
LOCATION:salle de conférence du CEMES\, CEMES - 29\, rue Jeanne Marvig BP 94347\, Toulouse\, 31055\, France
CATEGORIES:CEMES,Events,HDR / Thesis
END:VEVENT
BEGIN:VEVENT
DTSTART;TZID=Europe/Paris:20220128T100000
DTEND;TZID=Europe/Paris:20220128T123000
DTSTAMP:20260425T154113
CREATED:20220119T075743Z
LAST-MODIFIED:20220120T121232Z
UID:7871-1643364000-1643373000@fermi.univ-tlse3.fr
SUMMARY:Quantum electrodynamic corrections in quantum chemistry (Maen Salman / LCPQ / Thesis). - 28/01\, 10H.
DESCRIPTION:Maen Salman\, LCPQ\, seminary room\, 3rd floor -3r1B4\n \nAbstract: \n\nThe (relativistic) Dirac equation and its finite basis approximations.\nThe lowest-order Bound State Quantum electrodynamic (BSQED) corrections.\nSome numerical calculations of the vacuum polarization effect.\nInclusions of the QED corrections in the simplest many-body theory: the (4-component) Hartree-Fock.\n\n 
URL:https://fermi.univ-tlse3.fr/event/quantum-electrodynamic-corrections-in-quantum-chemistry-maen-salman-lcpq-thesis-28-01-10h/
LOCATION:salle de séminaire 3ème étage\, Bâtiment 3r1 Université Toulouse III\, Toulouse\, 31400\, France
CATEGORIES:Events,HDR / Thesis,LCPQ
END:VEVENT
BEGIN:VEVENT
DTSTART;TZID=Europe/Paris:20220128T140000
DTEND;TZID=Europe/Paris:20220128T163000
DTSTAMP:20260425T154113
CREATED:20220119T051316Z
LAST-MODIFIED:20220511T092756Z
UID:7877-1643378400-1643387400@fermi.univ-tlse3.fr
SUMMARY:Nanoparticules inorganiques luminescentes dopées aux lanthanides : synthèses\, caractérisations et applications(Gilin Zou/ CEMES / These). - 28/01/2022\, 14H.
DESCRIPTION:Gilin Zou\, CEMES\, salle de conférence \nLe jury pour cette soutenance sera composé de : \n\nMme Sophie CARENCO\, Chargée de recherche\, Sorbonne Université\, Paris (Rapporteur)\nMme Véronique JUBERA\, Professeure\, Université de Bordeaux ICMCB-CNRS\, Bordeaux (Rapporteur)\nMme Montserrat GOMEZ\, Professeure\, Université Toulouse III – Paul Sabatier\, Toulouse (Examinatrice)\nMr. Fabien DELPECH\, Professeur\, Laboratoire de Physique et Chimie des Nano-objets-INSA\, Toulouse (Examinateur)\nMme Ute RESCH-GENGER\, Directrice de recherche\, Bundesanstalt für Materialforschung und –prüfung (BAM)\, Berlin (Examinatrice)\nMr. Pierre FAU\, Ingénieur de recherche\, Laboratoire de Chimie de Coordination (LCC)-CNRS\, Toulouse (Invité)\nMr. Robert MAURICOT\, Maître de conférences\, Université Toulouse III – Paul Sabatier-CEMES\, Toulouse (Directeur de thèse)\nMr. Clément ROUX\, Maître de conférences\, Université Toulouse III – Paul Sabatier-IMRCP\, Toulouse (Co-directeur de thèse)\n\n  \n 
URL:https://fermi.univ-tlse3.fr/event/nanoparticules-inorganiques-luminescentes-dopees-aux-lanthanides-syntheses-caracterisations-et-applicationsgilin-zou-cemes-these-28-01-14h/
LOCATION:salle de conférence du CEMES\, CEMES - 29\, rue Jeanne Marvig BP 94347\, Toulouse\, 31055\, France
CATEGORIES:CEMES,Events,HDR / Thesis
END:VEVENT
END:VCALENDAR