BEGIN:VCALENDAR
VERSION:2.0
PRODID:-//FeRMI - ECPv6.15.20//NONSGML v1.0//EN
CALSCALE:GREGORIAN
METHOD:PUBLISH
X-ORIGINAL-URL:https://fermi.univ-tlse3.fr
X-WR-CALDESC:Évènements pour FeRMI
REFRESH-INTERVAL;VALUE=DURATION:PT1H
X-Robots-Tag:noindex
X-PUBLISHED-TTL:PT1H
BEGIN:VTIMEZONE
TZID:Europe/Paris
BEGIN:DAYLIGHT
TZOFFSETFROM:+0100
TZOFFSETTO:+0200
TZNAME:CEST
DTSTART:20210328T010000
END:DAYLIGHT
BEGIN:STANDARD
TZOFFSETFROM:+0200
TZOFFSETTO:+0100
TZNAME:CET
DTSTART:20211031T010000
END:STANDARD
BEGIN:DAYLIGHT
TZOFFSETFROM:+0100
TZOFFSETTO:+0200
TZNAME:CEST
DTSTART:20220327T010000
END:DAYLIGHT
BEGIN:STANDARD
TZOFFSETFROM:+0200
TZOFFSETTO:+0100
TZNAME:CET
DTSTART:20221030T010000
END:STANDARD
BEGIN:DAYLIGHT
TZOFFSETFROM:+0100
TZOFFSETTO:+0200
TZNAME:CEST
DTSTART:20230326T010000
END:DAYLIGHT
BEGIN:STANDARD
TZOFFSETFROM:+0200
TZOFFSETTO:+0100
TZNAME:CET
DTSTART:20231029T010000
END:STANDARD
END:VTIMEZONE
BEGIN:VEVENT
DTSTART;TZID=Europe/Paris:20220331T140000
DTEND;TZID=Europe/Paris:20220331T170000
DTSTAMP:20260424T142324
CREATED:20220328T071202Z
LAST-MODIFIED:20220511T092716Z
UID:8027-1648735200-1648746000@fermi.univ-tlse3.fr
SUMMARY:Conception\, fabrication et étude de métasurfaces optiques (Adelin Patoux / CEMES / These). - 31/03/2022\, 14H.
DESCRIPTION:Adelin Patoux\, CEMES\nLe jury pour cette soutenance sera composé de : \n\nBéatrice Dagens (rapporteure)\, Directrice de recherche au Centre de Nanosciences et de Nanotechnologies – C2N (Palaiseau)\nPatrice Genevet (rapporteur)\, Chargé de recherche au Centre de Recherche sur l’Hétéro-Epitaxie et ses Applications – CRHEA (Valbonne)\nPatrick Ferrand (examinateur)\, Maître de conférences à l’Institut Fresnel (Marseille)\nAdnen Mlayah (examinateur)\, Professeur à l’Université Paul Sabatier – UPS (Toulouse)\nAntoine Monmayrant (examinateur)\, Directeur de recherche au Laboratoire d’Analyse et d’Architecture des Systèmes – LAAS (Toulouse)\nArnaud Arbouet (Directeur de thèse)\nGuilhem Larrieu (invité\, co-encadrant)\, Directeur de recherche au LAAS (Toulouse)\nPaul Jougla (invité\, co-encadrant)\, Ingénieur à Airbus Defence and Space – ADS (Toulouse)\n\n 
URL:https://fermi.univ-tlse3.fr/event/conception-fabrication-et-etude-de-metasurfaces-optiques-adelin-patoux-cemes-these-31-03-14h/
LOCATION:salle de conférence du CEMES\, CEMES - 29\, rue Jeanne Marvig BP 94347\, Toulouse\, 31055\, France
CATEGORIES:CEMES,Events,HDR / Thesis
END:VEVENT
END:VCALENDAR