BEGIN:VCALENDAR
VERSION:2.0
PRODID:-//FeRMI - ECPv6.15.20//NONSGML v1.0//EN
CALSCALE:GREGORIAN
METHOD:PUBLISH
X-ORIGINAL-URL:https://fermi.univ-tlse3.fr
X-WR-CALDESC:Évènements pour FeRMI
REFRESH-INTERVAL;VALUE=DURATION:PT1H
X-Robots-Tag:noindex
X-PUBLISHED-TTL:PT1H
BEGIN:VTIMEZONE
TZID:Europe/Paris
BEGIN:DAYLIGHT
TZOFFSETFROM:+0100
TZOFFSETTO:+0200
TZNAME:CEST
DTSTART:20210328T010000
END:DAYLIGHT
BEGIN:STANDARD
TZOFFSETFROM:+0200
TZOFFSETTO:+0100
TZNAME:CET
DTSTART:20211031T010000
END:STANDARD
BEGIN:DAYLIGHT
TZOFFSETFROM:+0100
TZOFFSETTO:+0200
TZNAME:CEST
DTSTART:20220327T010000
END:DAYLIGHT
BEGIN:STANDARD
TZOFFSETFROM:+0200
TZOFFSETTO:+0100
TZNAME:CET
DTSTART:20221030T010000
END:STANDARD
BEGIN:DAYLIGHT
TZOFFSETFROM:+0100
TZOFFSETTO:+0200
TZNAME:CEST
DTSTART:20230326T010000
END:DAYLIGHT
BEGIN:STANDARD
TZOFFSETFROM:+0200
TZOFFSETTO:+0100
TZNAME:CET
DTSTART:20231029T010000
END:STANDARD
END:VTIMEZONE
BEGIN:VEVENT
DTSTART;TZID=Europe/Paris:20221116T100000
DTEND;TZID=Europe/Paris:20221116T130000
DTSTAMP:20260423T175528
CREATED:20221114T092431Z
LAST-MODIFIED:20221114T092510Z
UID:8647-1668592800-1668603600@fermi.univ-tlse3.fr
SUMMARY:Modifications des propriétés structurales et chimiques du Tantalate de Lithium lors de l’implantation d’hydrogène et leur influence sur le procédé Smart Cut (Antonin Louiset / Cemes / Theses). - 16/11/2022\, 10H
DESCRIPTION:Antonin Louiset (CEMES)\n\n\n\n\nCe projet faisant partie d’une collaboration industrielle avec l’entreprise Soitec\, il est confidentiel et la soutenance n’est malheureusement pas ouverte à tous. Si toutefois vous êtes intéressés\, vous pourrez signer au préalable un accord de confidentialité pour pouvoir assister à la soutenance : écrire à antonin.louiset[chez]gmail.com \nLe jury sera composé de : \n\nNikolay Cherkashin\, directeur de thèse (CEMES)\nSylvie Schamm-Chardon\, co-directrice de thèse (CEMES)\nAusrine Bartasyte\, rapporteure (Institut Femto-ST)\nAlexandre Boulle\, rapporteur (Centre Européen de la Céramique)\nJérémie Grisolia\, examinateur (INSA Toulouse)\nShay Reboh\, examinateur (CEA-LETI\nOleg Kononchuk\, co-encadrant (invité) (Soitec)\n\n\n 
URL:https://fermi.univ-tlse3.fr/event/modifications-des-proprietes-structurales-et-chimiques-du-tantalate-de-lithium-lors-de-limplantation-dhydrogene-et-leur-influence-sur-le-procede-smart-cut-antonin-louiset-cemes/
LOCATION:salle de conférence du CEMES\, CEMES - 29\, rue Jeanne Marvig BP 94347\, Toulouse\, 31055\, France
CATEGORIES:CEMES,Events,HDR / Thesis
END:VEVENT
END:VCALENDAR