BEGIN:VCALENDAR
VERSION:2.0
PRODID:-//FeRMI - ECPv6.15.20//NONSGML v1.0//EN
CALSCALE:GREGORIAN
METHOD:PUBLISH
X-WR-CALNAME:FeRMI
X-ORIGINAL-URL:https://fermi.univ-tlse3.fr
X-WR-CALDESC:Évènements pour FeRMI
REFRESH-INTERVAL;VALUE=DURATION:PT1H
X-Robots-Tag:noindex
X-PUBLISHED-TTL:PT1H
BEGIN:VTIMEZONE
TZID:Europe/Paris
BEGIN:DAYLIGHT
TZOFFSETFROM:+0100
TZOFFSETTO:+0200
TZNAME:CEST
DTSTART:20210328T010000
END:DAYLIGHT
BEGIN:STANDARD
TZOFFSETFROM:+0200
TZOFFSETTO:+0100
TZNAME:CET
DTSTART:20211031T010000
END:STANDARD
BEGIN:DAYLIGHT
TZOFFSETFROM:+0100
TZOFFSETTO:+0200
TZNAME:CEST
DTSTART:20220327T010000
END:DAYLIGHT
BEGIN:STANDARD
TZOFFSETFROM:+0200
TZOFFSETTO:+0100
TZNAME:CET
DTSTART:20221030T010000
END:STANDARD
BEGIN:DAYLIGHT
TZOFFSETFROM:+0100
TZOFFSETTO:+0200
TZNAME:CEST
DTSTART:20230326T010000
END:DAYLIGHT
BEGIN:STANDARD
TZOFFSETFROM:+0200
TZOFFSETTO:+0100
TZNAME:CET
DTSTART:20231029T010000
END:STANDARD
END:VTIMEZONE
BEGIN:VEVENT
DTSTART;TZID=Europe/Paris:20221124T140000
DTEND;TZID=Europe/Paris:20221124T170000
DTSTAMP:20260423T175344
CREATED:20221120T075303Z
LAST-MODIFIED:20221122T075325Z
UID:8683-1669298400-1669309200@fermi.univ-tlse3.fr
SUMMARY:Polymères cristaux liquides biomimétiques reproduisant la carapace de scarabées du genre Chrysina : élaboration\, structure et propriétés optiques (Cécilia Boyon / Cemes / Theses). - 24/11/2022
DESCRIPTION:Thèse de Cécilia Boyon (CEMES)\n\n\n\n\n\nJury : \n\nM. Jean-François HENNINOT (Rapporteur)\, Professeur\, UCCS Artois (Lens)\nM. Emmanuel BELAMIE (Rapporteur)\, Directeur d’études\, École Pratique des Hautes Études (Montpellier)\nM. Eric BENOIST (Examinateur)\, Professeur\, SPCMIB (Toulouse)\nMme Emmanuelle LACAZE (Examinatrice)\, Directrice de recherche\, INSP (Paris)\nM. Michel MITOV (Directeur de thèse)\, Directeur de recherche\, CEMES (Toulouse)\n\n\n\n\n\n\n\n  \n\n \n 
URL:https://fermi.univ-tlse3.fr/event/polymeres-cristaux-liquides-biomimetiques-reproduisant-la-carapace-de-scarabees-du-genre-chrysina-elaboration-structure-et-proprietes-optiques-cecilia-boyon-cemes-theses-24-11-2022/
LOCATION:salle de conférence du CEMES\, CEMES - 29\, rue Jeanne Marvig BP 94347\, Toulouse\, 31055\, France
CATEGORIES:CEMES,Events,HDR / Thesis
END:VEVENT
END:VCALENDAR