BEGIN:VCALENDAR
VERSION:2.0
PRODID:-//FeRMI - ECPv6.15.20//NONSGML v1.0//EN
CALSCALE:GREGORIAN
METHOD:PUBLISH
X-ORIGINAL-URL:https://fermi.univ-tlse3.fr
X-WR-CALDESC:Évènements pour FeRMI
REFRESH-INTERVAL;VALUE=DURATION:PT1H
X-Robots-Tag:noindex
X-PUBLISHED-TTL:PT1H
BEGIN:VTIMEZONE
TZID:Europe/Paris
BEGIN:DAYLIGHT
TZOFFSETFROM:+0100
TZOFFSETTO:+0200
TZNAME:CEST
DTSTART:20210328T010000
END:DAYLIGHT
BEGIN:STANDARD
TZOFFSETFROM:+0200
TZOFFSETTO:+0100
TZNAME:CET
DTSTART:20211031T010000
END:STANDARD
BEGIN:DAYLIGHT
TZOFFSETFROM:+0100
TZOFFSETTO:+0200
TZNAME:CEST
DTSTART:20220327T010000
END:DAYLIGHT
BEGIN:STANDARD
TZOFFSETFROM:+0200
TZOFFSETTO:+0100
TZNAME:CET
DTSTART:20221030T010000
END:STANDARD
BEGIN:DAYLIGHT
TZOFFSETFROM:+0100
TZOFFSETTO:+0200
TZNAME:CEST
DTSTART:20230326T010000
END:DAYLIGHT
BEGIN:STANDARD
TZOFFSETFROM:+0200
TZOFFSETTO:+0100
TZNAME:CET
DTSTART:20231029T010000
END:STANDARD
END:VTIMEZONE
BEGIN:VEVENT
DTSTART;TZID=Europe/Paris:20221215T140000
DTEND;TZID=Europe/Paris:20221215T170000
DTSTAMP:20260423T162829
CREATED:20221209T060056Z
LAST-MODIFIED:20221209T071822Z
UID:8720-1671112800-1671123600@fermi.univ-tlse3.fr
SUMMARY:Contrôle optimal de condensats de Bose-Einstein dans un réseau optique (Nathan Dupont / LCAR / These). - 15/12/2022\, 14H
DESCRIPTION:Nathan Dupont\, LCAR\, Amphi Daurat (Bâtiment U3) \nDirecteur de thèse : David Guéry-Odelin. \nRésumé : Le domaine de la simulation quantique vise à émuler des systèmes quantiques complexes sur des systèmes plus simples à observer et à contrôler. Ces vingt dernières années\, les gaz d’atomes ultrafroids sur réseau optique se sont démarqués comme une plateforme versatile et hautement contrôlable pour la simulation quantique. Les travaux expérimentaux effectués durant ma thèse s’inscrivent dans le développement de ce domaine. Ces expériences ont été réalisées avec des condensats de Bose-Einstein (CBE ; des ondes de matière macroscopiques) placés dans un réseau optique unidimensionnel finement contrôlable en phase et en amplitude. Nous nous sommes intéressés à des effets liés à la dynamique de ces ondes de matière dans ce potentiel périodique\, et à la manière dont on peut se servir de cette dynamique pour contrôler l’état quantique des CBE dans le réseau optique. Ma soutenance de thèse portera plus précisément sur nos récents travaux (https://arxiv.org/abs/2105.05667 et https://arxiv.org/abs/2210.11112) traitant de la mise en place d’un protocole de contrôle optimal quantique afin de contrôler l’état externe des CBE dans le réseau\, ainsi que sur les problématiques liées à la mesure de ces états.
URL:https://fermi.univ-tlse3.fr/event/controle-optimal-de-condensats-de-bose-einstein-dans-un-reseau-optique-nathan-dupont-lcar-these-15-12-2023-14h/
CATEGORIES:Events,HDR / Thesis,LCAR
END:VEVENT
END:VCALENDAR