BEGIN:VCALENDAR
VERSION:2.0
PRODID:-//FeRMI - ECPv6.15.20//NONSGML v1.0//EN
CALSCALE:GREGORIAN
METHOD:PUBLISH
X-WR-CALNAME:FeRMI
X-ORIGINAL-URL:https://fermi.univ-tlse3.fr
X-WR-CALDESC:Évènements pour FeRMI
REFRESH-INTERVAL;VALUE=DURATION:PT1H
X-Robots-Tag:noindex
X-PUBLISHED-TTL:PT1H
BEGIN:VTIMEZONE
TZID:Europe/Paris
BEGIN:DAYLIGHT
TZOFFSETFROM:+0100
TZOFFSETTO:+0200
TZNAME:CEST
DTSTART:20220327T010000
END:DAYLIGHT
BEGIN:STANDARD
TZOFFSETFROM:+0200
TZOFFSETTO:+0100
TZNAME:CET
DTSTART:20221030T010000
END:STANDARD
BEGIN:DAYLIGHT
TZOFFSETFROM:+0100
TZOFFSETTO:+0200
TZNAME:CEST
DTSTART:20230326T010000
END:DAYLIGHT
BEGIN:STANDARD
TZOFFSETFROM:+0200
TZOFFSETTO:+0100
TZNAME:CET
DTSTART:20231029T010000
END:STANDARD
BEGIN:DAYLIGHT
TZOFFSETFROM:+0100
TZOFFSETTO:+0200
TZNAME:CEST
DTSTART:20240331T010000
END:DAYLIGHT
BEGIN:STANDARD
TZOFFSETFROM:+0200
TZOFFSETTO:+0100
TZNAME:CET
DTSTART:20241027T010000
END:STANDARD
END:VTIMEZONE
BEGIN:VEVENT
DTSTART;TZID=Europe/Paris:20230106T100000
DTEND;TZID=Europe/Paris:20230106T123000
DTSTAMP:20260423T151858
CREATED:20230105T051856Z
LAST-MODIFIED:20230105T073012Z
UID:8738-1672999200-1673008200@fermi.univ-tlse3.fr
SUMMARY:Propriétés spectrales des canaux quantiques aléatoires (Ion Nechita / HDR / LPT). - 6/01/2023\, 10H
DESCRIPTION:Soutenance de HDR \nIion Nechita \nLieu : Amphithéâtre Schwartz de l’IMT\, Bat. 1R3
URL:https://fermi.univ-tlse3.fr/event/proprietes-spectrales-des-canaux-quantiques-aleatoires-ion-nechita-hdr-lpt-6-01-2023/
LOCATION:Amphithéâtre Schwartz de l’IMT\, Bat. 1R3
CATEGORIES:Events,HDR / Thesis,LPT
END:VEVENT
END:VCALENDAR