BEGIN:VCALENDAR
VERSION:2.0
PRODID:-//FeRMI - ECPv6.15.20//NONSGML v1.0//EN
CALSCALE:GREGORIAN
METHOD:PUBLISH
X-WR-CALNAME:FeRMI
X-ORIGINAL-URL:https://fermi.univ-tlse3.fr
X-WR-CALDESC:Évènements pour FeRMI
REFRESH-INTERVAL;VALUE=DURATION:PT1H
X-Robots-Tag:noindex
X-PUBLISHED-TTL:PT1H
BEGIN:VTIMEZONE
TZID:Europe/Paris
BEGIN:DAYLIGHT
TZOFFSETFROM:+0100
TZOFFSETTO:+0200
TZNAME:CEST
DTSTART:20220327T010000
END:DAYLIGHT
BEGIN:STANDARD
TZOFFSETFROM:+0200
TZOFFSETTO:+0100
TZNAME:CET
DTSTART:20221030T010000
END:STANDARD
BEGIN:DAYLIGHT
TZOFFSETFROM:+0100
TZOFFSETTO:+0200
TZNAME:CEST
DTSTART:20230326T010000
END:DAYLIGHT
BEGIN:STANDARD
TZOFFSETFROM:+0200
TZOFFSETTO:+0100
TZNAME:CET
DTSTART:20231029T010000
END:STANDARD
BEGIN:DAYLIGHT
TZOFFSETFROM:+0100
TZOFFSETTO:+0200
TZNAME:CEST
DTSTART:20240331T010000
END:DAYLIGHT
BEGIN:STANDARD
TZOFFSETFROM:+0200
TZOFFSETTO:+0100
TZNAME:CET
DTSTART:20241027T010000
END:STANDARD
END:VTIMEZONE
BEGIN:VEVENT
DTSTART;TZID=Europe/Paris:20230111T100000
DTEND;TZID=Europe/Paris:20230111T130000
DTSTAMP:20260423T151420
CREATED:20230116T081810Z
LAST-MODIFIED:20230116T081810Z
UID:8768-1673431200-1673442000@fermi.univ-tlse3.fr
SUMMARY:Effet d’éléments d’alliage en substitution et en insertion sur les mécanismes de déformation et sur la tenue mécanique d’intermétalliques TiAl à haute température (Benjamin Galy / Cemes / Theses). - 11/01/2023
DESCRIPTION:Benjamin Galy (CEMES)\n\n\n\n\nLe jury sera composé de : \n\n\n\nJosé Maria SAN JUAN – Université du Pays Basque\, Espagne (Rapporteur)\nJean-Philippe COUZINIE – ICMPE Thiais (Rapporteur)\nBernard VIGUIER – CIRIMAT Toulouse (Examinateur)\nEmmanuel BOUZY – LEM3 Metz (Examinateur)\nFlorence PETTINARI-STURMEL – Université Paul Sabatier Toulouse (Examinatrice)\nJean Philippe MONCHOUX – CEMES Toulouse (Directeur de thèse)\nMuriel HANTCHERLI – INSA Toulouse (Co-Directrice de thèse)\nAlain COURET – CEMES Toulouse(Invité)\n\n\n\n\n 
URL:https://fermi.univ-tlse3.fr/event/effet-delements-dalliage-en-substitution-et-en-insertion-sur-les-mecanismes-de-deformation-et-sur-la-tenue-mecanique-dintermetalliques-tial-a-haute-temperature-benjamin-gal/
LOCATION:salle de conférence du CEMES\, CEMES - 29\, rue Jeanne Marvig BP 94347\, Toulouse\, 31055\, France
CATEGORIES:CEMES,Events,HDR / Thesis
END:VEVENT
END:VCALENDAR