BEGIN:VCALENDAR
VERSION:2.0
PRODID:-//FeRMI - ECPv6.15.20//NONSGML v1.0//EN
CALSCALE:GREGORIAN
METHOD:PUBLISH
X-ORIGINAL-URL:https://fermi.univ-tlse3.fr
X-WR-CALDESC:Évènements pour FeRMI
REFRESH-INTERVAL;VALUE=DURATION:PT1H
X-Robots-Tag:noindex
X-PUBLISHED-TTL:PT1H
BEGIN:VTIMEZONE
TZID:Europe/Paris
BEGIN:DAYLIGHT
TZOFFSETFROM:+0100
TZOFFSETTO:+0200
TZNAME:CEST
DTSTART:20220327T010000
END:DAYLIGHT
BEGIN:STANDARD
TZOFFSETFROM:+0200
TZOFFSETTO:+0100
TZNAME:CET
DTSTART:20221030T010000
END:STANDARD
BEGIN:DAYLIGHT
TZOFFSETFROM:+0100
TZOFFSETTO:+0200
TZNAME:CEST
DTSTART:20230326T010000
END:DAYLIGHT
BEGIN:STANDARD
TZOFFSETFROM:+0200
TZOFFSETTO:+0100
TZNAME:CET
DTSTART:20231029T010000
END:STANDARD
BEGIN:DAYLIGHT
TZOFFSETFROM:+0100
TZOFFSETTO:+0200
TZNAME:CEST
DTSTART:20240331T010000
END:DAYLIGHT
BEGIN:STANDARD
TZOFFSETFROM:+0200
TZOFFSETTO:+0100
TZNAME:CET
DTSTART:20241027T010000
END:STANDARD
END:VTIMEZONE
BEGIN:VEVENT
DTSTART;TZID=Europe/Paris:20230414T100000
DTEND;TZID=Europe/Paris:20230414T123000
DTSTAMP:20260423T072412
CREATED:20230410T082635Z
LAST-MODIFIED:20230411T130740Z
UID:8945-1681466400-1681475400@fermi.univ-tlse3.fr
SUMMARY:Modélisation des phénomènes physiques à l’échelle nanométrique dans les composants de la microélectronique étudiés par holographie électronique operando. - (Gruel Kilian / CEMES / These). - 14/04/2023\, 10 H
DESCRIPTION:Gruel Kilian\, CEMES\, salle de conférence du CEMES. \nSous la direction de Martin Hÿtch et Christophe Gatel
URL:https://fermi.univ-tlse3.fr/event/modelisation-des-phenomenes-physiques-a-lechelle-nanometrique-dans-les-composants-de-la-microelectronique-etudies-par-holographie-electronique-operando-gruel-kilian-cemes-these-14/
LOCATION:salle de conférence du CEMES\, CEMES - 29\, rue Jeanne Marvig BP 94347\, Toulouse\, 31055\, France
CATEGORIES:CEMES,Events,HDR / Thesis
END:VEVENT
END:VCALENDAR