BEGIN:VCALENDAR
VERSION:2.0
PRODID:-//FeRMI - ECPv6.15.20//NONSGML v1.0//EN
CALSCALE:GREGORIAN
METHOD:PUBLISH
X-WR-CALNAME:FeRMI
X-ORIGINAL-URL:https://fermi.univ-tlse3.fr
X-WR-CALDESC:Évènements pour FeRMI
REFRESH-INTERVAL;VALUE=DURATION:PT1H
X-Robots-Tag:noindex
X-PUBLISHED-TTL:PT1H
BEGIN:VTIMEZONE
TZID:Europe/Paris
BEGIN:DAYLIGHT
TZOFFSETFROM:+0100
TZOFFSETTO:+0200
TZNAME:CEST
DTSTART:20220327T010000
END:DAYLIGHT
BEGIN:STANDARD
TZOFFSETFROM:+0200
TZOFFSETTO:+0100
TZNAME:CET
DTSTART:20221030T010000
END:STANDARD
BEGIN:DAYLIGHT
TZOFFSETFROM:+0100
TZOFFSETTO:+0200
TZNAME:CEST
DTSTART:20230326T010000
END:DAYLIGHT
BEGIN:STANDARD
TZOFFSETFROM:+0200
TZOFFSETTO:+0100
TZNAME:CET
DTSTART:20231029T010000
END:STANDARD
BEGIN:DAYLIGHT
TZOFFSETFROM:+0100
TZOFFSETTO:+0200
TZNAME:CEST
DTSTART:20240331T010000
END:DAYLIGHT
BEGIN:STANDARD
TZOFFSETFROM:+0200
TZOFFSETTO:+0100
TZNAME:CET
DTSTART:20241027T010000
END:STANDARD
END:VTIMEZONE
BEGIN:VEVENT
DTSTART;TZID=Europe/Paris:20230831T140000
DTEND;TZID=Europe/Paris:20230831T170000
DTSTAMP:20260422T184751
CREATED:20230828T123421Z
LAST-MODIFIED:20230828T123421Z
UID:9184-1693490400-1693501200@fermi.univ-tlse3.fr
SUMMARY:Biréfringence Magnétique du Vide : un test optique de l'électrodynamique quantique. - (  Jonathan Agil / LNCMI / Thèses). - 31/08/23\, 14H
DESCRIPTION:Soutenance de thèse \nJonathan Agil\, Salle de séminaire du LNCMI de Toulouse \nLa soutenance s’effectuera en français et le jury sera composé de :  \n\nMathilde Hugbart (Institut de Physique de Nice)\nPierre-François Cohadon (Laboratoire Kastler Brossel\, Paris)\nDavid Guéry-Odelin (LCAR\, Toulouse)\nMartina Knoop (Physique des Interactions Ioniques et Moléculaires\, Marseille)\nDmitry Budker (Helmholtz Institute\, Mayence\, Allemagne)\nRémy Battesti  (LNCMI\, Toulouse)  mon directeur de thèse.
URL:https://fermi.univ-tlse3.fr/event/birefringence-magnetique-du-vide-un-test-optique-de-lelectrodynamique-quantique-jonathan-agil-lncmi-theses-31-08-23-14h/
LOCATION:Salle de seminaire du LNCMI\, Champs Magnétiques Pulsés\, 143 avenue de Rangueil\, Toulouse\, France
CATEGORIES:Events,HDR / Thesis,LNCMI
END:VEVENT
END:VCALENDAR