BEGIN:VCALENDAR
VERSION:2.0
PRODID:-//FeRMI - ECPv6.15.20//NONSGML v1.0//EN
CALSCALE:GREGORIAN
METHOD:PUBLISH
X-WR-CALNAME:FeRMI
X-ORIGINAL-URL:https://fermi.univ-tlse3.fr
X-WR-CALDESC:Évènements pour FeRMI
REFRESH-INTERVAL;VALUE=DURATION:PT1H
X-Robots-Tag:noindex
X-PUBLISHED-TTL:PT1H
BEGIN:VTIMEZONE
TZID:Europe/Paris
BEGIN:DAYLIGHT
TZOFFSETFROM:+0100
TZOFFSETTO:+0200
TZNAME:CEST
DTSTART:20220327T010000
END:DAYLIGHT
BEGIN:STANDARD
TZOFFSETFROM:+0200
TZOFFSETTO:+0100
TZNAME:CET
DTSTART:20221030T010000
END:STANDARD
BEGIN:DAYLIGHT
TZOFFSETFROM:+0100
TZOFFSETTO:+0200
TZNAME:CEST
DTSTART:20230326T010000
END:DAYLIGHT
BEGIN:STANDARD
TZOFFSETFROM:+0200
TZOFFSETTO:+0100
TZNAME:CET
DTSTART:20231029T010000
END:STANDARD
BEGIN:DAYLIGHT
TZOFFSETFROM:+0100
TZOFFSETTO:+0200
TZNAME:CEST
DTSTART:20240331T010000
END:DAYLIGHT
BEGIN:STANDARD
TZOFFSETFROM:+0200
TZOFFSETTO:+0100
TZNAME:CET
DTSTART:20241027T010000
END:STANDARD
END:VTIMEZONE
BEGIN:VEVENT
DTSTART;TZID=Europe/Paris:20231109T100000
DTEND;TZID=Europe/Paris:20231109T130000
DTSTAMP:20260422T060031
CREATED:20231101T094128Z
LAST-MODIFIED:20231102T094220Z
UID:9347-1699524000-1699534800@fermi.univ-tlse3.fr
SUMMARY:Transition de phase des alliages GeSbTe : étude par microscopie électronique à transmission (in situ et ex situ) et DRX synchrotron. - (Eloïse Rahier / CEMES / These). - 9/11/2023\, 10H
DESCRIPTION:Soutenance de thèse \nEloïse Rahier\, CEMES\, salle de conférence du CEMES. \nNote : \nCe projet est en collaboration avec STMicroelectronics. La soutenance reste publique mais il est toutefois nécessaire d’avoir signer au préalable un accord de confidentialité. Si vous souhaitez assister à la soutenance\, merci de me contacter par mail à l’adresse : eloise.rahier[chez]gmail.com\, je vous transfèrerai le document qu’il faudra me rendre au plus vite. Merci de votre compréhension.
URL:https://fermi.univ-tlse3.fr/event/transition-de-phase-des-alliages-gesbte-etude-par-microscopie-electronique-a-transmission-in-situ-et-ex-situ-et-drx-synchrotron-eloise-rahier-cemes-these-9-11-2023-10h/
LOCATION:salle de conférence du CEMES\, CEMES - 29\, rue Jeanne Marvig BP 94347\, Toulouse\, 31055\, France
CATEGORIES:CEMES,Events,HDR / Thesis
END:VEVENT
END:VCALENDAR