BEGIN:VCALENDAR
VERSION:2.0
PRODID:-//FeRMI - ECPv6.15.20//NONSGML v1.0//EN
CALSCALE:GREGORIAN
METHOD:PUBLISH
X-ORIGINAL-URL:https://fermi.univ-tlse3.fr
X-WR-CALDESC:Évènements pour FeRMI
REFRESH-INTERVAL;VALUE=DURATION:PT1H
X-Robots-Tag:noindex
X-PUBLISHED-TTL:PT1H
BEGIN:VTIMEZONE
TZID:Europe/Paris
BEGIN:DAYLIGHT
TZOFFSETFROM:+0100
TZOFFSETTO:+0200
TZNAME:CEST
DTSTART:20220327T010000
END:DAYLIGHT
BEGIN:STANDARD
TZOFFSETFROM:+0200
TZOFFSETTO:+0100
TZNAME:CET
DTSTART:20221030T010000
END:STANDARD
BEGIN:DAYLIGHT
TZOFFSETFROM:+0100
TZOFFSETTO:+0200
TZNAME:CEST
DTSTART:20230326T010000
END:DAYLIGHT
BEGIN:STANDARD
TZOFFSETFROM:+0200
TZOFFSETTO:+0100
TZNAME:CET
DTSTART:20231029T010000
END:STANDARD
BEGIN:DAYLIGHT
TZOFFSETFROM:+0100
TZOFFSETTO:+0200
TZNAME:CEST
DTSTART:20240331T010000
END:DAYLIGHT
BEGIN:STANDARD
TZOFFSETFROM:+0200
TZOFFSETTO:+0100
TZNAME:CET
DTSTART:20241027T010000
END:STANDARD
END:VTIMEZONE
BEGIN:VEVENT
DTSTART;TZID=Europe/Paris:20231130T100000
DTEND;TZID=Europe/Paris:20231130T133000
DTSTAMP:20260421T161125
CREATED:20231129T092507Z
LAST-MODIFIED:20231130T064007Z
UID:9424-1701338400-1701351000@fermi.univ-tlse3.fr
SUMMARY:Calcul ab-initio des propriétés physiques d’hétérostructures associant des matériaux ferromagnétiques à anisotropie magnétique perpendiculaire et des dichalcogénures de métaux de transition. - ( Paul Marcon / CEMES / These). - 30/11/2023\, 10H
DESCRIPTION:Soutenance de thèse \nPaul Marcon\, CEMES\, salle de conférence du CEMES.
URL:https://fermi.univ-tlse3.fr/event/calcul-ab-initio-des-proprietes-physiques-dheterostructures-associant-des-materiaux-ferromagnetiques-a-anisotropie-magnetique-perpendiculaire-et-des-dichalcogenures-de-metaux-de-transition/
LOCATION:salle de conférence du CEMES\, CEMES - 29\, rue Jeanne Marvig BP 94347\, Toulouse\, 31055\, France
CATEGORIES:CEMES,Events,HDR / Thesis
END:VEVENT
END:VCALENDAR