BEGIN:VCALENDAR
VERSION:2.0
PRODID:-//FeRMI - ECPv6.15.20//NONSGML v1.0//EN
CALSCALE:GREGORIAN
METHOD:PUBLISH
X-WR-CALNAME:FeRMI
X-ORIGINAL-URL:https://fermi.univ-tlse3.fr
X-WR-CALDESC:Évènements pour FeRMI
REFRESH-INTERVAL;VALUE=DURATION:PT1H
X-Robots-Tag:noindex
X-PUBLISHED-TTL:PT1H
BEGIN:VTIMEZONE
TZID:Europe/Paris
BEGIN:DAYLIGHT
TZOFFSETFROM:+0100
TZOFFSETTO:+0200
TZNAME:CEST
DTSTART:20210328T010000
END:DAYLIGHT
BEGIN:STANDARD
TZOFFSETFROM:+0200
TZOFFSETTO:+0100
TZNAME:CET
DTSTART:20211031T010000
END:STANDARD
BEGIN:DAYLIGHT
TZOFFSETFROM:+0100
TZOFFSETTO:+0200
TZNAME:CEST
DTSTART:20220327T010000
END:DAYLIGHT
BEGIN:STANDARD
TZOFFSETFROM:+0200
TZOFFSETTO:+0100
TZNAME:CET
DTSTART:20221030T010000
END:STANDARD
BEGIN:DAYLIGHT
TZOFFSETFROM:+0100
TZOFFSETTO:+0200
TZNAME:CEST
DTSTART:20230326T010000
END:DAYLIGHT
BEGIN:STANDARD
TZOFFSETFROM:+0200
TZOFFSETTO:+0100
TZNAME:CET
DTSTART:20231029T010000
END:STANDARD
END:VTIMEZONE
BEGIN:VEVENT
DTSTART;TZID=Europe/Paris:20220304T140000
DTEND;TZID=Europe/Paris:20220304T170000
DTSTAMP:20260424T093945
CREATED:20220304T103712Z
LAST-MODIFIED:20220328T071145Z
UID:7964-1646402400-1646413200@fermi.univ-tlse3.fr
SUMMARY:Exploration de paysages énergétiques et effets quantiques nucléaires : approche Parallel Tempering Path-Integral Molecular Dynamics (Fernand Louisnard/ LCPQ / Thèses) – 4/03/2022\, 14H
DESCRIPTION:Fernand Louisnard \, LCPQ\, seminary room\, 3rd floor -3r1B4 \nRésumé: \nÀ la frontière entre la molécule d’eau isolée et la phase condensée\, les agrégats d’eau bénéficient d’une attention particulière de la part des chercheurs en science moléculaire. L’intérêt de ces agrégats est double. Ils jouent un rôle important en chimie atmosphérique (nucléation d’aérosols\, formation de pluie acide\, …) et en astrochimie mais ils peuvent également être considérés comme des briques élémentaires de la matière condensée. Ainsi\, l’étude de leurs propriétés électroniques\, structurelles ou thermodynamiques constitue une étape clef vers une meilleure compréhension de la phase condensée. Cependant\, l’étude théorique de tels systèmes s’avère délicate. D’une part\, la complexité de la surface d’énergie potentielle (SEP) d’un agrégat augmente de façon drastique avec sa taille. Il est donc nécessaire d’employer des méthodes efficaces d’échantillonage telles que l’approche Parallel Tempering Molecular Dynamics (PTMD) pour pouvoir explorer l’intégralité de la SEP et converger statistiquement les propriétés calculées. D’autre part\, les effets quantiques nucléaires (EQN) ne sont pas négligeables dans le cas des atomes d’hydrogène et le traitement classique ou quantique des noyaux peut avoir un impact considérable sur de nombreuses propriétés simulées. La méthode Path-Integral Molecular Dynamics (PIMD) permet de traiter les EQN tout en restant dans un formalisme classique et à un coût de calcul abordable pour de tels systèmes. Elle repose sur l’isomorphisme entre la fonction de partition d’un système quantique et la fonction de partition classique d’un système étendu appelé polymère cyclique. \nDans cette thèse nous présentons l’implémentation des méthodes PTMD et PIMD dans les codes deMon2k et deMonNano respectivement ainsi que leur application à l’étude de la transition de phase dans les agrégats aqueux (H2O)6 et (H2O)8. \nPremièrement nous présentons l’implémentation de la méthode PTMD dans deMon2k\, un code de DFT. Pour pouvoir efficacement adapter l’algorithme PTMD à l’architecture parallèle des supercalculateurs\, une structure parallèle MPI en 2 couches a été développée. Concernant l’étude de la transition de phase dans (H2O)6 et (H2O)8\, elle été caractérisée en étudiant la courbe de capacité calorifique et la distribution d’isomères en fonction de la température. Jusqu’à présent\, aucun code de DFT ne possédait une implémentation native de la méthode PTMD et aucune étude de ce type n’avait alors été réalisé avec un tel niveau de théorie. \nEnsuite\, le programme de PIMD i-PI a été interfacé avec le code de SCC-DFTB deMonNano\, développé dans notre groupe. Nous avons ainsi pu réaliser des simulations Parallel Tempering Path-Integral Molecular Dynamics (PTPIMD) afin d’évaluer l’impact des EQN sur la distribution d’isomères à basse température dans les agrégats (H2O)6 et (H2O)8. \nFinalement\, les outils et les méthodes développées au cours de cette thèse devraient avoir de nombreuses applications et offrent de nouvelles possibilités dans l’étude des agrégats de tout type.
URL:https://fermi.univ-tlse3.fr/event/exploration-de-paysages-energetiques-et-effets-quantiques-nucleaires-approche-parallel-tempering-path-integral-molecular-dynamics-lcpq-theses-4-03-2022-14h/
LOCATION:salle de séminaire 3ème étage\, Bâtiment 3r1 Université Toulouse III\, Toulouse\, 31400\, France
CATEGORIES:Events,HDR / Thesis,LCPQ
END:VEVENT
BEGIN:VEVENT
DTSTART;TZID=Europe/Paris:20220313T080000
DTEND;TZID=Europe/Paris:20220318T170000
DTSTAMP:20260424T093945
CREATED:20220312T080009Z
LAST-MODIFIED:20220314T074234Z
UID:7574-1647158400-1647622800@fermi.univ-tlse3.fr
SUMMARY:Winter school on Laboratory Astrophysics : tracking the evolution of cosmic matter towards molecular complexity (LCPQ\, Les Houches). - 13-18 March 2022
DESCRIPTION:https://lab-astrophysic.sciencesconf.org \nThe school will take place at “Les Houches School of Physics”\, located in the Chamonix valley of the French Alps in March 13-18 2022.  This winter school is a PCMI-supported initiative and is addressed to a very broad audience\, extending well beyond its own frontiers. It includes the fields of astrochemistry and planetary sciences. All researchers (PhD\, post docs and permanent researchers) are welcome. \nThis school focuses on advanced experimental and theoretical approaches used to produce\, analyze and investigate the properties and the evolution of extraterrestrial analogs in the laboratory\, and dedicated to improve our understanding of the origin and evolution of complex molecular matter observed in space\, from dense molecular clouds up to the formation of new stars\, planetary bodies and comets. The program will present a wide range of complementary and advanced methods allowing the production\, analysis and investigation of properties and evolution of extraterrestrial analogs\, that were developed in recent years in close connection to the most relevant astronomical observations. Emphasis will be put on the degree of chemical and/or structural complexity which can be achieved in the gas and solid phases and at their interface under space conditions. The methods used to characterize the physics of silicates and carbonaceous dust\, and to investigate the formation/destruction processes of ices will be detailed. Techniques used to analyze matter from cometary and asteroid origins will also be presented. During the school\, interactive sessions with invited teachers will be organized and all participants are encouraged to present their own work during poster sessions. \nThe organizing committee : Jean-Hugues Fillion\, Ludovic Biennier\, Grégoire Danger and Aude Simon
URL:https://fermi.univ-tlse3.fr/event/winter-school-on-laboratory-astrophysics-tracking-the-evolution-of-cosmic-matter-towards-molecular-complexity-lcpq-les-houches-13-18-march-2022/
CATEGORIES:Events,LCPQ,Symposium / Congress
END:VEVENT
END:VCALENDAR