BEGIN:VCALENDAR
VERSION:2.0
PRODID:-//FeRMI - ECPv6.15.20//NONSGML v1.0//EN
CALSCALE:GREGORIAN
METHOD:PUBLISH
X-ORIGINAL-URL:https://fermi.univ-tlse3.fr
X-WR-CALDESC:Évènements pour FeRMI
REFRESH-INTERVAL;VALUE=DURATION:PT1H
X-Robots-Tag:noindex
X-PUBLISHED-TTL:PT1H
BEGIN:VTIMEZONE
TZID:Europe/Paris
BEGIN:DAYLIGHT
TZOFFSETFROM:+0100
TZOFFSETTO:+0200
TZNAME:CEST
DTSTART:20200329T010000
END:DAYLIGHT
BEGIN:STANDARD
TZOFFSETFROM:+0200
TZOFFSETTO:+0100
TZNAME:CET
DTSTART:20201025T010000
END:STANDARD
BEGIN:DAYLIGHT
TZOFFSETFROM:+0100
TZOFFSETTO:+0200
TZNAME:CEST
DTSTART:20210328T010000
END:DAYLIGHT
BEGIN:STANDARD
TZOFFSETFROM:+0200
TZOFFSETTO:+0100
TZNAME:CET
DTSTART:20211031T010000
END:STANDARD
BEGIN:DAYLIGHT
TZOFFSETFROM:+0100
TZOFFSETTO:+0200
TZNAME:CEST
DTSTART:20220327T010000
END:DAYLIGHT
BEGIN:STANDARD
TZOFFSETFROM:+0200
TZOFFSETTO:+0100
TZNAME:CET
DTSTART:20221030T010000
END:STANDARD
END:VTIMEZONE
BEGIN:VEVENT
DTSTART;TZID=Europe/Paris:20211021T140000
DTEND;TZID=Europe/Paris:20211021T160000
DTSTAMP:20260424T230507
CREATED:20210909T124724Z
LAST-MODIFIED:20211011T095006Z
UID:6381-1634824800-1634832000@fermi.univ-tlse3.fr
SUMMARY:Fractional spin/charge states in quantum chemistry (LCPQ / Zoom Seminar) - 21/10\, 14H.
DESCRIPTION:By Stijn De Baerdemacker from University of New Brunswick in Canada (http://www2.unb.ca/~sde6/) \nStjin’s work lies at the interface of Chemistry\, Physics and Mathematics (http://www2.unb.ca/~sde6/publications.html). \nAbstract: Many of the challenges in popular electronic structure methods for molecules are related to the (de)localization of electrons over the different subsystems in the compounds. We show how incorporating suitable constraints on the quantum many-body wavefunction can\n(1) lead to accurate electron (spin)localization in bond dissociation processes\, as described by Yang’s flat-plane conditions\, and\n(2) accurately capture static electron correlation via artificial spin-symmetry breaking/restoration in the Generator Coordinate Method framework.
URL:https://fermi.univ-tlse3.fr/event/to-be-annouced-lcpq-seminary/
CATEGORIES:Events,LCPQ,Seminars
END:VEVENT
END:VCALENDAR