BEGIN:VCALENDAR
VERSION:2.0
PRODID:-//FeRMI - ECPv6.15.20//NONSGML v1.0//EN
CALSCALE:GREGORIAN
METHOD:PUBLISH
X-ORIGINAL-URL:https://fermi.univ-tlse3.fr
X-WR-CALDESC:Évènements pour FeRMI
REFRESH-INTERVAL;VALUE=DURATION:PT1H
X-Robots-Tag:noindex
X-PUBLISHED-TTL:PT1H
BEGIN:VTIMEZONE
TZID:Europe/Paris
BEGIN:DAYLIGHT
TZOFFSETFROM:+0100
TZOFFSETTO:+0200
TZNAME:CEST
DTSTART:20200329T010000
END:DAYLIGHT
BEGIN:STANDARD
TZOFFSETFROM:+0200
TZOFFSETTO:+0100
TZNAME:CET
DTSTART:20201025T010000
END:STANDARD
BEGIN:DAYLIGHT
TZOFFSETFROM:+0100
TZOFFSETTO:+0200
TZNAME:CEST
DTSTART:20210328T010000
END:DAYLIGHT
BEGIN:STANDARD
TZOFFSETFROM:+0200
TZOFFSETTO:+0100
TZNAME:CET
DTSTART:20211031T010000
END:STANDARD
BEGIN:DAYLIGHT
TZOFFSETFROM:+0100
TZOFFSETTO:+0200
TZNAME:CEST
DTSTART:20220327T010000
END:DAYLIGHT
BEGIN:STANDARD
TZOFFSETFROM:+0200
TZOFFSETTO:+0100
TZNAME:CET
DTSTART:20221030T010000
END:STANDARD
END:VTIMEZONE
BEGIN:VEVENT
DTSTART;TZID=Europe/Paris:20211209T140000
DTEND;TZID=Europe/Paris:20211210T120000
DTSTAMP:20260424T204030
CREATED:20211205T130228Z
LAST-MODIFIED:20211206T095144Z
UID:6864-1639058400-1639137600@fermi.univ-tlse3.fr
SUMMARY:Mini-symposium (LCPQ / 9-10 december)
DESCRIPTION:The speakers (and titles) are: \n– Elise Dumont (ENS\, Lyon) « Modelling radicals-induced and light-induced damage in DNA”\n– Nicolas Ferre (Universite Aix-Marseille) « Why hydroxyl matters: NMR and UV-visible spectra of anthraquinones »\n– Denis Jacquemin (CEISAM\, Nantes) « Modelling Excited-State Intramolecular Proton Transfer in Organic Dyes »\n– Adele Laurent (CEISAM\, Nantes) « Molecular simulations of ligand-protein interactions » \nThe first two presentations will be held in the IRSAMC seminar room (3rd floor Bat. 3R1) from 14:00 to 17:00 on Thursday afternoon\, while the last two talks will be held in Room 20 (ground floor Bat. 3R1) from 9:00 to 2:00 on Friday morning\nA coffee break has been organised for each session. \n 
URL:https://fermi.univ-tlse3.fr/event/mini-symposium-lcpq-9-10-december/
CATEGORIES:Events,LCPQ,Symposium / Congress
END:VEVENT
END:VCALENDAR