BEGIN:VCALENDAR
VERSION:2.0
PRODID:-//FeRMI - ECPv6.15.20//NONSGML v1.0//EN
CALSCALE:GREGORIAN
METHOD:PUBLISH
X-WR-CALNAME:FeRMI
X-ORIGINAL-URL:https://fermi.univ-tlse3.fr
X-WR-CALDESC:Évènements pour FeRMI
REFRESH-INTERVAL;VALUE=DURATION:PT1H
X-Robots-Tag:noindex
X-PUBLISHED-TTL:PT1H
BEGIN:VTIMEZONE
TZID:Europe/Paris
BEGIN:DAYLIGHT
TZOFFSETFROM:+0100
TZOFFSETTO:+0200
TZNAME:CEST
DTSTART:20210328T010000
END:DAYLIGHT
BEGIN:STANDARD
TZOFFSETFROM:+0200
TZOFFSETTO:+0100
TZNAME:CET
DTSTART:20211031T010000
END:STANDARD
BEGIN:DAYLIGHT
TZOFFSETFROM:+0100
TZOFFSETTO:+0200
TZNAME:CEST
DTSTART:20220327T010000
END:DAYLIGHT
BEGIN:STANDARD
TZOFFSETFROM:+0200
TZOFFSETTO:+0100
TZNAME:CET
DTSTART:20221030T010000
END:STANDARD
BEGIN:DAYLIGHT
TZOFFSETFROM:+0100
TZOFFSETTO:+0200
TZNAME:CEST
DTSTART:20230326T010000
END:DAYLIGHT
BEGIN:STANDARD
TZOFFSETFROM:+0200
TZOFFSETTO:+0100
TZNAME:CET
DTSTART:20231029T010000
END:STANDARD
END:VTIMEZONE
BEGIN:VEVENT
DTSTART;TZID=Europe/Paris:20220414T140000
DTEND;TZID=Europe/Paris:20220414T160000
DTSTAMP:20260424T094247
CREATED:20220411T040025Z
LAST-MODIFIED:20220411T064737Z
UID:7983-1649944800-1649952000@fermi.univ-tlse3.fr
SUMMARY:Building Machine Learning assisted Phase Diagrams: three chemically relevant examples. - (Xabier Telleria Allika / LCPQ / Seminar). - 14/04/2022
DESCRIPTION:Xabier Telleria Allika (hosted by Arjan and Stefano) \nAbstract: \nIn this work we present a systematic procedure to build phase diagrams for chemically relevant properties by the use of a semi-supervised machine learning technique called uncertainty sampling. Concretely\, in this work we focus on ground state spin multiplicity and chemical bonding properties. As a first step\, we have obtained single-eutectic-point-\ncontaining solid-liquid systems which have been suitable for contrasting the validity of this approach. Once this was settled\, on the one hand\, we have built magnetic phase diagrams for several Hooke atoms containing few electrons (4 and 6) trapped in spheroidal harmonic potentials. Changing the parameters of the confinement potential such as curvature and anisotropy and interelectronic interaction strength\, we have been able to obtain and rationalise magnetic phase transitions flipping the ground state spin multiplicity from singlet (non magnetic) to triplet (magnetic) states. On the other hand\, Bader’s analysis is performed upon helium dimers confined by spherical harmonic potentials. Covalency is studied using descriptors as sign for ∆ρ(rC) and H(rC) and the dependency on the degrees of freedom of the system is studied i.e. potential curvature ω2 and inter atomic distance R. As a result\, we have observed that there may exist a covalent bond between He atoms for short enough distances and strong enough confinement. This machine learning procedure could\, in principle\, be applied to the study of other chemically relevant properties involving phase diagrams\, saving a lot of computational resources
URL:https://fermi.univ-tlse3.fr/event/building-machine-learning-assisted-phase-diagrams-three-chemically-relevant-examples-xabier-telleria-allika-lcpq-seminar-14-04-2022/
LOCATION:salle de séminaire 3ème étage\, Bâtiment 3r1 Université Toulouse III\, Toulouse\, 31400\, France
CATEGORIES:Events,LCPQ,Seminars
END:VEVENT
END:VCALENDAR