BEGIN:VCALENDAR
VERSION:2.0
PRODID:-//FeRMI - ECPv6.15.20//NONSGML v1.0//EN
CALSCALE:GREGORIAN
METHOD:PUBLISH
X-WR-CALNAME:FeRMI
X-ORIGINAL-URL:https://fermi.univ-tlse3.fr
X-WR-CALDESC:Évènements pour FeRMI
REFRESH-INTERVAL;VALUE=DURATION:PT1H
X-Robots-Tag:noindex
X-PUBLISHED-TTL:PT1H
BEGIN:VTIMEZONE
TZID:Europe/Paris
BEGIN:DAYLIGHT
TZOFFSETFROM:+0100
TZOFFSETTO:+0200
TZNAME:CEST
DTSTART:20220327T010000
END:DAYLIGHT
BEGIN:STANDARD
TZOFFSETFROM:+0200
TZOFFSETTO:+0100
TZNAME:CET
DTSTART:20221030T010000
END:STANDARD
BEGIN:DAYLIGHT
TZOFFSETFROM:+0100
TZOFFSETTO:+0200
TZNAME:CEST
DTSTART:20230326T010000
END:DAYLIGHT
BEGIN:STANDARD
TZOFFSETFROM:+0200
TZOFFSETTO:+0100
TZNAME:CET
DTSTART:20231029T010000
END:STANDARD
BEGIN:DAYLIGHT
TZOFFSETFROM:+0100
TZOFFSETTO:+0200
TZNAME:CEST
DTSTART:20240331T010000
END:DAYLIGHT
BEGIN:STANDARD
TZOFFSETFROM:+0200
TZOFFSETTO:+0100
TZNAME:CET
DTSTART:20241027T010000
END:STANDARD
END:VTIMEZONE
BEGIN:VEVENT
DTSTART;TZID=Europe/Paris:20230308T143000
DTEND;TZID=Europe/Paris:20230308T170000
DTSTAMP:20260422T184250
CREATED:20230313T073630Z
LAST-MODIFIED:20230313T073630Z
UID:8920-1678285800-1678294800@fermi.univ-tlse3.fr
SUMMARY:Synthèse de nanocristaux de phosphure d’indium pour une émission dans le proche infra-rouge. Caractérisation\, chimie de surface et relation structure/réactivité des précurseurs (Fabio Ferrari / LPCNO / Thèse). - 8/03/2023\, 14H30
DESCRIPTION:Fabio Ferrari\, LPCNO\, Salle des séminaires\, Bât. 27\, Salle 2.20 (2ème étage gauche)\, INSA\, 135 av. de Rangueil\, Toulouse
URL:https://fermi.univ-tlse3.fr/event/synthese-de-nanocristaux-de-phosphure-dindium-pour-une-emission-dans-le-proche-infra-rouge-caracterisation-chimie-de-surface-et-relation-structure-reactivite-des-precurseurs-fabio-ferrari/
LOCATION:Salle 220\, LPCNO\, INSA – LPCNO : 135 avenue de Rangueil\, toulouse\, 31077\, France
CATEGORIES:Events,HDR / Thesis,LPCNO
END:VEVENT
BEGIN:VEVENT
DTSTART;TZID=Europe/Paris:20230309T110000
DTEND;TZID=Europe/Paris:20230309T123000
DTSTAMP:20260422T184250
CREATED:20230305T090536Z
LAST-MODIFIED:20230306T140351Z
UID:8885-1678359600-1678365000@fermi.univ-tlse3.fr
SUMMARY:Nanophosphors for optical applications (Damien Boyer / Seminar / LPCNO). - 9/03/2023\, 11H
DESCRIPTION:Damien Boyer (Institut de Chimie Clermont-Ferrand) \nSeminar LPCNO\, Thursday 09/03/23 at 11h in ampli GEI13\, INSA\, Bât. 19\, Salle 13A.
URL:https://fermi.univ-tlse3.fr/event/nanophosphors-for-optical-applications-damien-boyer-seminar-lpcno-9-03-2023-11h/
CATEGORIES:Events,LPCNO,Seminars
END:VEVENT
END:VCALENDAR