BEGIN:VCALENDAR
VERSION:2.0
PRODID:-//FeRMI - ECPv6.15.20//NONSGML v1.0//EN
CALSCALE:GREGORIAN
METHOD:PUBLISH
X-WR-CALNAME:FeRMI
X-ORIGINAL-URL:https://fermi.univ-tlse3.fr
X-WR-CALDESC:Évènements pour FeRMI
REFRESH-INTERVAL;VALUE=DURATION:PT1H
X-Robots-Tag:noindex
X-PUBLISHED-TTL:PT1H
BEGIN:VTIMEZONE
TZID:Europe/Paris
BEGIN:DAYLIGHT
TZOFFSETFROM:+0100
TZOFFSETTO:+0200
TZNAME:CEST
DTSTART:20220327T010000
END:DAYLIGHT
BEGIN:STANDARD
TZOFFSETFROM:+0200
TZOFFSETTO:+0100
TZNAME:CET
DTSTART:20221030T010000
END:STANDARD
BEGIN:DAYLIGHT
TZOFFSETFROM:+0100
TZOFFSETTO:+0200
TZNAME:CEST
DTSTART:20230326T010000
END:DAYLIGHT
BEGIN:STANDARD
TZOFFSETFROM:+0200
TZOFFSETTO:+0100
TZNAME:CET
DTSTART:20231029T010000
END:STANDARD
BEGIN:DAYLIGHT
TZOFFSETFROM:+0100
TZOFFSETTO:+0200
TZNAME:CEST
DTSTART:20240331T010000
END:DAYLIGHT
BEGIN:STANDARD
TZOFFSETFROM:+0200
TZOFFSETTO:+0100
TZNAME:CET
DTSTART:20241027T010000
END:STANDARD
END:VTIMEZONE
BEGIN:VEVENT
DTSTART;TZID=Europe/Paris:20230711T153000
DTEND;TZID=Europe/Paris:20230711T170000
DTSTAMP:20260422T042200
CREATED:20230706T071657Z
LAST-MODIFIED:20230706T071821Z
UID:9162-1689089400-1689094800@fermi.univ-tlse3.fr
SUMMARY:Multifunctional Catalysts for the Activation and Transfer of Hydrogen\, Towards Adaptive Catalytic Systems. - (Alexis Bordet / LPCNO /Séminaire). – 11/07/2023\, 15H30
DESCRIPTION:Alexis Bordet (MPI-CEC\, Mülheim an der Ruhr\, Germany) \nSéminaire LPCNO\, GP seminar room\, INSA\, Bât. 27\, Salle 2.20
URL:https://fermi.univ-tlse3.fr/event/multifunctional-catalysts-for-the-activation-and-transfer-of-hydrogen-towards-adaptive-catalytic-systems-alexis-bordet-lpcno-seminaire-11-07-2023-15h30/
LOCATION:Salle 220\, LPCNO\, INSA – LPCNO : 135 avenue de Rangueil\, toulouse\, 31077\, France
CATEGORIES:Events,LPCNO,Seminars
END:VEVENT
END:VCALENDAR