BEGIN:VCALENDAR
VERSION:2.0
PRODID:-//FeRMI - ECPv6.15.20//NONSGML v1.0//EN
CALSCALE:GREGORIAN
METHOD:PUBLISH
X-ORIGINAL-URL:https://fermi.univ-tlse3.fr
X-WR-CALDESC:Évènements pour FeRMI
REFRESH-INTERVAL;VALUE=DURATION:PT1H
X-Robots-Tag:noindex
X-PUBLISHED-TTL:PT1H
BEGIN:VTIMEZONE
TZID:Europe/Paris
BEGIN:DAYLIGHT
TZOFFSETFROM:+0100
TZOFFSETTO:+0200
TZNAME:CEST
DTSTART:20210328T010000
END:DAYLIGHT
BEGIN:STANDARD
TZOFFSETFROM:+0200
TZOFFSETTO:+0100
TZNAME:CET
DTSTART:20211031T010000
END:STANDARD
BEGIN:DAYLIGHT
TZOFFSETFROM:+0100
TZOFFSETTO:+0200
TZNAME:CEST
DTSTART:20220327T010000
END:DAYLIGHT
BEGIN:STANDARD
TZOFFSETFROM:+0200
TZOFFSETTO:+0100
TZNAME:CET
DTSTART:20221030T010000
END:STANDARD
BEGIN:DAYLIGHT
TZOFFSETFROM:+0100
TZOFFSETTO:+0200
TZNAME:CEST
DTSTART:20230326T010000
END:DAYLIGHT
BEGIN:STANDARD
TZOFFSETFROM:+0200
TZOFFSETTO:+0100
TZNAME:CET
DTSTART:20231029T010000
END:STANDARD
END:VTIMEZONE
BEGIN:VEVENT
DTSTART;TZID=Europe/Paris:20221013T140000
DTEND;TZID=Europe/Paris:20221013T160000
DTSTAMP:20260423T162830
CREATED:20221013T050046Z
LAST-MODIFIED:20221013T064745Z
UID:8488-1665669600-1665676800@fermi.univ-tlse3.fr
SUMMARY:Nanostructure by synchrotron x-ray total scattering: from discrete nanoparticles to inhomogeneities in quantum materials. - (Valeri Petkov / LPCNO / Seminar). - 13/10/2022
DESCRIPTION:Valeri Petkov (Central Michigan University) \nSalle des séminaires du LPCNO\, INSA\, Bât. 27\, 2ème étage gauche.
URL:https://fermi.univ-tlse3.fr/event/nanostructure-by-synchrotron-x-ray-total-scattering-from-discrete-nanoparticles-to-inhomogeneities-in-quantum-materials-valeri-petkov-lpcno-seminar-13-10-2022/
LOCATION:Amphi Vinci\, bâtiment 20 du LPCNO\, INSA – LPCNO : 135 avenue de Rangueil\, Toulouse\, 31077\, France
CATEGORIES:Events,LPCNO,Seminars
END:VEVENT
END:VCALENDAR