BEGIN:VCALENDAR
VERSION:2.0
PRODID:-//FeRMI - ECPv6.15.20//NONSGML v1.0//EN
CALSCALE:GREGORIAN
METHOD:PUBLISH
X-ORIGINAL-URL:https://fermi.univ-tlse3.fr
X-WR-CALDESC:Évènements pour FeRMI
REFRESH-INTERVAL;VALUE=DURATION:PT1H
X-Robots-Tag:noindex
X-PUBLISHED-TTL:PT1H
BEGIN:VTIMEZONE
TZID:Europe/Paris
BEGIN:DAYLIGHT
TZOFFSETFROM:+0100
TZOFFSETTO:+0200
TZNAME:CEST
DTSTART:20220327T010000
END:DAYLIGHT
BEGIN:STANDARD
TZOFFSETFROM:+0200
TZOFFSETTO:+0100
TZNAME:CET
DTSTART:20221030T010000
END:STANDARD
BEGIN:DAYLIGHT
TZOFFSETFROM:+0100
TZOFFSETTO:+0200
TZNAME:CEST
DTSTART:20230326T010000
END:DAYLIGHT
BEGIN:STANDARD
TZOFFSETFROM:+0200
TZOFFSETTO:+0100
TZNAME:CET
DTSTART:20231029T010000
END:STANDARD
BEGIN:DAYLIGHT
TZOFFSETFROM:+0100
TZOFFSETTO:+0200
TZNAME:CEST
DTSTART:20240331T010000
END:DAYLIGHT
BEGIN:STANDARD
TZOFFSETFROM:+0200
TZOFFSETTO:+0100
TZNAME:CET
DTSTART:20241027T010000
END:STANDARD
END:VTIMEZONE
BEGIN:VEVENT
DTSTART;TZID=Europe/Paris:20230216T140000
DTEND;TZID=Europe/Paris:20230216T170000
DTSTAMP:20260423T043734
CREATED:20230215T070028Z
LAST-MODIFIED:20230215T073704Z
UID:8827-1676556000-1676566800@fermi.univ-tlse3.fr
SUMMARY:Exciton and spin-valley properties in WSe2 monolayers. - (Lei REN /LPCNO / Thesis). - 16/02/2023\, 14 H
DESCRIPTION:Soutenance de thèse\, 14h\, 16/02/2023\,  Place: Salle 220\, LPCNO\, INSA-Toulouse  \n Lei REN\, \nPhD Student of INSA-Toulouse (Université de Toulouse) \nQuantum Optoelectronics Group\n 
URL:https://fermi.univ-tlse3.fr/event/exciton-and-spin-valley-properties-in-wse2-monolayers-lei-ren-lpcno-thesis-16-02-2023-14-h/
LOCATION:Amphi Vinci\, bâtiment 20 du LPCNO\, INSA – LPCNO : 135 avenue de Rangueil\, Toulouse\, 31077\, France
CATEGORIES:Events,HDR / Thesis,LPCNO
END:VEVENT
END:VCALENDAR