BEGIN:VCALENDAR
VERSION:2.0
PRODID:-//FeRMI - ECPv6.15.20//NONSGML v1.0//EN
CALSCALE:GREGORIAN
METHOD:PUBLISH
X-WR-CALNAME:FeRMI
X-ORIGINAL-URL:https://fermi.univ-tlse3.fr
X-WR-CALDESC:Évènements pour FeRMI
REFRESH-INTERVAL;VALUE=DURATION:PT1H
X-Robots-Tag:noindex
X-PUBLISHED-TTL:PT1H
BEGIN:VTIMEZONE
TZID:Europe/Paris
BEGIN:DAYLIGHT
TZOFFSETFROM:+0100
TZOFFSETTO:+0200
TZNAME:CEST
DTSTART:20210328T010000
END:DAYLIGHT
BEGIN:STANDARD
TZOFFSETFROM:+0200
TZOFFSETTO:+0100
TZNAME:CET
DTSTART:20211031T010000
END:STANDARD
BEGIN:DAYLIGHT
TZOFFSETFROM:+0100
TZOFFSETTO:+0200
TZNAME:CEST
DTSTART:20220327T010000
END:DAYLIGHT
BEGIN:STANDARD
TZOFFSETFROM:+0200
TZOFFSETTO:+0100
TZNAME:CET
DTSTART:20221030T010000
END:STANDARD
BEGIN:DAYLIGHT
TZOFFSETFROM:+0100
TZOFFSETTO:+0200
TZNAME:CEST
DTSTART:20230326T010000
END:DAYLIGHT
BEGIN:STANDARD
TZOFFSETFROM:+0200
TZOFFSETTO:+0100
TZNAME:CET
DTSTART:20231029T010000
END:STANDARD
END:VTIMEZONE
BEGIN:VEVENT
DTSTART;TZID=Europe/Paris:20221011T140000
DTEND;TZID=Europe/Paris:20221011T153000
DTSTAMP:20260424T035838
CREATED:20221001T060052Z
LAST-MODIFIED:20221013T064235Z
UID:8281-1665496800-1665502200@fermi.univ-tlse3.fr
SUMMARY:Anderson transitions and (lost) conformal invariance  - (Ilya Gruzberg / Seminar / LPT). - 11/10/2022
DESCRIPTION:Ilya Gruzberg (Université d’État de l’Ohio\, États-Unis) \nSummary : Anderson transitions (ATs) between metals and insulators or between topologically distinct insulators\, share common features with conventional second-order phase transitions\, such as the critical point of the Ising model for a magnet. However\, ATs also exhibit many unusual features including the multifractal scaling of the critical wave functions. Conventional critical points possess conformal invariance which constrain their properties to the extent that they can be obtained exactly in two dimensions and to very high precision in three dimensions. Until recently\, researchers assumed that Anderson transitions also possess conformal invariance and can be described by conformal field theories (CFTs). I will review recent progress in understanding the relation between conformal invariance and mutifractal wave functions. The emerging picture puts serious doubt on the ability of CFTs to properly describe multifractality at ATs in both two and three dimensions. \n\n 
URL:https://fermi.univ-tlse3.fr/event/tba-ilya-gruzberg-seminar-11-10-2022/
LOCATION:salle de séminaire 3ème étage\, Bâtiment 3r1 Université Toulouse III\, Toulouse\, 31400\, France
CATEGORIES:Events,LPT,Seminars
END:VEVENT
END:VCALENDAR