BEGIN:VCALENDAR
VERSION:2.0
PRODID:-//FeRMI - ECPv6.15.20//NONSGML v1.0//EN
CALSCALE:GREGORIAN
METHOD:PUBLISH
X-WR-CALNAME:FeRMI
X-ORIGINAL-URL:https://fermi.univ-tlse3.fr
X-WR-CALDESC:Évènements pour FeRMI
REFRESH-INTERVAL;VALUE=DURATION:PT1H
X-Robots-Tag:noindex
X-PUBLISHED-TTL:PT1H
BEGIN:VTIMEZONE
TZID:Europe/Paris
BEGIN:DAYLIGHT
TZOFFSETFROM:+0100
TZOFFSETTO:+0200
TZNAME:CEST
DTSTART:20230326T010000
END:DAYLIGHT
BEGIN:STANDARD
TZOFFSETFROM:+0200
TZOFFSETTO:+0100
TZNAME:CET
DTSTART:20231029T010000
END:STANDARD
BEGIN:DAYLIGHT
TZOFFSETFROM:+0100
TZOFFSETTO:+0200
TZNAME:CEST
DTSTART:20240331T010000
END:DAYLIGHT
BEGIN:STANDARD
TZOFFSETFROM:+0200
TZOFFSETTO:+0100
TZNAME:CET
DTSTART:20241027T010000
END:STANDARD
BEGIN:DAYLIGHT
TZOFFSETFROM:+0100
TZOFFSETTO:+0200
TZNAME:CEST
DTSTART:20250330T010000
END:DAYLIGHT
BEGIN:STANDARD
TZOFFSETFROM:+0200
TZOFFSETTO:+0100
TZNAME:CET
DTSTART:20251026T010000
END:STANDARD
END:VTIMEZONE
BEGIN:VEVENT
DTSTART;TZID=Europe/Paris:20240109T140000
DTEND;TZID=Europe/Paris:20240109T153000
DTSTAMP:20260421T132522
CREATED:20231222T070007Z
LAST-MODIFIED:20231222T081049Z
UID:9952-1704808800-1704814200@fermi.univ-tlse3.fr
SUMMARY:Réseaux et société : Rayonnement culturel\, compétition économique et trajectoires géospatiales. - (Célestin Coquidé /LPT / Seminar). - 9/01/2024\, 14 H.
DESCRIPTION:Célestin Coquidé (LIRIS & UCBL\, Lyon) \nSeminar LPT\, 9/01/2024\, 14H\, 3R1\, seminar room\, 3rd floor \nRésumé :\nLes phénomènes complexes qu’ils soient physiques\, biologiques ou encore économiques se caractérisent par des propriétés émergentes\, observables uniquement à certaines échelles\, rendant ainsi leur étude analytique souvent difficile. Des exemples concrets tels que les pendules couplés\, les épidémies et les crises financières illustrent la complexité de ces systèmes. Pour faciliter leur compréhension et leur analyse\, nous utilisons la représentation en graphe\, ou réseau. Un réseau est un ensemble de nœuds représentant des entités\, et de liens représentant leurs interactions. \nCette présentation explore trois applications de la théorie des graphes dans l’analyse socio-économique. Nous commencerons par examiner comment Wikipédia reflète les tendances culturelles [1]\, puis nous modéliserons l’émergence de devises internationales au sein des réseaux d’échanges commerciaux [2\,3]. Enfin\, nous plongerons dans la construction et l’analyse de réseaux décrivant des trajectoires géospatiales [4]. \n[1] Novel version of PageRank\, CheiRank and 2DRank for Wikipedia in Multilingual Network using Social Impact. Coquidé C. et Lewoniewski W.\, Peer reviewed Article accepted for publication in Springer’s Lecture Notes in Business Information Processing (LNBIP) series\, (mars 2020). \n[2] Prospects of BRICS currency dominance in international trade. Coquidé C.\, Lages J. and Shepelyansky D.L. Appl. Netw. Sci. 8(65)\, (septembre 2023). \n[3] Dollar-Yuan Battle in the World Trade Network. Coquidé C.\, Lages J. and Shepelyansky D.L. Entropy 25(2)\, (février 2023).\n\n[4] PageRank computation for Higher-Order Networks. Coquidé C.\, Queiros J. et Queyroi F in Proc. Conf. Complex Networks\, Madrid (2021).
URL:https://fermi.univ-tlse3.fr/event/reseaux-et-societe-rayonnement-culturel-competition-economique-et-trajectoires-geospatiales-celestin-coquide-lpt-seminar-9-01-2024-14-h/
LOCATION:salle de séminaire 3ème étage\, Bâtiment 3r1 Université Toulouse III\, Toulouse\, 31400\, France
CATEGORIES:Events,LPT,Seminars
END:VEVENT
BEGIN:VEVENT
DTSTART;TZID=Europe/Paris:20240115T103000
DTEND;TZID=Europe/Paris:20240115T130000
DTSTAMP:20260421T132522
CREATED:20240115T031956Z
LAST-MODIFIED:20240115T071532Z
UID:9985-1705314600-1705323600@fermi.univ-tlse3.fr
SUMMARY:Les fluctuations KPZ en volume fini (Sylvain Prolhac / HDR / LPT). - 15/01/2024\, 10H45
DESCRIPTION:Sylvain Prolhac\, LPT \nSoutenance de HDR\, 15/01/2024\, 10H45\, seminar room\, 3rd floor
URL:https://fermi.univ-tlse3.fr/event/les-fluctuations-kpz-en-volume-fini-sylvain-prolhac-hdr-lpt-15-01-2024-10h45/
LOCATION:salle de séminaire 3ème étage\, Bâtiment 3r1 Université Toulouse III\, Toulouse\, 31400\, France
CATEGORIES:Events,HDR / Thesis,LPT
END:VEVENT
BEGIN:VEVENT
DTSTART;TZID=Europe/Paris:20240116T140000
DTEND;TZID=Europe/Paris:20240116T153000
DTSTAMP:20260421T132522
CREATED:20240112T074208Z
LAST-MODIFIED:20240116T090717Z
UID:9436-1705413600-1705419000@fermi.univ-tlse3.fr
SUMMARY:Resserrement des limites de continuité sur les entropies et des limites sur les capacités quantiques. - (Michael Jabbour / LPT / Seminar). - 16/01/2024\, 14 H.
DESCRIPTION:Michael Jabbour  (Université libre de Bruxelles) \nSeminar LPT\, 16/01/2024\, 14H\, 3R1\, seminar room\, 3rd floor \nRésumé: \nOne of the most basic tasks in information theory is communication. The capacity of a quantum channel is the maximum rate at which information can be transmitted through it reliably (in the asymptotic limit) per use of the channel. Mathematically\, the various definitions of capacities are expressed in terms of entropies. They are in general difficult to compute. However\, they can be bounded with the help of continuity bounds on entropies. The latter are generally expressed in terms of a single distance measure between probability distributions or quantum states\, typically\, the total variation- or trace distance. However\, if an additional distance measure is known\, the continuity bounds can be significantly strengthened. Here\, we prove uniform continuity bounds for the Shannon and von Neumann entropies in terms of both the local- and total variation distances for the former\, and both the operator norm- and trace distances for the latter. We then apply our results to compute upper bounds on channel capacities for channels that are ε-close in diamond norm and ν-close in completely bounded spectral norm to their complementary channel when composed with a degrading channel. Moreover\, these bounds can be further improved by considering certain unstabilized versions of the above norms. We show that upper bounds on the latter can be efficiently expressed as semidefinite programs.
URL:https://fermi.univ-tlse3.fr/event/tba-michael-jabbour-lpt-seminar-16-01-2024-14-h/
LOCATION:salle de séminaire 3ème étage\, Bâtiment 3r1 Université Toulouse III\, Toulouse\, 31400\, France
CATEGORIES:Events,LPT,Seminars
END:VEVENT
END:VCALENDAR