BEGIN:VCALENDAR
VERSION:2.0
PRODID:-//FeRMI - ECPv6.15.20//NONSGML v1.0//EN
CALSCALE:GREGORIAN
METHOD:PUBLISH
X-ORIGINAL-URL:https://fermi.univ-tlse3.fr
X-WR-CALDESC:Évènements pour FeRMI
REFRESH-INTERVAL;VALUE=DURATION:PT1H
X-Robots-Tag:noindex
X-PUBLISHED-TTL:PT1H
BEGIN:VTIMEZONE
TZID:Europe/Paris
BEGIN:DAYLIGHT
TZOFFSETFROM:+0100
TZOFFSETTO:+0200
TZNAME:CEST
DTSTART:20210328T010000
END:DAYLIGHT
BEGIN:STANDARD
TZOFFSETFROM:+0200
TZOFFSETTO:+0100
TZNAME:CET
DTSTART:20211031T010000
END:STANDARD
BEGIN:DAYLIGHT
TZOFFSETFROM:+0100
TZOFFSETTO:+0200
TZNAME:CEST
DTSTART:20220327T010000
END:DAYLIGHT
BEGIN:STANDARD
TZOFFSETFROM:+0200
TZOFFSETTO:+0100
TZNAME:CET
DTSTART:20221030T010000
END:STANDARD
BEGIN:DAYLIGHT
TZOFFSETFROM:+0100
TZOFFSETTO:+0200
TZNAME:CEST
DTSTART:20230326T010000
END:DAYLIGHT
BEGIN:STANDARD
TZOFFSETFROM:+0200
TZOFFSETTO:+0100
TZNAME:CET
DTSTART:20231029T010000
END:STANDARD
END:VTIMEZONE
BEGIN:VEVENT
DTSTART;TZID=Europe/Paris:20221110T100000
DTEND;TZID=Europe/Paris:20221110T120000
DTSTAMP:20260423T220818
CREATED:20221017T000047Z
LAST-MODIFIED:20221108T074153Z
UID:8522-1668074400-1668081600@fermi.univ-tlse3.fr
SUMMARY:Chaos et complexité : comment appliquer à l’éthique humaine la rationalité des sciences contemporaines ?- (Maxime Rovère / Seminar / LPT). - 10/11/2022
DESCRIPTION:Maxime Rovère (IHRIM\, Lyon) \nSummary \nWhile physics has undergone intense upheavals throughout the 20th century\, the way philosophers think of human action seems to rely on notions (responsibility\, freedom\, etc.) most of which do not take into account the new tools of reason. On the contrary\, the most common discourses on human actions and emotions have been won over by a globally psychological and individualizing approach. But what happens to the categories of « hypersensitive »\, « narcissistic » or « psychorigid » in the face of the principle of sensitivity to initial conditions? Can an ethics derived from chaos theory shed more light on moral questions\, or is it nothing more than a metaphorical use of concepts? Can thinking of randomness contribute to transforming our conception of ethics? What happens to concepts such as identity and self-transformation in the face of complexity methods? This presentation will test scientific reflections on the hypotheses formulated over the past five years\, with the aim of formulating an « interactional » ethics whose primary element is not the indivisible human persona\, but the interference between loops of interactions.
URL:https://fermi.univ-tlse3.fr/event/tba-maxime-rovere-seminar-lpt-10-11-2022/
LOCATION:salle de séminaire 3ème étage\, Bâtiment 3r1 Université Toulouse III\, Toulouse\, 31400\, France
CATEGORIES:Events,LPT,Seminars
END:VEVENT
END:VCALENDAR