BEGIN:VCALENDAR
VERSION:2.0
PRODID:-//FeRMI - ECPv6.15.20//NONSGML v1.0//EN
CALSCALE:GREGORIAN
METHOD:PUBLISH
X-WR-CALNAME:FeRMI
X-ORIGINAL-URL:https://fermi.univ-tlse3.fr
X-WR-CALDESC:Évènements pour FeRMI
REFRESH-INTERVAL;VALUE=DURATION:PT1H
X-Robots-Tag:noindex
X-PUBLISHED-TTL:PT1H
BEGIN:VTIMEZONE
TZID:Europe/Paris
BEGIN:DAYLIGHT
TZOFFSETFROM:+0100
TZOFFSETTO:+0200
TZNAME:CEST
DTSTART:20220327T010000
END:DAYLIGHT
BEGIN:STANDARD
TZOFFSETFROM:+0200
TZOFFSETTO:+0100
TZNAME:CET
DTSTART:20221030T010000
END:STANDARD
BEGIN:DAYLIGHT
TZOFFSETFROM:+0100
TZOFFSETTO:+0200
TZNAME:CEST
DTSTART:20230326T010000
END:DAYLIGHT
BEGIN:STANDARD
TZOFFSETFROM:+0200
TZOFFSETTO:+0100
TZNAME:CET
DTSTART:20231029T010000
END:STANDARD
BEGIN:DAYLIGHT
TZOFFSETFROM:+0100
TZOFFSETTO:+0200
TZNAME:CEST
DTSTART:20240331T010000
END:DAYLIGHT
BEGIN:STANDARD
TZOFFSETFROM:+0200
TZOFFSETTO:+0100
TZNAME:CET
DTSTART:20241027T010000
END:STANDARD
END:VTIMEZONE
BEGIN:VEVENT
DTSTART;TZID=Europe/Paris:20230523T140000
DTEND;TZID=Europe/Paris:20230523T153000
DTSTAMP:20260423T072355
CREATED:20230522T080051Z
LAST-MODIFIED:20230522T094113Z
UID:8903-1684850400-1684855800@fermi.univ-tlse3.fr
SUMMARY:Nested Sampling : une revue de la théorie et des applications . - (Danny Laghi  / LPT / Seminar). - 23/05/2023\, 14H
DESCRIPTION:Danny Laghi (L2iT) \nSeminar LPT\, 23 mai 2023\, 14H\, 3R1\, seminar room\, 3rd floor \nRésumé : \n\nDans ce séminaire\, je passerai en revue les bases du Nested Sampling\, un algorithme de statistique bayésienne alternatif aux méthodes de Monte Carlo par chaînes de Markov. Cet algorithme permet de calculer l’évidence bayésienne sous la forme d’une intégrale en haute dimension\, et peut aussi être utilisé pour générer des échantillons de la distribution postérieure. Après avoir discuté les avantages de cette méthode\, j’aborderai quelques exemples d’application\, les principales limitations de la méthode\, et je discuterai enfin des implémentations et distributions actuelles.
URL:https://fermi.univ-tlse3.fr/event/tba-mohamed-belkacem-lpt-seminar-18-04-2023-14h/
LOCATION:salle de séminaire 3ème étage\, Bâtiment 3r1 Université Toulouse III\, Toulouse\, 31400\, France
CATEGORIES:Events,LPT,Seminars
END:VEVENT
END:VCALENDAR