BEGIN:VCALENDAR
VERSION:2.0
PRODID:-//FeRMI - ECPv6.15.20//NONSGML v1.0//EN
CALSCALE:GREGORIAN
METHOD:PUBLISH
X-WR-CALNAME:FeRMI
X-ORIGINAL-URL:https://fermi.univ-tlse3.fr
X-WR-CALDESC:Évènements pour FeRMI
REFRESH-INTERVAL;VALUE=DURATION:PT1H
X-Robots-Tag:noindex
X-PUBLISHED-TTL:PT1H
BEGIN:VTIMEZONE
TZID:Europe/Paris
BEGIN:DAYLIGHT
TZOFFSETFROM:+0100
TZOFFSETTO:+0200
TZNAME:CEST
DTSTART:20220327T010000
END:DAYLIGHT
BEGIN:STANDARD
TZOFFSETFROM:+0200
TZOFFSETTO:+0100
TZNAME:CET
DTSTART:20221030T010000
END:STANDARD
BEGIN:DAYLIGHT
TZOFFSETFROM:+0100
TZOFFSETTO:+0200
TZNAME:CEST
DTSTART:20230326T010000
END:DAYLIGHT
BEGIN:STANDARD
TZOFFSETFROM:+0200
TZOFFSETTO:+0100
TZNAME:CET
DTSTART:20231029T010000
END:STANDARD
BEGIN:DAYLIGHT
TZOFFSETFROM:+0100
TZOFFSETTO:+0200
TZNAME:CEST
DTSTART:20240331T010000
END:DAYLIGHT
BEGIN:STANDARD
TZOFFSETFROM:+0200
TZOFFSETTO:+0100
TZNAME:CET
DTSTART:20241027T010000
END:STANDARD
END:VTIMEZONE
BEGIN:VEVENT
DTSTART;TZID=Europe/Paris:20230905T140000
DTEND;TZID=Europe/Paris:20230905T153000
DTSTAMP:20260422T125638
CREATED:20230905T082109Z
LAST-MODIFIED:20230905T082109Z
UID:9192-1693922400-1693927800@fermi.univ-tlse3.fr
SUMMARY:Deux modèles de spin aux propriétés inattendues - (Haruki Watanabe / LPT / Seminar). - 05/09/2023\, 14H
DESCRIPTION:Haruki Watanabe (EUniversité de Tokyo) \nSeminar LPT\, 05/09/2023\, 14H\, 3R1\, seminar room\, 3rd floor \nSummary : \nIn this talk\, I will introduce two series of simple spin models with unusual properties. The first one is a modified Toric code that may have a unique ground state under periodic boundary condition\, despite its nontrivial topological order dictated by nontrivial entanglement entropy and anyonic excitations. The second one is a spin chain in which a U(1) symmetry may be spontaneously broken at T=0\, although naively such a phase is prohibited by the Hohenberg-Mermin-Wagner theorem. These examples will help our general understanding of quantum many-body systems and complete classification of possible phases of matter.
URL:https://fermi.univ-tlse3.fr/event/deux-modeles-de-spin-aux-proprietes-inattendues-haruki-watanabe-lpt-seminar-05-09-2023-14h/
LOCATION:salle de séminaire 3ème étage\, Bâtiment 3r1 Université Toulouse III\, Toulouse\, 31400\, France
CATEGORIES:Events,LPT,Seminars
END:VEVENT
END:VCALENDAR