BEGIN:VCALENDAR
VERSION:2.0
PRODID:-//FeRMI - ECPv6.15.20//NONSGML v1.0//EN
CALSCALE:GREGORIAN
METHOD:PUBLISH
X-WR-CALNAME:FeRMI
X-ORIGINAL-URL:https://fermi.univ-tlse3.fr
X-WR-CALDESC:Évènements pour FeRMI
REFRESH-INTERVAL;VALUE=DURATION:PT1H
X-Robots-Tag:noindex
X-PUBLISHED-TTL:PT1H
BEGIN:VTIMEZONE
TZID:Europe/Paris
BEGIN:DAYLIGHT
TZOFFSETFROM:+0100
TZOFFSETTO:+0200
TZNAME:CEST
DTSTART:20210328T010000
END:DAYLIGHT
BEGIN:STANDARD
TZOFFSETFROM:+0200
TZOFFSETTO:+0100
TZNAME:CET
DTSTART:20211031T010000
END:STANDARD
BEGIN:DAYLIGHT
TZOFFSETFROM:+0100
TZOFFSETTO:+0200
TZNAME:CEST
DTSTART:20220327T010000
END:DAYLIGHT
BEGIN:STANDARD
TZOFFSETFROM:+0200
TZOFFSETTO:+0100
TZNAME:CET
DTSTART:20221030T010000
END:STANDARD
BEGIN:DAYLIGHT
TZOFFSETFROM:+0100
TZOFFSETTO:+0200
TZNAME:CEST
DTSTART:20230326T010000
END:DAYLIGHT
BEGIN:STANDARD
TZOFFSETFROM:+0200
TZOFFSETTO:+0100
TZNAME:CET
DTSTART:20231029T010000
END:STANDARD
END:VTIMEZONE
BEGIN:VEVENT
DTSTART;TZID=Europe/Paris:20220705T140000
DTEND;TZID=Europe/Paris:20220705T153000
DTSTAMP:20260424T141543
CREATED:20220628T060044Z
LAST-MODIFIED:20220704T072026Z
UID:8077-1657029600-1657035000@fermi.univ-tlse3.fr
SUMMARY:The Quantum Dynamics of Mean-Field Spin Glasses - (Chris Baldwin / LPT / Seminar). - 5/07/2022\, 14H
DESCRIPTION:Chris Baldwin (Université du Maryland)
URL:https://fermi.univ-tlse3.fr/event/tba-chris-baldwin-lpt-seminar-5-07-2022-14h/
LOCATION:salle de séminaire 3ème étage\, Bâtiment 3r1 Université Toulouse III\, Toulouse\, 31400\, France
CATEGORIES:Events,LPT,Seminars
END:VEVENT
BEGIN:VEVENT
DTSTART;TZID=Europe/Paris:20220712T140000
DTEND;TZID=Europe/Paris:20220712T160000
DTSTAMP:20260424T141543
CREATED:20220706T043129Z
LAST-MODIFIED:20220707T072752Z
UID:8142-1657634400-1657641600@fermi.univ-tlse3.fr
SUMMARY:Hexcitons and oxcitons in monolayer WSe2. - (Hanan Dery / LPCNO / Seminar). - 12/07/2022
DESCRIPTION:Hanan Dery (University of Rochester) \nAbstract: \nHydrogen-like bound states of photoexcited electron-hole pairs in semiconductors — that is\, excitons — have been a focus of considerable study for more than half a century. In undoped direct-gap semiconductors\, neutral excitons comprise the photogenerated electron and hole in the conduction and valence bands (CB and VB)\, respectively\, and typically manifest as discrete optical resonances below the free-particle band-gap energy. More interesting states arise when electron-hole (e-h) pairs are photoexcited into doped semiconductors containing a Fermi-sea of mobile carriers. \nIn the archetypal monolayer semiconductor WSe2\, the distinct ordering of spin-polarized valleys (low-energy pockets) in the CB allows for studies of not only simple neutral excitons and charged excitons (i.e.\, trions)\, but also more complex many-body states that are predicted at higher electron densities [1]. I will discuss magneto-optical measurements of electron-rich WSe2 monolayers [2]\, and interpret the spectral lines that emerge at high electron doping as optical transitions of 6-body exciton states (« hexcitons ») and 8-body exciton states (« oxcitons »). These many-body states emerge when a photoexcited electron-hole pair interacts simultaneously with multiple Fermi seas\, each having distinguishable spin and valley quantum numbers. \n\nD. Van Tuan and H. Dery\, Composite excitonic states in doped semiconductors\, arXiv:2202.08374.\nD. Van Tuan\, S.-F. Shi\, X. Xu\, S. A. Crooker and H. Dery\, Hexcitons and oxcitons in monolayer WSe2\, arXiv:2202.08375.\n\n 
URL:https://fermi.univ-tlse3.fr/event/hexcitons-and-oxcitons-in-monolayer-wse2-hanan-dery-lpcno-seminar-12-07-2022/
LOCATION:Amphi Vinci\, bâtiment 20 du LPCNO\, INSA – LPCNO : 135 avenue de Rangueil\, Toulouse\, 31077\, France
CATEGORIES:Events,LPCNO,Seminars
END:VEVENT
END:VCALENDAR