BEGIN:VCALENDAR
VERSION:2.0
PRODID:-//FeRMI - ECPv6.15.20//NONSGML v1.0//EN
CALSCALE:GREGORIAN
METHOD:PUBLISH
X-WR-CALNAME:FeRMI
X-ORIGINAL-URL:https://fermi.univ-tlse3.fr
X-WR-CALDESC:Évènements pour FeRMI
REFRESH-INTERVAL;VALUE=DURATION:PT1H
X-Robots-Tag:noindex
X-PUBLISHED-TTL:PT1H
BEGIN:VTIMEZONE
TZID:Europe/Paris
BEGIN:DAYLIGHT
TZOFFSETFROM:+0100
TZOFFSETTO:+0200
TZNAME:CEST
DTSTART:20220327T010000
END:DAYLIGHT
BEGIN:STANDARD
TZOFFSETFROM:+0200
TZOFFSETTO:+0100
TZNAME:CET
DTSTART:20221030T010000
END:STANDARD
BEGIN:DAYLIGHT
TZOFFSETFROM:+0100
TZOFFSETTO:+0200
TZNAME:CEST
DTSTART:20230326T010000
END:DAYLIGHT
BEGIN:STANDARD
TZOFFSETFROM:+0200
TZOFFSETTO:+0100
TZNAME:CET
DTSTART:20231029T010000
END:STANDARD
BEGIN:DAYLIGHT
TZOFFSETFROM:+0100
TZOFFSETTO:+0200
TZNAME:CEST
DTSTART:20240331T010000
END:DAYLIGHT
BEGIN:STANDARD
TZOFFSETFROM:+0200
TZOFFSETTO:+0100
TZNAME:CET
DTSTART:20241027T010000
END:STANDARD
END:VTIMEZONE
BEGIN:VEVENT
DTSTART;TZID=Europe/Paris:20230404T140000
DTEND;TZID=Europe/Paris:20230404T153000
DTSTAMP:20260423T153209
CREATED:20230328T060006Z
LAST-MODIFIED:20230330T131647Z
UID:8750-1680616800-1680622200@fermi.univ-tlse3.fr
SUMMARY:Observation of Universal Hall Response in Strongly Interacting Fermions ( Michele Filippone / Seminar / LPT). - 4/04/2023\, 14H
DESCRIPTION:Michele Filippone (CEA Grenoble) \nSeminar LPT\, 4 april 2023\, 14H\, 3R1\, seminar room\, 3rd floor \nSummary : The Hall effect originates from the motion of charged particles in a magnetic field and has deep consequences for the description and characterization of materials\, far beyond the context of condensed matter physics. Understanding the Hall effect in interacting systems still represents a fundamental challenge. Here [1] we directly observe the buildup of the Hall response in an interacting quantum system by exploiting controllable quench dynamics in an atomic quantum simulator\, see Figure 1. By tracking the motion of ultracold fermions in a two-leg ribbon threaded by an artificial magnetic field\, we measure the Hall response as a function of synthetic tunnelling and atomic interactions. We unveil an interaction-independent universal behaviour above an interaction threshold\, in clear agreement with theoretical analyses [2-3]. Our approach and findings open new directions for the quantum simulation of strongly correlated topological states of matter. \n 
URL:https://fermi.univ-tlse3.fr/event/observation-of-universal-hall-response-in-strongly-interacting-fermions-michele-filippone-seminar-lpt-4-04-2023-14h/
LOCATION:salle de séminaire 3ème étage\, Bâtiment 3r1 Université Toulouse III\, Toulouse\, 31400\, France
CATEGORIES:Events,LPT,Seminars
END:VEVENT
BEGIN:VEVENT
DTSTART;TZID=Europe/Paris:20230407T100000
DTEND;TZID=Europe/Paris:20230407T110000
DTSTAMP:20260423T153209
CREATED:20230309T100947Z
LAST-MODIFIED:20230330T131725Z
UID:8936-1680861600-1680865200@fermi.univ-tlse3.fr
SUMMARY:Interactions entre rayonnements ionisants et systèmes biomoléculaires isolés : des processus fondamentaux aux applications (Jean-Christophe Poully)  /  LCAR / Seminar). - 7/04/2023\, 10H
DESCRIPTION:Jean-Christophe Poully (Centre de recherché sur les ions\, les matériaux et la photonique\, UMR 6252 CEA/CNRS/ENSICAEN/Université de Caen Normandie\, Caen\, France) \nSéminaire LCAR vendredi 7 avril 10h. – Salle de séminaire\, 3R4 \nRésumé :\nDepuis une quinzaine d’années\, un ensemble de groupes de recherche s’est donné pour but de décrire\, quantifier et comprendre\, à l’échelle moléculaire\, les processus déclenchés par l’interaction entre des rayonnements ionisants et la matière\, en irradiant des systèmes moléculaires en phase gazeuse. Cet effort a été rendu possible grâce à l’évolution des techniques de spectrométrie de masse et des grands instruments tels que les synchrotrons et les accélérateurs de particules. Une attention particulière s’est portée sur l’étude des interactions entre photons ionisants ou faisceaux d’ions et systèmes biomoléculaires isolés. Cependant\, ces systèmes (peptides\, protéines\, ADN…) sont en général fragiles thermiquement et nécessitent l’utilisation de sources d’ions moléculaires telles que l’électrospray pour les mettre en phase gazeuse. Le couplage entre ces sources\, les guides et pièges à ions radiofréquences et les faisceaux de rayonnement ionisant d’énergie contrôlée a donné naissance à un domaine de recherche dynamique\, collaboratif et international\, pluridisciplinaire et en plein développement. De plus\, grâce à des interactions fortes entre physiciens\, chimistes\, biologistes et médecins\, les résultats de ces études fondamentales contribuent à améliorer des applications\, notamment en ce qui concerne le traitement du cancer par de nouvelles méthodes de radiothérapie. Dans ce séminaire\, je présenterai l’apport des résultats de certains de mes travaux à ce domaine\, et montrerai que ces techniques expérimentales et ce type d’étude peuvent nourrir d’autres thématiques de recherche.
URL:https://fermi.univ-tlse3.fr/event/interactions-entre-rayonnements-ionisants-et-systemes-biomoleculaires-isoles-des-processus-fondamentaux-aux-applications-jean-christophe-poully-lcar-seminar-7-04-2023-10h/
LOCATION:Salle de conférence\, Bâtiment 3R4
CATEGORIES:Events,LCAR,Seminars
END:VEVENT
BEGIN:VEVENT
DTSTART;TZID=Europe/Paris:20230411T140000
DTEND;TZID=Europe/Paris:20230411T153000
DTSTAMP:20260423T153209
CREATED:20230411T090044Z
LAST-MODIFIED:20230411T130719Z
UID:8836-1681221600-1681227000@fermi.univ-tlse3.fr
SUMMARY:Superconductivity in flat-band semimetals . - (Alexander Zyuzin / LPT / Seminar). - 11/04/2023\, 14H
DESCRIPTION:Alexander Zyuzin (Université Aalto\, Finlande) \nSeminar LPT\, 11 april 2023\, 14H\, 3R1\, seminar room\, 3rd floor \nRésumé : \n\nFlat-band materials may have relatively high superconducting transition temperature. Several systems were proposed to host nearly flat bands such as\, for example\, multilayer graphene with rhombohedral stacking\, twisted bilayer graphene\, and semimetals with high pseudospin quasiparticles. However\, the effect of the flat band on superconductivity can be twofold. Despite favoring Cooper pair formation\, its nearly dispersionless nature can be a serious impediment to pair condensation. The Cooper pairs formation and their condensation may occur at different temperatures. \nI will talk about the conditions for the emergence of the preformed Cooper pairs in materials hosting flat bands. As a particular example\, a semimetal with a pair of three-band crossing points at which a flat band intersects with a Dirac cone will be considered. It will be shown that the flat band promotes local Cooper pair formation so that the system may be modeled as an array of superconducting grains. The delocalized states give rise to the phase-coherent superconductivity at low temperatures. The transition temperature between the preformed Cooper pair state and the phase-coherent state will be discussed. \n\n 
URL:https://fermi.univ-tlse3.fr/event/tba-felix-werner-lpt-seminar/
LOCATION:salle de séminaire 3ème étage\, Bâtiment 3r1 Université Toulouse III\, Toulouse\, 31400\, France
CATEGORIES:Events,LPT,Seminars
END:VEVENT
BEGIN:VEVENT
DTSTART;TZID=Europe/Paris:20230421T110000
DTEND;TZID=Europe/Paris:20230421T123000
DTSTAMP:20260423T153209
CREATED:20230420T072544Z
LAST-MODIFIED:20230420T130829Z
UID:8974-1682074800-1682080200@fermi.univ-tlse3.fr
SUMMARY:La matière active dans tous ses états. - (Cécile Cottin-Bizonne / Seminar/ SFP). - 21/04/2023\, 11H
DESCRIPTION:Cécile Cottin-Bizonne  (Institut Lumière Matière\, Université Claude Bernard\, Lyon 1) \nLieu : Salle de conférence\, nouveau Bâtiment 3R4 \nRésumé :\nIl est fascinant d’observer les volées d’oiseaux\, les bancs de poissons et les essaims d’abeilles\, qui sont des exemples remarquables de comportements collectifs dans la nature. Les physiciens se sont intéressés à la compréhension et à la description des propriétés dynamiques de ces systèmes. Cela a conduit à l’émergence de la physique de la matière active\, une matière constituée non pas d’atomes et de molécules\, mais d’entités qui consomment de l’énergie pour générer leur propre mouvement. Ces dernières années la maîtrise des propriétés interfaciales d’objets micrométriques\, a permis de motoriser des microparticules. Ces systèmes ont donné lieu à autant de phénomènes spectaculaires que de questions fondamentales encore ouvertes. Dans cette présentation\, nous décrirons certains comportements originaux de ces particules micrométriques autopropulsées. Alors qu’à faible densité\, elles se comportent comme un gaz chaud parfait\, à des densités intermédiaires\, nous avons observé et caractérisé un nouveau phénomène collectif : la formation d’amas. Dans le régime dense\, nous avons observé un comportement tout à fait inattendu qui ne peut être décrit par la thermodynamique classique. Nous terminerons par une brève présentation de nos études sur la dynamique de nageurs interfaciaux\, des objets autopropulsés situés entre deux phases fluides\, et plus particulièrement sur le mouvement spontané de particules de camphre à une interface liquide-gaz. \nEn savoir plus\, voir ici \n\n 
URL:https://fermi.univ-tlse3.fr/event/la-matiere-active-dans-tous-ses-etats-cecile-cottin-bizonne-seminar-sfp-21-04-2023-11h/
LOCATION:Salle de conférence\, Bâtiment 3R4
CATEGORIES:Events,Seminars,SFP / SFC
END:VEVENT
BEGIN:VEVENT
DTSTART;TZID=Europe/Paris:20230425T140000
DTEND;TZID=Europe/Paris:20230425T153000
DTSTAMP:20260423T153209
CREATED:20230418T060718Z
LAST-MODIFIED:20230420T130810Z
UID:9004-1682431200-1682436600@fermi.univ-tlse3.fr
SUMMARY:Propriétés critiques de la chaîne de Majorana avec des interactions concurrentes. - (Natalia Chepiga /  LPT / Seminar). - 25/04/2023\, 14H
DESCRIPTION:Natalia Chepiga (TU Delft) \nSeminar LPT\, 25 avril 2023\, 14H\, 3R1\, seminar room\, 3rd floor \nSummary : \n\nI will present our recent study of the critical properties of a Majorana chain in the presence of two competing interactions of the shortest possible range. The obtained phase diagram is very rich and contains nine different phases\, including three floating\, two Ising\, and four gapped phases. In addition I will overview a wide variety of quantum phase transitions present in the system : the supersymmetric tri-critical Ising lines ; the Lifshitz critical line characterized by the dynamical critical exponent z=3 ; Kosterlitz-Thouless transitions\, and an exotic first order transition between the floating and the gapped phases. I will discuss in detail the surprising feature of the obtained phase diagram – the emergence of the commensurate line at which the floating phases collapse into a direct transition. I will show numerical evidence that the resulting multi-critical point belongs to the universality class of the eight-vertex model. \n\n 
URL:https://fermi.univ-tlse3.fr/event/proprietes-critiques-de-la-chaine-de-majorana-avec-des-interactions-concurrentes-natalia-chepiga-lpt-seminar-25-04-2023-14h/
LOCATION:salle de séminaire 3ème étage\, Bâtiment 3r1 Université Toulouse III\, Toulouse\, 31400\, France
CATEGORIES:Events,LPT,Seminars
END:VEVENT
END:VCALENDAR