BEGIN:VCALENDAR
VERSION:2.0
PRODID:-//FeRMI - ECPv6.15.20//NONSGML v1.0//EN
CALSCALE:GREGORIAN
METHOD:PUBLISH
X-WR-CALNAME:FeRMI
X-ORIGINAL-URL:https://fermi.univ-tlse3.fr
X-WR-CALDESC:Évènements pour FeRMI
REFRESH-INTERVAL;VALUE=DURATION:PT1H
X-Robots-Tag:noindex
X-PUBLISHED-TTL:PT1H
BEGIN:VTIMEZONE
TZID:Europe/Paris
BEGIN:DAYLIGHT
TZOFFSETFROM:+0100
TZOFFSETTO:+0200
TZNAME:CEST
DTSTART:20220327T010000
END:DAYLIGHT
BEGIN:STANDARD
TZOFFSETFROM:+0200
TZOFFSETTO:+0100
TZNAME:CET
DTSTART:20221030T010000
END:STANDARD
BEGIN:DAYLIGHT
TZOFFSETFROM:+0100
TZOFFSETTO:+0200
TZNAME:CEST
DTSTART:20230326T010000
END:DAYLIGHT
BEGIN:STANDARD
TZOFFSETFROM:+0200
TZOFFSETTO:+0100
TZNAME:CET
DTSTART:20231029T010000
END:STANDARD
BEGIN:DAYLIGHT
TZOFFSETFROM:+0100
TZOFFSETTO:+0200
TZNAME:CEST
DTSTART:20240331T010000
END:DAYLIGHT
BEGIN:STANDARD
TZOFFSETFROM:+0200
TZOFFSETTO:+0100
TZNAME:CET
DTSTART:20241027T010000
END:STANDARD
END:VTIMEZONE
BEGIN:VEVENT
DTSTART;TZID=Europe/Paris:20231012T140000
DTEND;TZID=Europe/Paris:20231012T153000
DTSTAMP:20260422T200146
CREATED:20231009T070757Z
LAST-MODIFIED:20231010T121343Z
UID:9200-1697119200-1697124600@fermi.univ-tlse3.fr
SUMMARY:Organometallic Tools Applied to Metal Nanoparticle Catalysis.- (Luis Miguel Martínez Prieto/LPCNO/Séminaire). – 12/10/2023\, 14H
DESCRIPTION:Luis Miguel Martínez Prieto (Instituto de Investigaciones Químicas\, Sevilla) \nSéminaire LPCNO\, Salle des séminaires. – Bât. 27\, Salle 2.20 (2ème étage gauche)\, INSA\, 135 av. de Rangueil\, Toulouse
URL:https://fermi.univ-tlse3.fr/event/organometallic-tools-applied-to-metal-nanoparticle-catalysis-luis-miguel-martinez-prieto-lpcno-seminaire-12-10-2023-14h/
LOCATION:Salle 220\, LPCNO\, INSA – LPCNO : 135 avenue de Rangueil\, toulouse\, 31077\, France
CATEGORIES:Events,LPCNO,Seminars
END:VEVENT
BEGIN:VEVENT
DTSTART;TZID=Europe/Paris:20231017T140000
DTEND;TZID=Europe/Paris:20231017T153000
DTSTAMP:20260422T200146
CREATED:20231007T093643Z
LAST-MODIFIED:20231010T123433Z
UID:9041-1697551200-1697556600@fermi.univ-tlse3.fr
SUMMARY:A glimpse of the 4th dimension in a spin liquid - (Ludovic Jaubert / LPT / Seminar). - 17/10/2023\, 14H
DESCRIPTION:Ludovic Jaubert  (LOMA\, Bordeaux) \nSeminar LPT\, 17/10/2023\, 14H\, 3R1\, seminar room\, 3rd floor \nSummary :\nWhat we colloquially know about frustration\, is that it prevents magnetic order. But the interesting part is not so much the absence of something\, but rather what happens in its place.\nFrustration usually stems from one of only two elementary units of spins : either triangles or tetrahedra. In this seminar we will explore an alternative route for frustration via molecular design in the metal-azolate framework [Mn(ta)2]\, whose units are centred tetrahedra made of five spins [1]. Using a combination of experiments\, simulations and field theory\, we will show that this material is proximate to a spin liquid that possesses one of the largest phase-space manifold known in the literature\, even more degenerate than canonical models on the pyrochlore and kagome lattices. In addition\, it is described by an emergent Coulomb gauge field theory coupled to charges\, that can be seen as a « three-dimensional slab » of a four-dimensional structure [1\,2]. In that sense\, the description of this spin liquid is reminiscent of quasi-crystals\, that are better understood in D+1 dimensions. Finally\, we will explain how it evolves in presence of perturbations such as further neighbour couplings [1\,2].\nBy varying the ligand and nature of the magnetic ion\, we are convinced that metal-organic frameworks unlock a new door in frustrated magnetism beyond the standard kagome and pyrochlore structures. \n[1] Nutakki\, Röß-Ohlenroth\, Volkmer\, Jesche\, Krug von Nidda\, Tsirlin\, Gegenwart\, Pollet & Jaubert\, Physical Review Research 5\, L022018 (2023)\n[2] Nutakki\, Pollet & Jaubert\, SciPost 15\, 040 (2023)
URL:https://fermi.univ-tlse3.fr/event/tba-ludovic-jaubert-lpt-seminar-17-10-2023-14h/
LOCATION:salle de séminaire 3ème étage\, Bâtiment 3r1 Université Toulouse III\, Toulouse\, 31400\, France
CATEGORIES:Events,LPT,Seminars
END:VEVENT
BEGIN:VEVENT
DTSTART;TZID=Europe/Paris:20231019T143000
DTEND;TZID=Europe/Paris:20231019T160000
DTSTAMP:20260422T200146
CREATED:20231018T060021Z
LAST-MODIFIED:20231018T063534Z
UID:9207-1697725800-1697731200@fermi.univ-tlse3.fr
SUMMARY:Interdisciplinarités à l’œuvre pour la restauration des peintures de Pierre Soulages. - (Pauline Hélou-de La Grandière & Mathieu Thoury /  Seminar / CEMES). - 19/10/2023\, 14H30
DESCRIPTION:Les séminaires du jeudi\n \nPauline Hélou-de La Grandière   doctorante à Cy-Paris Université et restauratrice du patrimoine indépendante\nMathieu Thoury chercheur sur la plate-forme Matériaux Anciens à IPANEMA\, CNRS/MCC \nRésumé :\nComme d’autres œuvres de la seconde École de Paris\, certaines peintures de Pierre Soulages (datées de 1959 et 1960) présentent des dégradations singulières qui consistent en clivages\, ramollissements des liants\, blanchiments ou décolorations de la surface et gouttes qui suintent des empâtements. Ces altérations sont difficiles à stabiliser et les restaurations restent donc problématiques : Ce constat a donné naissance au projet “NOIRŒS”\, pour Nouveaux Outils Interdisciplinaires pour la Restauration des œuvres de Soulages\, doctorat de l’Ecole Universitaire de Recherche Humanités\, Création et Patrimoine à l’Université Cergy Paris (2020-2023)\, présenté par Pauline Hélou-de La Grandière\, dirigé par Thierry Sarmant (CY Cergy Paris Université)\, et co-encadré par Mathieu Thoury (IPANEMA) et Lionel Simonot (Université de Poitiers). Le doctorat est concentré sur la période la plus emblématique pour ces dégradations\, entre 1959 et 1960 : il mène à la fois une étude historique sur la technique du peintre\, une étude comparative des états de conservation des œuvres et la restauration de quelques œuvres emblématiques\, mais il s’attache aussi à étudier les propriétés optiques des œuvres\, puisque leur modification altère avec une très forte incidence le rendu artistique désiré par le peintre. Cette démarche a demandé des développements interdisciplinaires\, pour un travail d’exploration de la matière\, dans son parcours historique\, ses caractéristiques physico-chimiques\, et les possibilités de stabilisation en conservation et restauration.
URL:https://fermi.univ-tlse3.fr/event/interdisciplinarites-a-loeuvre-pour-la-restauration-des-peintures-de-pierre-soulages-pauline-helou-de-la-grandiere-mathieu-thoury-seminar-cemes-19-10-2023-14h30/
LOCATION:salle de conférence du CEMES\, CEMES - 29\, rue Jeanne Marvig BP 94347\, Toulouse\, 31055\, France
CATEGORIES:CEMES,Events,Seminars
END:VEVENT
BEGIN:VEVENT
DTSTART;TZID=Europe/Paris:20231024T080000
DTEND;TZID=Europe/Paris:20231024T153000
DTSTAMP:20260422T200146
CREATED:20231017T120043Z
LAST-MODIFIED:20231018T063554Z
UID:9225-1698134400-1698161400@fermi.univ-tlse3.fr
SUMMARY:TBA. - (Flavia A. Gómez Albarracín / LPT / Seminar). - 24/10/2023\, 14H
DESCRIPTION:Flavia A. Gómez Albarracín [IFLySiB (CONICET – UNLP)\, La Plata\, Argentine] \nSeminar LPT\, 24/10/2023\, 14H\, 3R1\, seminar room\, 3rd floor
URL:https://fermi.univ-tlse3.fr/event/tba-flavia-a-gomez-albarracin-lpt-seminar-24-10-2023-14h/
LOCATION:salle de séminaire 3ème étage\, Bâtiment 3r1 Université Toulouse III\, Toulouse\, 31400\, France
CATEGORIES:Events,LPT,Seminars
END:VEVENT
END:VCALENDAR