BEGIN:VCALENDAR
VERSION:2.0
PRODID:-//FeRMI - ECPv6.15.20//NONSGML v1.0//EN
CALSCALE:GREGORIAN
METHOD:PUBLISH
X-WR-CALNAME:FeRMI
X-ORIGINAL-URL:https://fermi.univ-tlse3.fr
X-WR-CALDESC:Évènements pour FeRMI
REFRESH-INTERVAL;VALUE=DURATION:PT1H
X-Robots-Tag:noindex
X-PUBLISHED-TTL:PT1H
BEGIN:VTIMEZONE
TZID:Europe/Paris
BEGIN:DAYLIGHT
TZOFFSETFROM:+0100
TZOFFSETTO:+0200
TZNAME:CEST
DTSTART:20230326T010000
END:DAYLIGHT
BEGIN:STANDARD
TZOFFSETFROM:+0200
TZOFFSETTO:+0100
TZNAME:CET
DTSTART:20231029T010000
END:STANDARD
BEGIN:DAYLIGHT
TZOFFSETFROM:+0100
TZOFFSETTO:+0200
TZNAME:CEST
DTSTART:20240331T010000
END:DAYLIGHT
BEGIN:STANDARD
TZOFFSETFROM:+0200
TZOFFSETTO:+0100
TZNAME:CET
DTSTART:20241027T010000
END:STANDARD
BEGIN:DAYLIGHT
TZOFFSETFROM:+0100
TZOFFSETTO:+0200
TZNAME:CEST
DTSTART:20250330T010000
END:DAYLIGHT
BEGIN:STANDARD
TZOFFSETFROM:+0200
TZOFFSETTO:+0100
TZNAME:CET
DTSTART:20251026T010000
END:STANDARD
END:VTIMEZONE
BEGIN:VEVENT
DTSTART;TZID=Europe/Paris:20240606T110000
DTEND;TZID=Europe/Paris:20240606T123000
DTSTAMP:20260423T102137
CREATED:20240603T061206Z
LAST-MODIFIED:20240603T081358Z
UID:10874-1717671600-1717677000@fermi.univ-tlse3.fr
SUMMARY:My sabbatical adventures- Emerging quantum coherence in lead-halide perovskites. - (Anna Swan/  Seminar / CEMES). - 6/06/2024\, 11H
DESCRIPTION:Les séminaires du jeudi\n \nAnna Swan\,  Associate Professor\, Boston University College of Engineering  \nConnexion à distance  \nhttps://cnrs.zoom.us/j/92868637084?pwd=edKIh1GKjMvwox9Q0Fum8vjsPuTiCh.1 \nID de réunion: 928 6863 7084 \nCode secret: Bwk5U9
URL:https://fermi.univ-tlse3.fr/event/my-sabbatical-adventures-emerging-quantum-coherence-in-lead-halide-perovskites-anna-swan-seminar-cemes-6-06-2024-11h/
LOCATION:Visio
CATEGORIES:CEMES,Events,Seminars
END:VEVENT
BEGIN:VEVENT
DTSTART;TZID=Europe/Paris:20240606T110000
DTEND;TZID=Europe/Paris:20240606T123000
DTSTAMP:20260423T102137
CREATED:20240603T080637Z
LAST-MODIFIED:20240603T080706Z
UID:10870-1717671600-1717677000@fermi.univ-tlse3.fr
SUMMARY:Cryogenic 22 pole radio frequency ion traps as a tool for Astrophysics: Spectroscopy and reactivity measurements. - (Pavol Jusko / LCAR / Seminar). - 6/06/2024\, 11H
DESCRIPTION:Pavol Jusko\,  Max–Planck–Institut für extraterrestrische Physik\, Garching\, Germany \nSéminaire LCAR – Jeudi 6 juin\, 11H. – Salle de séminaire\, 3R1 \nSummary :\nThe variable temperature cryogenic 22 pole traps have found many applications from fundamental physics to astrophysics. The lowest attainable temperature\, around 4 K\, allows the confinement of cold ions and is low enough to be used to attach He\, Ne to the ions of interest. The tunable radiation (from GHz to UV) can be used to influence the stored ions (or complexes) and many action spectroscopic schemes are possible. At the same time\, different gases can be admitted to the trap volume during the experimental sequence\, allowing the reactivity studies and determination of ion molecule reaction rate coefficients. More recently\, the chemical probing and laser probing can be used to make the studies inside the trap isomer specific. The talk will focus on few systems studied at FELIX laser\, e.g.\, C5H5+/-\, and on indenyl (C9H7+/-) cation and anion and fluorenyl anion (C13H9-)\, and systems studied in 22 pole trap in Garching\, e.g.\, isomer sensitive studies of HCN+/HNC+ and HCO+/HOC+.
URL:https://fermi.univ-tlse3.fr/event/cryogenic-22-pole-radio-frequency-ion-traps-as-a-tool-for-astrophysics-spectroscopy-and-reactivity-measurements-pavol-jusko-lcar-seminar-6-06-2024-11h/
LOCATION:salle de séminaire 3ème étage\, Bâtiment 3r1 Université Toulouse III\, Toulouse\, 31400\, France
CATEGORIES:Events,LCAR,Seminars
END:VEVENT
BEGIN:VEVENT
DTSTART;TZID=Europe/Paris:20240614T110000
DTEND;TZID=Europe/Paris:20240614T123000
DTSTAMP:20260423T102137
CREATED:20240527T063030Z
LAST-MODIFIED:20240716T082304Z
UID:10867-1718362800-1718368200@fermi.univ-tlse3.fr
SUMMARY:La pollinisation\, une affaire de réseau ?. - (Monique Burrus et André Pornon /  Seminar / FeRMI). - 14/06/2024\, 11H
DESCRIPTION:Séminaires d’ouverture FeRMI\n \nMonique Burrus et André Pornon\,   CRBE (UT3/CNRS\, Toulouse)  \nRésumé :\nIndispensable à la reproduction des plantes à fleurs\, la pollinisation est essentiellement assurée par des insectes. Chaque pollinisateur dispose de sa ou ses espèces privilégiées et réciproquement\, mais attention\, tout se déroule sous l’influence occulte des autres espèces.\nVenez découvrir les réseaux secrets de la pollinisation ! \n 
URL:https://fermi.univ-tlse3.fr/event/la-pollinisation-une-affaire-de-reseau-monique-burrus-et-andre-pornon-seminar-fermi-14-06-2024-11h/
LOCATION:Salle de conférence\, Bâtiment 3R4
CATEGORIES:Events,FeRMIsem,Seminars
ATTACH;FMTTYPE=image/jpeg:https://fermi.univ-tlse3.fr/wp-content/uploads/2024/05/seminaire_Pollinisation-Fermi.jpg
END:VEVENT
BEGIN:VEVENT
DTSTART;TZID=Europe/Paris:20240621T110000
DTEND;TZID=Europe/Paris:20240621T123000
DTSTAMP:20260423T102137
CREATED:20240617T115751Z
LAST-MODIFIED:20240617T115751Z
UID:10894-1718967600-1718973000@fermi.univ-tlse3.fr
SUMMARY:Le paysage de localisation des ondes. - (Marcel Filoche / Seminar/ SFP). - 21/06/2024\, 11H
DESCRIPTION:Marcel Filoche (Institut Langevin\, ESPCI\, Paris) \nLieu : Salle de conférence\, nouveau Bâtiment 3R4 \nRésumé :\nDans les milieux complexes ou désordonnés\, les ondes stationnaires peuvent subir un phénomène étrange qui intrigue les physiciens et les mathématiciens depuis plus de 60 ans\, baptisé « localisation ». Cette localisation\, qui consiste en une concentration de l’énergie dans une sous-région très restreinte du domaine complet\, a des conséquences majeures dans de nombreux domaines sur les propriétés de vibrations\, de propagation ou de transport électronique. Elle a été démontrée expérimentalement en mécanique\, en acoustique\, en électromagnétique et en physique quantique. Nous présenterons une théorie qui met en évidence l’existence une structure sous-jacente et universelle\, le paysage de localisation\, obtenue par résolution d’un problème associé à l’équation des ondes [1]. \nDans les systèmes quantiques\, ce paysage permet notamment de définir un « potentiel effectif » qui prédit les régions de localisation\, les énergies des modes localisés\, la densité d’états\, ainsi que la décroissance à longue portée des fonctions d’onde. Cette théorie est applicable quelle que soit la dimension\, pour les systèmes continus ou discrets. Enfin\, nous passerons en revue les applications de cette théorie en mécanique\, en physique des semi-conducteurs\, ainsi que dans les systèmes moléculaires et d’atomes froids. \nTéléchargez l’affiche : ici \n[1] M. Filoche & S. Mayboroda\, PNAS (2012) 109:14761-14766.
URL:https://fermi.univ-tlse3.fr/event/le-paysage-de-localisation-des-ondes-marcel-filoche-seminar-sfp-21-06-2024-11h/
LOCATION:Salle de conférence\, Bâtiment 3R4
CATEGORIES:Events,Seminars,SFP / SFC
ATTACH;FMTTYPE=image/jpeg:https://fermi.univ-tlse3.fr/wp-content/uploads/2024/06/SFP_Filoche_21juin24.jpg
END:VEVENT
BEGIN:VEVENT
DTSTART;TZID=Europe/Paris:20240626T160000
DTEND;TZID=Europe/Paris:20240626T160000
DTSTAMP:20260423T102137
CREATED:20240617T071224Z
LAST-MODIFIED:20240617T071224Z
UID:10890-1719417600-1719417600@fermi.univ-tlse3.fr
SUMMARY:II-V quantum dots - Optical applications  . - ( Sohee Jeong / LPCNO / Seminar). - 26/06/2024\, 16H
DESCRIPTION:Sohee Jeong\, QNRL (Quantum-confined Nano-crystal Research Laboratory) / SKKU\, South Korea \nSéminaire LPCNO\, seminar room\, INSA\, Build. 27\, Room 2.20 (2nd floor left)
URL:https://fermi.univ-tlse3.fr/event/ii-v-quantum-dots-optical-applications-sohee-jeong-lpcno-seminar-26-06-2024-16h/
LOCATION:Salle 220\, LPCNO\, INSA – LPCNO : 135 avenue de Rangueil\, toulouse\, 31077\, France
CATEGORIES:Events,LPCNO,Seminars
END:VEVENT
END:VCALENDAR