BEGIN:VCALENDAR
VERSION:2.0
PRODID:-//FeRMI - ECPv6.15.20//NONSGML v1.0//EN
CALSCALE:GREGORIAN
METHOD:PUBLISH
X-WR-CALNAME:FeRMI
X-ORIGINAL-URL:https://fermi.univ-tlse3.fr
X-WR-CALDESC:Évènements pour FeRMI
REFRESH-INTERVAL;VALUE=DURATION:PT1H
X-Robots-Tag:noindex
X-PUBLISHED-TTL:PT1H
BEGIN:VTIMEZONE
TZID:Europe/Paris
BEGIN:DAYLIGHT
TZOFFSETFROM:+0100
TZOFFSETTO:+0200
TZNAME:CEST
DTSTART:20200329T010000
END:DAYLIGHT
BEGIN:STANDARD
TZOFFSETFROM:+0200
TZOFFSETTO:+0100
TZNAME:CET
DTSTART:20201025T010000
END:STANDARD
BEGIN:DAYLIGHT
TZOFFSETFROM:+0100
TZOFFSETTO:+0200
TZNAME:CEST
DTSTART:20210328T010000
END:DAYLIGHT
BEGIN:STANDARD
TZOFFSETFROM:+0200
TZOFFSETTO:+0100
TZNAME:CET
DTSTART:20211031T010000
END:STANDARD
BEGIN:DAYLIGHT
TZOFFSETFROM:+0100
TZOFFSETTO:+0200
TZNAME:CEST
DTSTART:20220327T010000
END:DAYLIGHT
BEGIN:STANDARD
TZOFFSETFROM:+0200
TZOFFSETTO:+0100
TZNAME:CET
DTSTART:20221030T010000
END:STANDARD
END:VTIMEZONE
BEGIN:VEVENT
DTSTART;TZID=Europe/Paris:20211109T140000
DTEND;TZID=Europe/Paris:20211109T160000
DTSTAMP:20260425T051641
CREATED:20210915T080726Z
LAST-MODIFIED:20211011T094825Z
UID:6445-1636466400-1636473600@fermi.univ-tlse3.fr
SUMMARY:Topological barriers of the bacterial genome (Marc Joyeux / LPT / Seminar) - 9/11\, 14H.
DESCRIPTION:Marc Joyeux (Université Grenoble Alpes) \nBacterial genomes are partitioned into several kilobases long chromosomal domains that are topologically independent from each other\, meaning that changes of DNA superhelicity in one domain do not propagate to neighbors. Both in vivo and in vitro experiments have been performed to question the nature of the topological barriers at play\, leading to several predictions on possible molecular actors. \nIn this talk\, I will address the question of topological barriers using coarse-grained polymer models of supercoiled DNA chains\, which are constrained such as to mimic the action of predicted molecular actors. More specifically\, I will first discuss under which conditions DNA-bridging proteins may act as topological barriers. Then\, I will address the question of the effect of topological barriers on DNA subject to both tension and torque and discuss the mechanism that allows DNA loops secured by a topological barrier to constrain a number of gyres much larger than expected from their length.
URL:https://fermi.univ-tlse3.fr/event/topological-barriers-of-the-bacterial-genome-marc-joyeux-lpt-seminar/
LOCATION:Visio
CATEGORIES:Events,LPT,Seminars
END:VEVENT
END:VCALENDAR