BEGIN:VCALENDAR
VERSION:2.0
PRODID:-//FeRMI - ECPv6.15.20//NONSGML v1.0//EN
CALSCALE:GREGORIAN
METHOD:PUBLISH
X-WR-CALNAME:FeRMI
X-ORIGINAL-URL:https://fermi.univ-tlse3.fr
X-WR-CALDESC:Évènements pour FeRMI
REFRESH-INTERVAL;VALUE=DURATION:PT1H
X-Robots-Tag:noindex
X-PUBLISHED-TTL:PT1H
BEGIN:VTIMEZONE
TZID:Europe/Paris
BEGIN:DAYLIGHT
TZOFFSETFROM:+0100
TZOFFSETTO:+0200
TZNAME:CEST
DTSTART:20200329T010000
END:DAYLIGHT
BEGIN:STANDARD
TZOFFSETFROM:+0200
TZOFFSETTO:+0100
TZNAME:CET
DTSTART:20201025T010000
END:STANDARD
BEGIN:DAYLIGHT
TZOFFSETFROM:+0100
TZOFFSETTO:+0200
TZNAME:CEST
DTSTART:20210328T010000
END:DAYLIGHT
BEGIN:STANDARD
TZOFFSETFROM:+0200
TZOFFSETTO:+0100
TZNAME:CET
DTSTART:20211031T010000
END:STANDARD
BEGIN:DAYLIGHT
TZOFFSETFROM:+0100
TZOFFSETTO:+0200
TZNAME:CEST
DTSTART:20220327T010000
END:DAYLIGHT
BEGIN:STANDARD
TZOFFSETFROM:+0200
TZOFFSETTO:+0100
TZNAME:CET
DTSTART:20221030T010000
END:STANDARD
END:VTIMEZONE
BEGIN:VEVENT
DTSTART;TZID=Europe/Paris:20211203T110000
DTEND;TZID=Europe/Paris:20211203T123000
DTSTAMP:20260425T040458
CREATED:20211126T153129Z
LAST-MODIFIED:20211129T081108Z
UID:7540-1638529200-1638534600@fermi.univ-tlse3.fr
SUMMARY:Time-evolution of local information : thermalization dynamics of local observables (Loïc Herviou / LPT / Seminar). - 3/12\, 11H.
DESCRIPTION:Loïc Herviou (EPFL\, Lausanne) \nAbstract : Understanding thermalization in closed quantum mechanics remains a subtle problem. As the occupancies of the Hamiltonian eigenstates are conserved\, thermalization occurs when eigenstates close in energy share similar local observables. In this talk\, I will discuss thermalization through the point of view of information. I will introduce a concept of information lattice\, which allows to represent the information flow using locality as an additional dimension. Thermalization then corresponds to a flow of the state specific information to a non-local range. Based on this observation\, I will propose a tentative algorithm that allows to simulate large scale dissipative systems at long times. \n  \n\n  \n 
URL:https://fermi.univ-tlse3.fr/event/tba-loic-herviou-lpt-seminar-3-12-11h/
LOCATION:salle 20\, RDC\, Bâtiment 3r1 Université Toulouse III\, Toulouse\, 31400\, France
CATEGORIES:Events,LPT,Seminars
END:VEVENT
BEGIN:VEVENT
DTSTART;TZID=Europe/Paris:20211203T110000
DTEND;TZID=Europe/Paris:20211203T130000
DTSTAMP:20260425T040458
CREATED:20211130T075600Z
LAST-MODIFIED:20211130T075600Z
UID:7605-1638529200-1638536400@fermi.univ-tlse3.fr
SUMMARY:Microscopic processes for hydrogen chemisorbed on graphene: permeation and recombination (Marta Hernández / LCAR / Seminar). - 3/12\, 11H
DESCRIPTION:Marta Hernández (Instituto de Física Fundamental (IFF-CSIC) \nDownload presentation  : Hernandez_LCAR_dec21
URL:https://fermi.univ-tlse3.fr/event/microscopic-processes-for-hydrogen-chemisorbed-on-graphene-permeation-and-recombination-marta-hernandez-lcar-seminar-3-12-11h/
LOCATION:salle de séminaire 3ème étage\, Bâtiment 3r1 Université Toulouse III\, Toulouse\, 31400\, France
CATEGORIES:Events,LCAR,Seminars
END:VEVENT
END:VCALENDAR