BEGIN:VCALENDAR
VERSION:2.0
PRODID:-//FeRMI - ECPv6.15.20//NONSGML v1.0//EN
CALSCALE:GREGORIAN
METHOD:PUBLISH
X-WR-CALNAME:FeRMI
X-ORIGINAL-URL:https://fermi.univ-tlse3.fr
X-WR-CALDESC:Évènements pour FeRMI
REFRESH-INTERVAL;VALUE=DURATION:PT1H
X-Robots-Tag:noindex
X-PUBLISHED-TTL:PT1H
BEGIN:VTIMEZONE
TZID:Europe/Paris
BEGIN:DAYLIGHT
TZOFFSETFROM:+0100
TZOFFSETTO:+0200
TZNAME:CEST
DTSTART:20210328T010000
END:DAYLIGHT
BEGIN:STANDARD
TZOFFSETFROM:+0200
TZOFFSETTO:+0100
TZNAME:CET
DTSTART:20211031T010000
END:STANDARD
BEGIN:DAYLIGHT
TZOFFSETFROM:+0100
TZOFFSETTO:+0200
TZNAME:CEST
DTSTART:20220327T010000
END:DAYLIGHT
BEGIN:STANDARD
TZOFFSETFROM:+0200
TZOFFSETTO:+0100
TZNAME:CET
DTSTART:20221030T010000
END:STANDARD
BEGIN:DAYLIGHT
TZOFFSETFROM:+0100
TZOFFSETTO:+0200
TZNAME:CEST
DTSTART:20230326T010000
END:DAYLIGHT
BEGIN:STANDARD
TZOFFSETFROM:+0200
TZOFFSETTO:+0100
TZNAME:CET
DTSTART:20231029T010000
END:STANDARD
END:VTIMEZONE
BEGIN:VEVENT
DTSTART;TZID=Europe/Paris:20220519T110000
DTEND;TZID=Europe/Paris:20220519T123000
DTSTAMP:20260424T215725
CREATED:20220505T072541Z
LAST-MODIFIED:20220525T061610Z
UID:8096-1652958000-1652963400@fermi.univ-tlse3.fr
SUMMARY:Faire interagir l’art et la science pour communiquer avec la société (Giancarlo Rizza / CEMES / Seminar). - 19/05/2022\, 11H
DESCRIPTION:Séminaire du jeudi : \nGiancarlo Rizza (chercheur au Laboratoire des Solides Irradiés (LSI)\, Institut Polytechnique de Paris\, CEA/DRF/IRAMIS\, CNRS ) \nRésumé du séminaire: \nBien que les activités en art-et-science soient de plus en plus répandues\, celles-ci sont encore regardées d’un œil condescendant par une partie du milieu scientifique. Cela est particulièrement vrai en science de la matière. Ce malentendu repose sur la méconnaissance de l’incidence que cette pratique peut avoir sur les activités de recherche ainsi que sur la dissémination des idées. De plus\, art-et-science représente un espace critique qui permet de se questionner sur l’impact sociétale de la science et des technologies ainsi qu’un moyen d’interagir avec la société civile autrement que par le langage technique. En effet\, au cours de l’histoire de l’homme\, ces deux pratiques se sont toujours parlées pour trouver leur acmé pendant la Renaissance. L’essor de la philosophie moderne (Descartes\, Pascal…) a pour un temps séparé les chemins de ces deux disciplines\, qui ont recommencé à dialoguer au début du XXème siècle. \nLors de ce séminaire pédagogique\, après une introduction historique\, j’expliquerai comment les activités dites « artistiques » et celles « scientifique » en réalité s’apparentent. J’introduirai ensuite la chaire arts&sciences (École polytechnique\, École nationale supérieure des Arts Décoratifs (ENSAD)\, PSL et la Fondation Daniel et Nina Carasso). Celle-ci peut être vue comme un espace d’invention\, qui sonde la richesse et la complexité des relations entre les deux disciplines et qui a pour mission d’explorer de nouvelles formes de création et de communication. Je positionnerai ensuite cela dans le contexte plus large de l’Institut Polytechnique de Paris. Pour conclure\, je décrirai mes activités et mes engagements dans le cadre de la chaire. \n 
URL:https://fermi.univ-tlse3.fr/event/faire-interagir-lart-et-la-science-pour-communiquer-avec-la-societe-giancarlo-rizza-cemes-seminar-19-05-2022-11h/
LOCATION:salle de conférence du CEMES\, CEMES - 29\, rue Jeanne Marvig BP 94347\, Toulouse\, 31055\, France
CATEGORIES:CEMES,Events,Seminars
END:VEVENT
END:VCALENDAR