BEGIN:VCALENDAR
VERSION:2.0
PRODID:-//FeRMI - ECPv6.15.20//NONSGML v1.0//EN
CALSCALE:GREGORIAN
METHOD:PUBLISH
X-WR-CALNAME:FeRMI
X-ORIGINAL-URL:https://fermi.univ-tlse3.fr
X-WR-CALDESC:Évènements pour FeRMI
REFRESH-INTERVAL;VALUE=DURATION:PT1H
X-Robots-Tag:noindex
X-PUBLISHED-TTL:PT1H
BEGIN:VTIMEZONE
TZID:Europe/Paris
BEGIN:DAYLIGHT
TZOFFSETFROM:+0100
TZOFFSETTO:+0200
TZNAME:CEST
DTSTART:20210328T010000
END:DAYLIGHT
BEGIN:STANDARD
TZOFFSETFROM:+0200
TZOFFSETTO:+0100
TZNAME:CET
DTSTART:20211031T010000
END:STANDARD
BEGIN:DAYLIGHT
TZOFFSETFROM:+0100
TZOFFSETTO:+0200
TZNAME:CEST
DTSTART:20220327T010000
END:DAYLIGHT
BEGIN:STANDARD
TZOFFSETFROM:+0200
TZOFFSETTO:+0100
TZNAME:CET
DTSTART:20221030T010000
END:STANDARD
BEGIN:DAYLIGHT
TZOFFSETFROM:+0100
TZOFFSETTO:+0200
TZNAME:CEST
DTSTART:20230326T010000
END:DAYLIGHT
BEGIN:STANDARD
TZOFFSETFROM:+0200
TZOFFSETTO:+0100
TZNAME:CET
DTSTART:20231029T010000
END:STANDARD
END:VTIMEZONE
BEGIN:VEVENT
DTSTART;TZID=Europe/Paris:20220916T103000
DTEND;TZID=Europe/Paris:20220916T123000
DTSTAMP:20260424T121014
CREATED:20220912T060006Z
LAST-MODIFIED:20220919T085335Z
UID:8240-1663324200-1663331400@fermi.univ-tlse3.fr
SUMMARY:Nanoscale coherent optical excitations in the scanning electron microscope (Albert Polman / CEMES / Seminar). - 16/09/22\, 10H30
DESCRIPTION:Albert Polman is a group leader at AMOLF in the Netherlands. His group is primarily interested in the use of cathodoluminescence in photonic materials\, as well as light management in photovoltaic and optical metamaterials. \n 
URL:https://fermi.univ-tlse3.fr/event/nanoscale-coherent-optical-excitations-in-the-scanning-electron-microscope-albert-polman-cemes-seminar-16-09-22-10h30/
LOCATION:salle de conférence du CEMES\, CEMES - 29\, rue Jeanne Marvig BP 94347\, Toulouse\, 31055\, France
CATEGORIES:CEMES,Events,Seminars
END:VEVENT
END:VCALENDAR