BEGIN:VCALENDAR
VERSION:2.0
PRODID:-//FeRMI - ECPv6.15.20//NONSGML v1.0//EN
CALSCALE:GREGORIAN
METHOD:PUBLISH
X-ORIGINAL-URL:https://fermi.univ-tlse3.fr
X-WR-CALDESC:Évènements pour FeRMI
REFRESH-INTERVAL;VALUE=DURATION:PT1H
X-Robots-Tag:noindex
X-PUBLISHED-TTL:PT1H
BEGIN:VTIMEZONE
TZID:Europe/Paris
BEGIN:DAYLIGHT
TZOFFSETFROM:+0100
TZOFFSETTO:+0200
TZNAME:CEST
DTSTART:20210328T010000
END:DAYLIGHT
BEGIN:STANDARD
TZOFFSETFROM:+0200
TZOFFSETTO:+0100
TZNAME:CET
DTSTART:20211031T010000
END:STANDARD
BEGIN:DAYLIGHT
TZOFFSETFROM:+0100
TZOFFSETTO:+0200
TZNAME:CEST
DTSTART:20220327T010000
END:DAYLIGHT
BEGIN:STANDARD
TZOFFSETFROM:+0200
TZOFFSETTO:+0100
TZNAME:CET
DTSTART:20221030T010000
END:STANDARD
BEGIN:DAYLIGHT
TZOFFSETFROM:+0100
TZOFFSETTO:+0200
TZNAME:CEST
DTSTART:20230326T010000
END:DAYLIGHT
BEGIN:STANDARD
TZOFFSETFROM:+0200
TZOFFSETTO:+0100
TZNAME:CET
DTSTART:20231029T010000
END:STANDARD
END:VTIMEZONE
BEGIN:VEVENT
DTSTART;TZID=Europe/Paris:20221019T110000
DTEND;TZID=Europe/Paris:20221019T133000
DTSTAMP:20260424T094425
CREATED:20221019T060049Z
LAST-MODIFIED:20221019T064444Z
UID:8473-1666177200-1666186200@fermi.univ-tlse3.fr
SUMMARY:Aperçu historique du développement de la thématique environnementale dans l’aéronautique (années 1950-années 1990). - (Clair Juilliet/ CEMES / Seminar) - 19/10/2022
DESCRIPTION:Les séminaires du jeudi (Mercredi !)\n \nClair Juilliet\, docteur en histoire\, laboratoire FRAMESPA (UMR 5136)\, Université Toulouse-Jean Jaurès \nLien zoom : https://cnrs.zoom.us/j/93885337151?pwd=anJLOHdjcXJMYmcvN1Q5bHZFU3ZtQT09 \nRésumé :Avec l’entrée de l’aviation dans l’ère du jet et le développement du transport aérien commercial\, la question des pollutions (bruit\, rejets de combustion\, etc.) générées par les avions s’est posée avec toujours plus d’acuité aux acteurs du secteur. Quand et pourquoi les acteurs de l’aéronautique ont-ils commencé à se préoccuper d’environnement ? Ce séminaire résume quelques-unes des grandes étapes de la prise en compte de la thématique environnementale au sein de l’aviation\, des années 1950 aux années 1990.
URL:https://fermi.univ-tlse3.fr/event/apercu-historique-du-developpement-de-la-thematique-environnementale-dans-laeronautique-annees-1950-annees-1990-clair-juilliet-cemes-seminar-19-10-2022/
LOCATION:salle de conférence du CEMES\, CEMES - 29\, rue Jeanne Marvig BP 94347\, Toulouse\, 31055\, France
CATEGORIES:CEMES,Events,Seminars
END:VEVENT
END:VCALENDAR