BEGIN:VCALENDAR
VERSION:2.0
PRODID:-//FeRMI - ECPv6.15.20//NONSGML v1.0//EN
CALSCALE:GREGORIAN
METHOD:PUBLISH
X-ORIGINAL-URL:https://fermi.univ-tlse3.fr
X-WR-CALDESC:Évènements pour FeRMI
REFRESH-INTERVAL;VALUE=DURATION:PT1H
X-Robots-Tag:noindex
X-PUBLISHED-TTL:PT1H
BEGIN:VTIMEZONE
TZID:Europe/Paris
BEGIN:DAYLIGHT
TZOFFSETFROM:+0100
TZOFFSETTO:+0200
TZNAME:CEST
DTSTART:20220327T010000
END:DAYLIGHT
BEGIN:STANDARD
TZOFFSETFROM:+0200
TZOFFSETTO:+0100
TZNAME:CET
DTSTART:20221030T010000
END:STANDARD
BEGIN:DAYLIGHT
TZOFFSETFROM:+0100
TZOFFSETTO:+0200
TZNAME:CEST
DTSTART:20230326T010000
END:DAYLIGHT
BEGIN:STANDARD
TZOFFSETFROM:+0200
TZOFFSETTO:+0100
TZNAME:CET
DTSTART:20231029T010000
END:STANDARD
BEGIN:DAYLIGHT
TZOFFSETFROM:+0100
TZOFFSETTO:+0200
TZNAME:CEST
DTSTART:20240331T010000
END:DAYLIGHT
BEGIN:STANDARD
TZOFFSETFROM:+0200
TZOFFSETTO:+0100
TZNAME:CET
DTSTART:20241027T010000
END:STANDARD
END:VTIMEZONE
BEGIN:VEVENT
DTSTART;TZID=Europe/Paris:20230210T110000
DTEND;TZID=Europe/Paris:20230210T123000
DTSTAMP:20260424T001240
CREATED:20230207T070001Z
LAST-MODIFIED:20230208T081202Z
UID:8809-1676026800-1676032200@fermi.univ-tlse3.fr
SUMMARY:Mesure du potentiel de Casimir-Polder entre un nanoréseau et des atomes d’argon métastables - (Gabriel Dutier /  LCAR / Seminar). - 10/02/23\, 11H
DESCRIPTION:Gabriel Dutier (Laboratoire Physique des Lasers (LPL)\, Institut Galilée – Université Paris 13\, Paris) \nSéminaire\, vendredi 10 février 11H. – Salle de séminaire\, 3R1\, 3ème étage \nRésumé :\nL’interaction électromagnétique entre un atome libre et une surface est appelée Casimir-Polder entre grosso modo 1 nm et quelques dizaines de micromètres. Elle regroupe asymptotiquement la force de van der Waals à très courte distance et la force de Casimir à très grande distance. Les processus en jeu sont de même nature qu’entre les célèbres 2 plaques métalliques qui s’attirent dans le vide prédit par Casimir en 1948 : ils sont liés à l’énergie du vide ou aux fluctuations du vide ou encore nommée l’énergie de point zéro. \nLes expériences de physique atomique qui mesurent ces forces sont rares car les échelles de distances sont particulièrement difficiles d’accès. Notre expérience utilise un jet d’atomes lents qui traverse un nanoréseau constitué de centaines de milliers de fentes de 100 nm de large. L’interprétation scrupuleuse puis métrologique de la figure de diffraction nous permet d’atteindre des précisions inégalée qui ouvre à une multitude de piste de recherche inaccessibles jusqu’à lors : contrainte sur la cinquième force\, marche aléatoire quantique\, interféromètres à onde de matière\, etc…
URL:https://fermi.univ-tlse3.fr/event/mesure-du-potentiel-de-casimir-polder-entre-un-nanoreseau-et-des-atomes-dargon-metastables-gabriel-dutier-lcar-seminar-10-02-23-11h/
LOCATION:salle de séminaire 3ème étage\, Bâtiment 3r1 Université Toulouse III\, Toulouse\, 31400\, France
CATEGORIES:Events,LCAR,Seminars
END:VEVENT
END:VCALENDAR