BEGIN:VCALENDAR
VERSION:2.0
PRODID:-//FeRMI - ECPv6.15.20//NONSGML v1.0//EN
CALSCALE:GREGORIAN
METHOD:PUBLISH
X-ORIGINAL-URL:https://fermi.univ-tlse3.fr
X-WR-CALDESC:Évènements pour FeRMI
REFRESH-INTERVAL;VALUE=DURATION:PT1H
X-Robots-Tag:noindex
X-PUBLISHED-TTL:PT1H
BEGIN:VTIMEZONE
TZID:Europe/Paris
BEGIN:DAYLIGHT
TZOFFSETFROM:+0100
TZOFFSETTO:+0200
TZNAME:CEST
DTSTART:20220327T010000
END:DAYLIGHT
BEGIN:STANDARD
TZOFFSETFROM:+0200
TZOFFSETTO:+0100
TZNAME:CET
DTSTART:20221030T010000
END:STANDARD
BEGIN:DAYLIGHT
TZOFFSETFROM:+0100
TZOFFSETTO:+0200
TZNAME:CEST
DTSTART:20230326T010000
END:DAYLIGHT
BEGIN:STANDARD
TZOFFSETFROM:+0200
TZOFFSETTO:+0100
TZNAME:CET
DTSTART:20231029T010000
END:STANDARD
BEGIN:DAYLIGHT
TZOFFSETFROM:+0100
TZOFFSETTO:+0200
TZNAME:CEST
DTSTART:20240331T010000
END:DAYLIGHT
BEGIN:STANDARD
TZOFFSETFROM:+0200
TZOFFSETTO:+0100
TZNAME:CET
DTSTART:20241027T010000
END:STANDARD
END:VTIMEZONE
BEGIN:VEVENT
DTSTART;TZID=Europe/Paris:20230303T110000
DTEND;TZID=Europe/Paris:20230303T123000
DTSTAMP:20260423T192522
CREATED:20230227T102139Z
LAST-MODIFIED:20230227T103747Z
UID:8887-1677841200-1677846600@fermi.univ-tlse3.fr
SUMMARY:Nonlinear near-field optics: from materials science to some user cases (Benoit Cluzel  /  LCAR / Seminar). - 3/03/23\, 11H
DESCRIPTION:Benoit Cluzel (Département photonique\, Laboratoire Interdisciplinaire Carnot de Bourgogne – Université de Bourgogne\, Dijon\, France) \nSéminaire LCAR vendredi 3 mars 11h. – Salle de séminaire\, 3R4 \nRésumé :\nIn this seminar\, I will first briefly review my research activities in the field of nanophotonics\, near-field optics and plasmonics. I will then focus on our most recent works on nonlinear nanophotonics. Saturable plasmonic metasurfaces will be discussed in detail and I will present some user-cases in mode-locked lasers. Finally\, I will discuss the unusual optical properties of chalcogenide materials and describe our last progress in developing a new photonic platform for on-chip nonlinear optics operating at low power.
URL:https://fermi.univ-tlse3.fr/event/nonlinear-near-field-optics-from-materials-science-to-some-user-cases-benoit-cluzel-lcar-seminar-3-03-23-11h/
LOCATION:Salle de conférence\, Bâtiment 3R4
CATEGORIES:Events,LCAR,Seminars
END:VEVENT
END:VCALENDAR