BEGIN:VCALENDAR
VERSION:2.0
PRODID:-//FeRMI - ECPv6.15.20//NONSGML v1.0//EN
CALSCALE:GREGORIAN
METHOD:PUBLISH
X-WR-CALNAME:FeRMI
X-ORIGINAL-URL:https://fermi.univ-tlse3.fr
X-WR-CALDESC:Évènements pour FeRMI
REFRESH-INTERVAL;VALUE=DURATION:PT1H
X-Robots-Tag:noindex
X-PUBLISHED-TTL:PT1H
BEGIN:VTIMEZONE
TZID:Europe/Paris
BEGIN:DAYLIGHT
TZOFFSETFROM:+0100
TZOFFSETTO:+0200
TZNAME:CEST
DTSTART:20220327T010000
END:DAYLIGHT
BEGIN:STANDARD
TZOFFSETFROM:+0200
TZOFFSETTO:+0100
TZNAME:CET
DTSTART:20221030T010000
END:STANDARD
BEGIN:DAYLIGHT
TZOFFSETFROM:+0100
TZOFFSETTO:+0200
TZNAME:CEST
DTSTART:20230326T010000
END:DAYLIGHT
BEGIN:STANDARD
TZOFFSETFROM:+0200
TZOFFSETTO:+0100
TZNAME:CET
DTSTART:20231029T010000
END:STANDARD
BEGIN:DAYLIGHT
TZOFFSETFROM:+0100
TZOFFSETTO:+0200
TZNAME:CEST
DTSTART:20240331T010000
END:DAYLIGHT
BEGIN:STANDARD
TZOFFSETFROM:+0200
TZOFFSETTO:+0100
TZNAME:CET
DTSTART:20241027T010000
END:STANDARD
END:VTIMEZONE
BEGIN:VEVENT
DTSTART;TZID=Europe/Paris:20230615T110000
DTEND;TZID=Europe/Paris:20230615T123000
DTSTAMP:20260423T113748
CREATED:20230614T124741Z
LAST-MODIFIED:20230622T124952Z
UID:9141-1686826800-1686832200@fermi.univ-tlse3.fr
SUMMARY:Électrochimie à l’échelle nanométrique : comprendre le transport ionique / électronique dans les matériaux pour le stockage de l’énergie. - (Patrice Simon /  Seminar / CEMES). - 15/06/2023\, 11H
DESCRIPTION:Les séminaires du jeudi\n \n Patrice Simon  CIRIMAT\, Toulouse \nRésumé : \nLe stockage électrochimique de l’énergie (batteries\, supercondensateur)\, porté principalement par le développement de la mobilité électrique\, est devenu aujourd’hui un enjeu sociétal et économique majeur (diminution de la dépendance aux énergies fossiles et lutte contre l’émission de CO2). Les réactions dans les électrodes de systèmes de stockage électrochimique de l’énergie mettent en jeu des transferts ioniques et électronique à l’interface solide / électrolyte dans des électrodes poreuses. Les performances de ces électrodes dépendent des cinétiques de transport et de transfert des espèces dans les matériaux dits actifs électrochimiquement. \nDans cet exposé\, nous montrerons comment il est possible de mesurer les flux ioniques et électroniques dans ces électrodes grâce à des techniques électrochimiques avancées. Nous verrons que le confinement de l’électrolyte dans des canaux nanométrique et sub-nanométrique conduit à la modification de leur solvatation\, entraînant des propriétés remarquables pour le stockage électrochimique de l’énergie.
URL:https://fermi.univ-tlse3.fr/event/electrochimie-a-lechelle-nanometrique-comprendre-le-transport-ionique-electronique-dans-les-materiaux-pour-le-stockage-de-lenergie-patrice-simon-seminar-cemes-15-06/
LOCATION:salle de conférence du CEMES\, CEMES - 29\, rue Jeanne Marvig BP 94347\, Toulouse\, 31055\, France
CATEGORIES:CEMES,Events,Seminars
END:VEVENT
END:VCALENDAR