BEGIN:VCALENDAR
VERSION:2.0
PRODID:-//FeRMI - ECPv6.15.20//NONSGML v1.0//EN
CALSCALE:GREGORIAN
METHOD:PUBLISH
X-ORIGINAL-URL:https://fermi.univ-tlse3.fr
X-WR-CALDESC:Évènements pour FeRMI
REFRESH-INTERVAL;VALUE=DURATION:PT1H
X-Robots-Tag:noindex
X-PUBLISHED-TTL:PT1H
BEGIN:VTIMEZONE
TZID:Europe/Paris
BEGIN:DAYLIGHT
TZOFFSETFROM:+0100
TZOFFSETTO:+0200
TZNAME:CEST
DTSTART:20220327T010000
END:DAYLIGHT
BEGIN:STANDARD
TZOFFSETFROM:+0200
TZOFFSETTO:+0100
TZNAME:CET
DTSTART:20221030T010000
END:STANDARD
BEGIN:DAYLIGHT
TZOFFSETFROM:+0100
TZOFFSETTO:+0200
TZNAME:CEST
DTSTART:20230326T010000
END:DAYLIGHT
BEGIN:STANDARD
TZOFFSETFROM:+0200
TZOFFSETTO:+0100
TZNAME:CET
DTSTART:20231029T010000
END:STANDARD
BEGIN:DAYLIGHT
TZOFFSETFROM:+0100
TZOFFSETTO:+0200
TZNAME:CEST
DTSTART:20240331T010000
END:DAYLIGHT
BEGIN:STANDARD
TZOFFSETFROM:+0200
TZOFFSETTO:+0100
TZNAME:CET
DTSTART:20241027T010000
END:STANDARD
END:VTIMEZONE
BEGIN:VEVENT
DTSTART;TZID=Europe/Paris:20231123T110000
DTEND;TZID=Europe/Paris:20231123T110000
DTSTAMP:20260422T200302
CREATED:20231116T112944Z
LAST-MODIFIED:20231117T102518Z
UID:9372-1700737200-1700737200@fermi.univ-tlse3.fr
SUMMARY:À quel(s) monde(s) participons-nous ? Questionner nos pratiques par leurs extérieurs. - (Mallory Carlu /  Seminar / CEMES). - 23/11/2023\, 11H
DESCRIPTION:Les séminaires du jeudi\n \nMallory Carlu\,   Institut de Neuroéthique de Buenos Aires \nRésumé :\nIl y a ce qu’on met en relief dans les demandes de financement\, ce qui doit convaincre de l’importance du programme de recherche qu’on se propose de mener. Il y a aussi ce qu’on présente lors d’une conférence\, ou dans un article\, qui montre la pertinence des résultats qu’on a obtenus. Sans parler de ce qu’on raconte devant un poster\, qui vient justifier à nos pairs la méthode de recherche qu’on se propose de suivre. Enfin\, il y a ce qu’on s’échange au cours d’un brainstorm\, qui vient infirmer ou confirmer les intuitions qui nous guident.\nIl y a ce dont on parle officiellement\, les sujets évidemment\, éminemment\, scientifiques. Et puis\, il y a le reste. Il y a ce qui les entoure\, ce qui leur donne du sens au-delà des murs du laboratoire\, ce qui se partage dans les interstices\, en off\, peut-être devant la machine à café\, dans un canapé\, ou autour d’un verre\, quand nous débordons de nos rôles de scientifiques pour incarner ceux plus riches et ambigus de personnes. \nIl y a les valeurs qui nous portent\, mais aussi\, et surtout\, la manière dont nous les portons\, dont nous tentons de les incarner dans nos pratiques quotidiennes. Il y a aussi la manière dont nous négocions collectivement ces pratiques\, dont nous organisons et gérons la production et la dissémination de la connaissance. Sans parler de nos représentations du monde présent\, passé et futur\, des significations qu’elles véhiculent et de leurs manières de nous influencer. Enfin\, il y a la question : sur quelle table pouvons-nous poser ces sujets ? Ou\, formulé dans une perspective ouverte : à quel endroit pouvons-nous questionner collectivement les mondes auxquels nous participons ?
URL:https://fermi.univ-tlse3.fr/event/a-quels-mondes-participons-nous-questionner-nos-pratiques-par-leurs-exterieurs-mallory-carlu-seminar-cemes-23-11-2023-11h/
LOCATION:salle de conférence du CEMES\, CEMES - 29\, rue Jeanne Marvig BP 94347\, Toulouse\, 31055\, France
CATEGORIES:CEMES,Events,Seminars
END:VEVENT
END:VCALENDAR