BEGIN:VCALENDAR
VERSION:2.0
PRODID:-//FeRMI - ECPv6.15.20//NONSGML v1.0//EN
CALSCALE:GREGORIAN
METHOD:PUBLISH
X-WR-CALNAME:FeRMI
X-ORIGINAL-URL:https://fermi.univ-tlse3.fr
X-WR-CALDESC:Évènements pour FeRMI
REFRESH-INTERVAL;VALUE=DURATION:PT1H
X-Robots-Tag:noindex
X-PUBLISHED-TTL:PT1H
BEGIN:VTIMEZONE
TZID:Europe/Paris
BEGIN:DAYLIGHT
TZOFFSETFROM:+0100
TZOFFSETTO:+0200
TZNAME:CEST
DTSTART:20230326T010000
END:DAYLIGHT
BEGIN:STANDARD
TZOFFSETFROM:+0200
TZOFFSETTO:+0100
TZNAME:CET
DTSTART:20231029T010000
END:STANDARD
BEGIN:DAYLIGHT
TZOFFSETFROM:+0100
TZOFFSETTO:+0200
TZNAME:CEST
DTSTART:20240331T010000
END:DAYLIGHT
BEGIN:STANDARD
TZOFFSETFROM:+0200
TZOFFSETTO:+0100
TZNAME:CET
DTSTART:20241027T010000
END:STANDARD
BEGIN:DAYLIGHT
TZOFFSETFROM:+0100
TZOFFSETTO:+0200
TZNAME:CEST
DTSTART:20250330T010000
END:DAYLIGHT
BEGIN:STANDARD
TZOFFSETFROM:+0200
TZOFFSETTO:+0100
TZNAME:CET
DTSTART:20251026T010000
END:STANDARD
END:VTIMEZONE
BEGIN:VEVENT
DTSTART;TZID=Europe/Paris:20240115T103000
DTEND;TZID=Europe/Paris:20240115T123000
DTSTAMP:20260422T114309
CREATED:20240115T060952Z
LAST-MODIFIED:20240115T071523Z
UID:9937-1705314600-1705321800@fermi.univ-tlse3.fr
SUMMARY:Influence des stéréotypes de genre sur les performances cognitives  et les décisions de recrutement. - (Isabelle Régner / Séminaire / FeRMI). - 15/01/2024\, 10H30
DESCRIPTION:Isabelle Régner (Responsable de l’équipe Cognition et Neurosciences Sociales\, Laboratoire de Psychologie Cognitive UMR CNRS 7290\, Aix-Marseille) \nLieu : Salle de conférence\, nouveau Bâtiment 3R4 \nRésumé :\nLes plans d’action visant à promouvoir l’égalité entre les femmes et les hommes au sein de la fonction publique ont permis un certain nombre d’avancées. Toutefois\, les inégalités demeurent au sein des personnels en termes de recrutement\, de promotion\, d’accès aux postes les plus prestigieux\, et de représentation dans les disciplines scientifiques dites STIM (Sciences\, Technologie\, Informatique\, et Mathématique). La recherche en Cognition Sociale a contribué à montrer que ces inégalités sont\, au moins pour partie\, liées aux stéréotypes de genre qui conduisent à davantage associer\, encore aujourd’hui\, les capacités de leadership\, de management\, et les compétences en Sciences aux hommes plutôt qu’aux femmes. Seront présentés ici quelques résultats permettant de comprendre comment ces stéréotypes sont de nature\, d’une part\, à influencer négativement les performances des femmes\, et d’autre part à générer des biais et processus subtils de discrimination en influençant les décisions des évaluateurs et des évaluatrices au moment des recrutements et des promotions.
URL:https://fermi.univ-tlse3.fr/event/influence-des-stereotypes-de-genre-sur-les-performances-cognitives-et-les-decisions-de-recrutement-isabelle-regner-seminar-fermi-15-01-2024-11h/
LOCATION:Salle de conférence\, Bâtiment 3R4
CATEGORIES:Events,FeRMIsem,Seminars
END:VEVENT
END:VCALENDAR