BEGIN:VCALENDAR
VERSION:2.0
PRODID:-//FeRMI - ECPv6.15.20//NONSGML v1.0//EN
CALSCALE:GREGORIAN
METHOD:PUBLISH
X-ORIGINAL-URL:https://fermi.univ-tlse3.fr
X-WR-CALDESC:Évènements pour FeRMI
REFRESH-INTERVAL;VALUE=DURATION:PT1H
X-Robots-Tag:noindex
X-PUBLISHED-TTL:PT1H
BEGIN:VTIMEZONE
TZID:Europe/Paris
BEGIN:DAYLIGHT
TZOFFSETFROM:+0100
TZOFFSETTO:+0200
TZNAME:CEST
DTSTART:20230326T010000
END:DAYLIGHT
BEGIN:STANDARD
TZOFFSETFROM:+0200
TZOFFSETTO:+0100
TZNAME:CET
DTSTART:20231029T010000
END:STANDARD
BEGIN:DAYLIGHT
TZOFFSETFROM:+0100
TZOFFSETTO:+0200
TZNAME:CEST
DTSTART:20240331T010000
END:DAYLIGHT
BEGIN:STANDARD
TZOFFSETFROM:+0200
TZOFFSETTO:+0100
TZNAME:CET
DTSTART:20241027T010000
END:STANDARD
BEGIN:DAYLIGHT
TZOFFSETFROM:+0100
TZOFFSETTO:+0200
TZNAME:CEST
DTSTART:20250330T010000
END:DAYLIGHT
BEGIN:STANDARD
TZOFFSETFROM:+0200
TZOFFSETTO:+0100
TZNAME:CET
DTSTART:20251026T010000
END:STANDARD
END:VTIMEZONE
BEGIN:VEVENT
DTSTART;TZID=Europe/Paris:20240301T103000
DTEND;TZID=Europe/Paris:20240301T123000
DTSTAMP:20260422T012819
CREATED:20240228T065506Z
LAST-MODIFIED:20240229T090406Z
UID:10058-1709289000-1709296200@fermi.univ-tlse3.fr
SUMMARY:La police scientifique\, un retour d'expérience au delà des représentations. - (Julien BOULON /  Seminar / FeRMI). - 1/03/2024\, 10H30
DESCRIPTION:Séminaires d’ouverture FeRMI\n \nJulien BOULON\,   Ancien post doctorant au LCAR. Technicien en chef de PTS\, Adj. chef Département Criminalistique Numérique. Antenne Office Anti-Cybercriminalité – OFAC\nService Interdépartemental de Police Judiciaire de la Gironde  \nRésumé : \nSujet de nombreuses fictions\, la police scientifique est souvent représentée de manière erronée. Rançon d’un succès de studios hollywoodiens\, l’image qui y est associée est celle d’une entité complète\, disposant d’un panel d’outils techniques aboutis et d’une précision remarquable. Presque 10 ans après avoir intégré ce qu’on appelle dans le jargon « l’I.J. »\, je vous présenterai mon expérience dans cette branche de la police judiciaire. Les différentes unités dans lesquelles j’ai pu exercer ainsi que les besoins en développements scientifiques nécessaires à la poursuite de l’objectif de ce corps de métier : la manifestation de la vérité.
URL:https://fermi.univ-tlse3.fr/event/la-police-scientifique-un-retour-dexperience-au-dela-des-representations-julien-boulon-seminar-fermi-1-03-2024-10h30/
LOCATION:Salle de conférence\, Bâtiment 3R4
CATEGORIES:Events,FeRMIsem,Seminars
END:VEVENT
END:VCALENDAR