BEGIN:VCALENDAR
VERSION:2.0
PRODID:-//FeRMI - ECPv6.15.20//NONSGML v1.0//EN
CALSCALE:GREGORIAN
METHOD:PUBLISH
X-ORIGINAL-URL:https://fermi.univ-tlse3.fr
X-WR-CALDESC:Évènements pour FeRMI
REFRESH-INTERVAL;VALUE=DURATION:PT1H
X-Robots-Tag:noindex
X-PUBLISHED-TTL:PT1H
BEGIN:VTIMEZONE
TZID:Europe/Paris
BEGIN:DAYLIGHT
TZOFFSETFROM:+0100
TZOFFSETTO:+0200
TZNAME:CEST
DTSTART:20230326T010000
END:DAYLIGHT
BEGIN:STANDARD
TZOFFSETFROM:+0200
TZOFFSETTO:+0100
TZNAME:CET
DTSTART:20231029T010000
END:STANDARD
BEGIN:DAYLIGHT
TZOFFSETFROM:+0100
TZOFFSETTO:+0200
TZNAME:CEST
DTSTART:20240331T010000
END:DAYLIGHT
BEGIN:STANDARD
TZOFFSETFROM:+0200
TZOFFSETTO:+0100
TZNAME:CET
DTSTART:20241027T010000
END:STANDARD
BEGIN:DAYLIGHT
TZOFFSETFROM:+0100
TZOFFSETTO:+0200
TZNAME:CEST
DTSTART:20250330T010000
END:DAYLIGHT
BEGIN:STANDARD
TZOFFSETFROM:+0200
TZOFFSETTO:+0100
TZNAME:CET
DTSTART:20251026T010000
END:STANDARD
END:VTIMEZONE
BEGIN:VEVENT
DTSTART;TZID=Europe/Paris:20240425T110000
DTEND;TZID=Europe/Paris:20240425T123000
DTSTAMP:20260421T161100
CREATED:20240423T124819Z
LAST-MODIFIED:20240424T114145Z
UID:10196-1714042800-1714048200@fermi.univ-tlse3.fr
SUMMARY:L’infiniment petit\, l’infiniment grand\, et les relations entre les phénomènes qui les régissent. - (Jan Stark/  Seminar / CEMES). - 25/04/2024\, 11H
DESCRIPTION:Les séminaires du jeudi\n \nJan Stark\,  Laboratoire des 2 Infinis \nRésumé :\nAprès une brève revue de l’histoire de l’Univers\, du big bang à nos jours\, nous allons regarder en détail deux acteurs majeurs de cette histoire : les particules élémentaires\, pour ce qui concerne l’infiniment petit\, et les ondes gravitationnelles\, pour ce qui concerne l’infiniment grand. \nNous allons découvrir comment les particules élémentaires sont actuellement étudiées expérimentalement au CERN (le laboratoire européen de physique des particules)\, et comment la découverte d‘un boson de Higgs en 2012 nous donne une fenêtre sur l’étude de l’Univers primordial et la transition de phase qui aurait donné naissance à la matière. Les études des propriétés du boson de Higgs\, actuelles et en cours de préparation\, nous permettront d’établir le mécanisme de transition de phase dans l’Univers primordial. \nNous aborderons le rôle des particules élémentaires dans l’hypothétique émission d’ondes gravitationnelles lors de la transition de phase dans l’Univers primordial. Les ondes gravitationnelles\, prédites par Einstein en 1916\, ont été observées pour la première fois en 2015. Elles nous donnent un nouvel outil précieux pour étudier notre Univers. Les détecteurs d’aujourd’hui nous permettent d’étudier les ondes émises par des objets très massifs comme des trous noirs et des étoiles à neutrons. Les détecteurs de demain\, actuellement en construction ou en phase d’étude\, nous permettront d’observer des sources d’ondes gravitationnelles bien plus diverses. Ces détecteurs pourraient voir les ondes gravitationnelles émises dans l’Univers primordial – de véritables messagers du big bang et des particules qu’il a créées. \nLes deux infinis\, l’infiniment petit et l’infiniment grand\, forment une même quête. Vous êtes cordialement invités à nous rejoindre pour une discussion conviviale.
URL:https://fermi.univ-tlse3.fr/event/linfiniment-petit-linfiniment-grand-et-les-relations-entre-les-phenomenes-qui-les-regissent-jan-stark-seminar-cemes-25-04-2024-11h/
LOCATION:salle de conférence du CEMES\, CEMES - 29\, rue Jeanne Marvig BP 94347\, Toulouse\, 31055\, France
CATEGORIES:CEMES,Events,Seminars
END:VEVENT
END:VCALENDAR