BEGIN:VCALENDAR
VERSION:2.0
PRODID:-//FeRMI - ECPv6.15.20//NONSGML v1.0//EN
CALSCALE:GREGORIAN
METHOD:PUBLISH
X-WR-CALNAME:FeRMI
X-ORIGINAL-URL:https://fermi.univ-tlse3.fr
X-WR-CALDESC:Évènements pour FeRMI
REFRESH-INTERVAL;VALUE=DURATION:PT1H
X-Robots-Tag:noindex
X-PUBLISHED-TTL:PT1H
BEGIN:VTIMEZONE
TZID:Europe/Paris
BEGIN:DAYLIGHT
TZOFFSETFROM:+0100
TZOFFSETTO:+0200
TZNAME:CEST
DTSTART:20210328T010000
END:DAYLIGHT
BEGIN:STANDARD
TZOFFSETFROM:+0200
TZOFFSETTO:+0100
TZNAME:CET
DTSTART:20211031T010000
END:STANDARD
BEGIN:DAYLIGHT
TZOFFSETFROM:+0100
TZOFFSETTO:+0200
TZNAME:CEST
DTSTART:20220327T010000
END:DAYLIGHT
BEGIN:STANDARD
TZOFFSETFROM:+0200
TZOFFSETTO:+0100
TZNAME:CET
DTSTART:20221030T010000
END:STANDARD
BEGIN:DAYLIGHT
TZOFFSETFROM:+0100
TZOFFSETTO:+0200
TZNAME:CEST
DTSTART:20230326T010000
END:DAYLIGHT
BEGIN:STANDARD
TZOFFSETFROM:+0200
TZOFFSETTO:+0100
TZNAME:CET
DTSTART:20231029T010000
END:STANDARD
END:VTIMEZONE
BEGIN:VEVENT
DTSTART;TZID=Europe/Paris:20220128T113000
DTEND;TZID=Europe/Paris:20220128T130000
DTSTAMP:20260423T095149
CREATED:20220120T122839Z
LAST-MODIFIED:20220120T122839Z
UID:7882-1643369400-1643374800@fermi.univ-tlse3.fr
SUMMARY:Une nouvelle approche physique de la microcirculation sanguine du cerveau et des pathologies associées  (Sylvie LORTHOIS/ SFP / Seminar) – 28/01\, 11H30
DESCRIPTION:Sylvie LORTHOIS (Institut de Mécanique des Fluides de Toulouse) \nTéléchargez la présentation du séminaire:Seminaire_SFP_Lorthois_28janv22
URL:https://fermi.univ-tlse3.fr/event/une-nouvelle-approche-physique-de-la-microcirculation-sanguine-du-cerveau-et-des-pathologies-associees-sylvie-lorthois-sfp-seminar-28-01-11h30/
LOCATION:Amphi CONCORDE\,  Bâtiment U4\, Amphithéâtre Concorde - Université Paul Sabatier\, Toulouse\, 31400\, France
CATEGORIES:Events,SFP / SFC
END:VEVENT
END:VCALENDAR