BEGIN:VCALENDAR
VERSION:2.0
PRODID:-//FeRMI - ECPv6.15.20//NONSGML v1.0//EN
CALSCALE:GREGORIAN
METHOD:PUBLISH
X-WR-CALNAME:FeRMI
X-ORIGINAL-URL:https://fermi.univ-tlse3.fr
X-WR-CALDESC:Évènements pour FeRMI
REFRESH-INTERVAL;VALUE=DURATION:PT1H
X-Robots-Tag:noindex
X-PUBLISHED-TTL:PT1H
BEGIN:VTIMEZONE
TZID:Europe/Paris
BEGIN:DAYLIGHT
TZOFFSETFROM:+0100
TZOFFSETTO:+0200
TZNAME:CEST
DTSTART:20210328T010000
END:DAYLIGHT
BEGIN:STANDARD
TZOFFSETFROM:+0200
TZOFFSETTO:+0100
TZNAME:CET
DTSTART:20211031T010000
END:STANDARD
BEGIN:DAYLIGHT
TZOFFSETFROM:+0100
TZOFFSETTO:+0200
TZNAME:CEST
DTSTART:20220327T010000
END:DAYLIGHT
BEGIN:STANDARD
TZOFFSETFROM:+0200
TZOFFSETTO:+0100
TZNAME:CET
DTSTART:20221030T010000
END:STANDARD
BEGIN:DAYLIGHT
TZOFFSETFROM:+0100
TZOFFSETTO:+0200
TZNAME:CEST
DTSTART:20230326T010000
END:DAYLIGHT
BEGIN:STANDARD
TZOFFSETFROM:+0200
TZOFFSETTO:+0100
TZNAME:CET
DTSTART:20231029T010000
END:STANDARD
END:VTIMEZONE
BEGIN:VEVENT
DTSTART;TZID=Europe/Paris:20220930T110000
DTEND;TZID=Europe/Paris:20220930T130000
DTSTAMP:20260421T144623
CREATED:20220922T060030Z
LAST-MODIFIED:20221003T113801Z
UID:8401-1664535600-1664542800@fermi.univ-tlse3.fr
SUMMARY:Le réseau ferroviaire à l'heure du "Big-Data" et du "Machine Learning" (Héloïse NONNE / Factory Data & IA\, SNCF filial itnovem / SFP). - 30/09/2022
DESCRIPTION:Héloïse NONNE (Directrice Factory Data & IA\, SNCF filial itnovem) \nLieu : Salle de séminaire\, 3ème étage du bâtiment 3R1 – B4 (3e étage LPT) \nRésumé : Le rôle de SNCF Réseau est de maintenir une infrastructure ferroviaire opérationnelle à des coûts maîtrisés. Sur la partie électrifiée du réseau\, la caténaire achemine l’énergie de traction. Sa surveillance et sa maintenance sont cruciales pour éviter les incidents provoquant une indisponibilité temporaire de l’infrastructure (environ 400 annuellement). Parmi ces incidents\, les ruptures des fils de contact sont parmi les plus impactants et donc les plus redoutés. \nNous présenterons un projet d’analyse de données qui vise à identifier les modes d’usure des fils de contact\, sur la base de mesures de l’épaisseur du fil\, avec un focus particulier sur les usures anormales. La mise en relation des modes d’usure avec des facteurs endogènes (matière du fil\, vitesse de circulation\, distance à la station électrique\, etc.) et exogènes (climat\, trafic\, etc.) permet de trouver des pistes d’explication des usures. L’objectif long terme est la priorisation des opérations et budgets de maintenance afin de mieux allouer les efforts sur les zones à évolution rapide ou à incidentologie plus élevée. \nIl y aura aussi un café offert par la SFP de 11h à 11h30 devant la salle de séminaire! \nVoir ici  \n\n 
URL:https://fermi.univ-tlse3.fr/event/detection-et-caracterisation-dusure-anormale-des-fils-de-contact-des-catenaires-heloise-nonne-factory-data-ia-sncf-filial-itnovem-sfp-30-09-2022/
LOCATION:salle de séminaire 3ème étage\, Bâtiment 3r1 Université Toulouse III\, Toulouse\, 31400\, France
CATEGORIES:Events,Seminars,SFP / SFC
END:VEVENT
END:VCALENDAR