BEGIN:VCALENDAR
VERSION:2.0
PRODID:-//FeRMI - ECPv6.15.20//NONSGML v1.0//EN
CALSCALE:GREGORIAN
METHOD:PUBLISH
X-ORIGINAL-URL:https://fermi.univ-tlse3.fr
X-WR-CALDESC:Évènements pour FeRMI
REFRESH-INTERVAL;VALUE=DURATION:PT1H
X-Robots-Tag:noindex
X-PUBLISHED-TTL:PT1H
BEGIN:VTIMEZONE
TZID:Europe/Paris
BEGIN:DAYLIGHT
TZOFFSETFROM:+0100
TZOFFSETTO:+0200
TZNAME:CEST
DTSTART:20200329T010000
END:DAYLIGHT
BEGIN:STANDARD
TZOFFSETFROM:+0200
TZOFFSETTO:+0100
TZNAME:CET
DTSTART:20201025T010000
END:STANDARD
BEGIN:DAYLIGHT
TZOFFSETFROM:+0100
TZOFFSETTO:+0200
TZNAME:CEST
DTSTART:20210328T010000
END:DAYLIGHT
BEGIN:STANDARD
TZOFFSETFROM:+0200
TZOFFSETTO:+0100
TZNAME:CET
DTSTART:20211031T010000
END:STANDARD
BEGIN:DAYLIGHT
TZOFFSETFROM:+0100
TZOFFSETTO:+0200
TZNAME:CEST
DTSTART:20220327T010000
END:DAYLIGHT
BEGIN:STANDARD
TZOFFSETFROM:+0200
TZOFFSETTO:+0100
TZNAME:CET
DTSTART:20221030T010000
END:STANDARD
END:VTIMEZONE
BEGIN:VEVENT
DTSTART;TZID=Europe/Paris:20211001T113000
DTEND;TZID=Europe/Paris:20211001T130000
DTSTAMP:20260423T162933
CREATED:20210924T082317Z
LAST-MODIFIED:20211011T095354Z
UID:6835-1633087800-1633093200@fermi.univ-tlse3.fr
SUMMARY:Ultracold linelands (Patrizia VIGNOLO / SFP / Seminar) - 1/10\, 11H30
DESCRIPTION:Patrizia VIGNOLO (Institut de Physique de Nice)\, \nsera marraine de la promotion 2022 du master 2 de physique fondamentale de l’Université Paul Sabatier. \n\nTéléchargez la présentation du séminaire: Seminaire_SFP_VIGNOLO_1oct21 \n  \n\n \n\n 
URL:https://fermi.univ-tlse3.fr/event/ultracold-linelands-patrizia-vignolo-sfp-seminar/
LOCATION:Amphi CONCORDE\,  Bâtiment U4\, Amphithéâtre Concorde - Université Paul Sabatier\, Toulouse\, 31400\, France
CATEGORIES:Events,Seminars,SFP / SFC
ATTACH;FMTTYPE=image/jpeg:https://fermi.univ-tlse3.fr/wp-content/uploads/2021/09/SFP_1oct21.jpg
END:VEVENT
END:VCALENDAR