BEGIN:VCALENDAR
VERSION:2.0
PRODID:-//FeRMI - ECPv6.15.20//NONSGML v1.0//EN
CALSCALE:GREGORIAN
METHOD:PUBLISH
X-WR-CALNAME:FeRMI
X-ORIGINAL-URL:https://fermi.univ-tlse3.fr
X-WR-CALDESC:Évènements pour FeRMI
REFRESH-INTERVAL;VALUE=DURATION:PT1H
X-Robots-Tag:noindex
X-PUBLISHED-TTL:PT1H
BEGIN:VTIMEZONE
TZID:Europe/Paris
BEGIN:DAYLIGHT
TZOFFSETFROM:+0100
TZOFFSETTO:+0200
TZNAME:CEST
DTSTART:20200329T010000
END:DAYLIGHT
BEGIN:STANDARD
TZOFFSETFROM:+0200
TZOFFSETTO:+0100
TZNAME:CET
DTSTART:20201025T010000
END:STANDARD
BEGIN:DAYLIGHT
TZOFFSETFROM:+0100
TZOFFSETTO:+0200
TZNAME:CEST
DTSTART:20210328T010000
END:DAYLIGHT
BEGIN:STANDARD
TZOFFSETFROM:+0200
TZOFFSETTO:+0100
TZNAME:CET
DTSTART:20211031T010000
END:STANDARD
BEGIN:DAYLIGHT
TZOFFSETFROM:+0100
TZOFFSETTO:+0200
TZNAME:CEST
DTSTART:20220327T010000
END:DAYLIGHT
BEGIN:STANDARD
TZOFFSETFROM:+0200
TZOFFSETTO:+0100
TZNAME:CET
DTSTART:20221030T010000
END:STANDARD
END:VTIMEZONE
BEGIN:VEVENT
DTSTART;TZID=Europe/Paris:20211029T113000
DTEND;TZID=Europe/Paris:20211029T130000
DTSTAMP:20260423T162645
CREATED:20210925T093913Z
LAST-MODIFIED:20211112T090852Z
UID:7528-1635507000-1635512400@fermi.univ-tlse3.fr
SUMMARY:Comment la future phase de haute luminosité du collisionneur LHC du CERN\, qui doit permettre l'étude des interactions du boson de Higgs\, bouscule notre façon de calculer (Catherine Biscarat et Sylvain Caillou / SFP / Seminar) - 29/10\, 11H30
DESCRIPTION:Catherine Biscarat et Sylvain Caillou (Laboratoire de 2 Infinis\, L2IT) \n\nTéléchargez la présentation du séminaire: Seminaire SFP 29 octobre 2021
URL:https://fermi.univ-tlse3.fr/event/comment-la-future-phase-de-haute-luminosite-du-collisionneur-lhc-du-cern-qui-doit-permettre-letude-des-interactions-du-boson-de-higgs-bouscule-notre-facon-de-calculer-catherine-biscarat-et-sylvai/
LOCATION:Amphi CONCORDE\,  Bâtiment U4\, Amphithéâtre Concorde - Université Paul Sabatier\, Toulouse\, 31400\, France
CATEGORIES:Events,Seminars,SFP / SFC
END:VEVENT
END:VCALENDAR