BEGIN:VCALENDAR
VERSION:2.0
PRODID:-//FeRMI - ECPv6.15.20//NONSGML v1.0//EN
CALSCALE:GREGORIAN
METHOD:PUBLISH
X-ORIGINAL-URL:https://fermi.univ-tlse3.fr
X-WR-CALDESC:Évènements pour FeRMI
REFRESH-INTERVAL;VALUE=DURATION:PT1H
X-Robots-Tag:noindex
X-PUBLISHED-TTL:PT1H
BEGIN:VTIMEZONE
TZID:Europe/Paris
BEGIN:DAYLIGHT
TZOFFSETFROM:+0100
TZOFFSETTO:+0200
TZNAME:CEST
DTSTART:20210328T010000
END:DAYLIGHT
BEGIN:STANDARD
TZOFFSETFROM:+0200
TZOFFSETTO:+0100
TZNAME:CET
DTSTART:20211031T010000
END:STANDARD
BEGIN:DAYLIGHT
TZOFFSETFROM:+0100
TZOFFSETTO:+0200
TZNAME:CEST
DTSTART:20220327T010000
END:DAYLIGHT
BEGIN:STANDARD
TZOFFSETFROM:+0200
TZOFFSETTO:+0100
TZNAME:CET
DTSTART:20221030T010000
END:STANDARD
BEGIN:DAYLIGHT
TZOFFSETFROM:+0100
TZOFFSETTO:+0200
TZNAME:CEST
DTSTART:20230326T010000
END:DAYLIGHT
BEGIN:STANDARD
TZOFFSETFROM:+0200
TZOFFSETTO:+0100
TZNAME:CET
DTSTART:20231029T010000
END:STANDARD
END:VTIMEZONE
BEGIN:VEVENT
DTSTART;TZID=Europe/Paris:20220617T113000
DTEND;TZID=Europe/Paris:20220617T130000
DTSTAMP:20260422T185421
CREATED:20220617T030006Z
LAST-MODIFIED:20220620T065157Z
UID:8126-1655465400-1655470800@fermi.univ-tlse3.fr
SUMMARY:Les Qubits de spin à base de technologie CMOS (Tristan MEUNIER / Institut Néel / SFP). - 17/06/22\, 11H30
DESCRIPTION:Tristan MEUNIER (Institut Néel\, Grenoble) \nVoir le résumé de la conférence sur le site de la section locale de la SFP ici. \n 
URL:https://fermi.univ-tlse3.fr/event/les-qubits-de-spin-a-base-de-technologie-cmos-tristan-meunier-institut-neel-sfp-17-04-22-11h30/
LOCATION:Amphi EINSTEIN – 3TP2\, Amphithéâtre Einstein - Université Paul Sbatier\, Toulouse\, 31400\, France
CATEGORIES:Events,Seminars,SFP / SFC
END:VEVENT
END:VCALENDAR