BEGIN:VCALENDAR
VERSION:2.0
PRODID:-//FeRMI - ECPv6.15.20//NONSGML v1.0//EN
CALSCALE:GREGORIAN
METHOD:PUBLISH
X-ORIGINAL-URL:https://fermi.univ-tlse3.fr
X-WR-CALDESC:Évènements pour FeRMI
REFRESH-INTERVAL;VALUE=DURATION:PT1H
X-Robots-Tag:noindex
X-PUBLISHED-TTL:PT1H
BEGIN:VTIMEZONE
TZID:Europe/Paris
BEGIN:DAYLIGHT
TZOFFSETFROM:+0100
TZOFFSETTO:+0200
TZNAME:CEST
DTSTART:20210328T010000
END:DAYLIGHT
BEGIN:STANDARD
TZOFFSETFROM:+0200
TZOFFSETTO:+0100
TZNAME:CET
DTSTART:20211031T010000
END:STANDARD
BEGIN:DAYLIGHT
TZOFFSETFROM:+0100
TZOFFSETTO:+0200
TZNAME:CEST
DTSTART:20220327T010000
END:DAYLIGHT
BEGIN:STANDARD
TZOFFSETFROM:+0200
TZOFFSETTO:+0100
TZNAME:CET
DTSTART:20221030T010000
END:STANDARD
BEGIN:DAYLIGHT
TZOFFSETFROM:+0100
TZOFFSETTO:+0200
TZNAME:CEST
DTSTART:20230326T010000
END:DAYLIGHT
BEGIN:STANDARD
TZOFFSETFROM:+0200
TZOFFSETTO:+0100
TZNAME:CET
DTSTART:20231029T010000
END:STANDARD
END:VTIMEZONE
BEGIN:VEVENT
DTSTART;TZID=Europe/Paris:20221021T113000
DTEND;TZID=Europe/Paris:20221021T130000
DTSTAMP:20260421T161110
CREATED:20221019T040045Z
LAST-MODIFIED:20221019T064510Z
UID:8528-1666351800-1666357200@fermi.univ-tlse3.fr
SUMMARY:Modèle standard : comprendre l'univers avec l'aide des bosons (Joany MANJARRES\, Laboratoire des 2 infinis de Toulouse / SFP). - 21/10/2022
DESCRIPTION:Joany MANJARRES (Laboratoire des 2 infinis de Toulouse) \nLieu : Salle de séminaire\, 3ème étage du bâtiment 3R1 – B4 (3e étage LPT) \nRésumé : Le modèle standard de la physique des particules fournit la meilleure description actuelle de la nature sub-atomique de l’univers connu. Cependant\, des questions fondamentales restent sans réponse : les masses des neutrinos\, l’asymétrie cosmologique des baryons\, l’existence de composantes de matière noire et d’énergie noire dans l’Univers\, ce qui rend encore plus pertinente la nécessité d’une physique au-delà du modèle standard (BSM). Le Grand collisionneur de hadrons (LHC) recueille des données depuis plusieurs années déjà et même si\, jusqu’à présent\, nous n’avons pas de preuve en faveur d’une nouvelle physique\, le LHC a produit une énorme quantité de bosons\, plus de bosons que n’importe quel autre accélérateur auparavant! \nDans cet exposé\, je parlerai de la physique que nous pouvons faire avec les paires de bosons\, car les paires de bosons ont le potentiel de révéler une physique intéressante\, de plusieurs façons. Tout d’abord\, elles peuvent nous indiquer comment les bosons interagissent entre eux. En étudiant la fréquence de ce processus\, nous pouvons en déduire la force de cette auto-interaction et obtenir des informations intéressantes sur le fonctionnement interne du modèle standard. Par ailleurs si nous constatons que la fréquence du processus est anormalement élevée\, nous commençons à penser que nous sommes tombés sur des inconnues et qu’une nouvelle force est à l’œuvre\, ou que le modèle doit être élargi ou modifié par d’autres mécanismes de nouvelle physique. Je discuterai de la manière dont ces mesures sont effectuées et de l’état d’avancement de notre compréhension de la physique qui sous-tend leurs interactions. \nVoir ici  \n\n 
URL:https://fermi.univ-tlse3.fr/event/modele-standard-comprendre-lunivers-avec-laide-des-bosons-joany-manjarres-laboratoire-des-2-infinis-de-toulouse-sfp-21-10-2022/
LOCATION:salle de séminaire 3ème étage\, Bâtiment 3r1 Université Toulouse III\, Toulouse\, 31400\, France
CATEGORIES:Events,Seminars,SFP / SFC
END:VEVENT
END:VCALENDAR