BEGIN:VCALENDAR
VERSION:2.0
PRODID:-//FeRMI - ECPv6.15.20//NONSGML v1.0//EN
CALSCALE:GREGORIAN
METHOD:PUBLISH
X-WR-CALNAME:FeRMI
X-ORIGINAL-URL:https://fermi.univ-tlse3.fr
X-WR-CALDESC:Évènements pour FeRMI
REFRESH-INTERVAL;VALUE=DURATION:PT1H
X-Robots-Tag:noindex
X-PUBLISHED-TTL:PT1H
BEGIN:VTIMEZONE
TZID:Europe/Paris
BEGIN:DAYLIGHT
TZOFFSETFROM:+0100
TZOFFSETTO:+0200
TZNAME:CEST
DTSTART:20220327T010000
END:DAYLIGHT
BEGIN:STANDARD
TZOFFSETFROM:+0200
TZOFFSETTO:+0100
TZNAME:CET
DTSTART:20221030T010000
END:STANDARD
BEGIN:DAYLIGHT
TZOFFSETFROM:+0100
TZOFFSETTO:+0200
TZNAME:CEST
DTSTART:20230326T010000
END:DAYLIGHT
BEGIN:STANDARD
TZOFFSETFROM:+0200
TZOFFSETTO:+0100
TZNAME:CET
DTSTART:20231029T010000
END:STANDARD
BEGIN:DAYLIGHT
TZOFFSETFROM:+0100
TZOFFSETTO:+0200
TZNAME:CEST
DTSTART:20240331T010000
END:DAYLIGHT
BEGIN:STANDARD
TZOFFSETFROM:+0200
TZOFFSETTO:+0100
TZNAME:CET
DTSTART:20241027T010000
END:STANDARD
END:VTIMEZONE
BEGIN:VEVENT
DTSTART;TZID=Europe/Paris:20230405T133000
DTEND;TZID=Europe/Paris:20230406T180000
DTSTAMP:20260426T043036
CREATED:20230327T131450Z
LAST-MODIFIED:20230330T131711Z
UID:8960-1680701400-1680804000@fermi.univ-tlse3.fr
SUMMARY:NanoX-FeRMI days\, 5-6 april 2023
DESCRIPTION:Les NanoX-FeRMI days se déroulent à l’INSA Toulouse :  \nles conférences auront lieu dans l’amphi Vinci  \net les repas dans le Hall Pierre et Marie Curie. \nRetrouvez le programme et le plan d’accès ici : NanoX-FeRMI days
URL:https://fermi.univ-tlse3.fr/event/nanox-fermi-days-5-6-april-2023/
LOCATION:Amphi Vinci\,\, 135 Av. de Rangueil\, Toulouse\, 31400\, France
CATEGORIES:Events,FeRMIsem,Symposium / Congress
END:VEVENT
END:VCALENDAR