BEGIN:VCALENDAR
VERSION:2.0
PRODID:-//FeRMI - ECPv6.15.20//NONSGML v1.0//EN
CALSCALE:GREGORIAN
METHOD:PUBLISH
X-ORIGINAL-URL:https://fermi.univ-tlse3.fr
X-WR-CALDESC:Évènements pour FeRMI
REFRESH-INTERVAL;VALUE=DURATION:PT1H
X-Robots-Tag:noindex
X-PUBLISHED-TTL:PT1H
BEGIN:VTIMEZONE
TZID:Europe/Paris
BEGIN:DAYLIGHT
TZOFFSETFROM:+0100
TZOFFSETTO:+0200
TZNAME:CEST
DTSTART:20230326T010000
END:DAYLIGHT
BEGIN:STANDARD
TZOFFSETFROM:+0200
TZOFFSETTO:+0100
TZNAME:CET
DTSTART:20231029T010000
END:STANDARD
BEGIN:DAYLIGHT
TZOFFSETFROM:+0100
TZOFFSETTO:+0200
TZNAME:CEST
DTSTART:20240331T010000
END:DAYLIGHT
BEGIN:STANDARD
TZOFFSETFROM:+0200
TZOFFSETTO:+0100
TZNAME:CET
DTSTART:20241027T010000
END:STANDARD
BEGIN:DAYLIGHT
TZOFFSETFROM:+0100
TZOFFSETTO:+0200
TZNAME:CEST
DTSTART:20250330T010000
END:DAYLIGHT
BEGIN:STANDARD
TZOFFSETFROM:+0200
TZOFFSETTO:+0100
TZNAME:CET
DTSTART:20251026T010000
END:STANDARD
END:VTIMEZONE
BEGIN:VEVENT
DTSTART;TZID=Europe/Paris:20240702T090000
DTEND;TZID=Europe/Paris:20240704T140000
DTSTAMP:20260421T203437
CREATED:20240628T032436Z
LAST-MODIFIED:20240701T072553Z
UID:10386-1719910800-1720101600@fermi.univ-tlse3.fr
SUMMARY:JEELS 2024 13th Edition. - 2-4/07/2024
DESCRIPTION:Les 13e Journées de l’EELS se tiendront au CEMES du 2 au 4 juillet 2024\n \nLe champ d’application de la conférence comprend : \n\nSpectroscopies corrélatives pour la science des matériaux\nInstrumentation avancée\, traitement du signal et de l’image\nExcitations à basse énergie\nThéorie appliquée aux spectroscopies électroniques\nOperando\nNouvelles spectroscopies\n\nLe site de la conférence : ici \n 
URL:https://fermi.univ-tlse3.fr/event/jeels-2024-13th-edition-2-4-07-2024/
LOCATION:salle de conférence du CEMES\, CEMES - 29\, rue Jeanne Marvig BP 94347\, Toulouse\, 31055\, France
CATEGORIES:CEMES,Events,Symposium / Congress
END:VEVENT
END:VCALENDAR